Workbook
Name ABASonresz: [1]seged!$AV$26:$AV$27
Name abcdtermek2: [2]seged!$AV$19:$AX$24
Name abcdtermek3: [2]seged!$AV$22:$AX$24
Name ajanlatkeresmod: [2]lista!$V$3:$V$10
Name alap: [2]seged!$CZ$45:$CZ$48
Name atlhozam: [2]seged!$DH$4:$DO$2083
Name átlhozam: [1]seged!$CD$4:$CK$2084
Name bank: [3]seged!$BS$4:$BT$203
Name bank: [2]seged!$BY$4:$BZ$203
Name Begünstigte: [1]seged!$CS$33:$CS$35
Name bogen: [2]seged!$CZ$55:$CZ$56
Name cim_b: [1]seged!$BP$4:$BP$11
Name cim_b: [2]seged!$BV$4:$BV$11
Name cim_sz: [3]seged!$BN$4:$BN$11
Name cim_sz: [2]seged!$BT$4:$BT$11
Name dijtker: [1]seged!$AV$38
Name dtker: [2]seged!$AV$28
Name elsospecoszl: [2]seged!$CH$8
Name fekves: [2]seged!$CZ$20:$CZ$22
Name fizutem: [1]seged!$BV$4:$BV$19
Name fizutem: [2]seged!$CB$4:$CB$19
Name foliatipus: [2]seged!$CZ$32:$CZ$35
Name gyarto: [2]seged!$CZ$5:$CZ$17
Name GYonresz: [2]seged!$BB$31:$BB$33
Name gyumolcsonresz: [1]seged!$AV$31:$AV$33
Name gyümölcs_fás_rész: [1]seged!$AX$31:$AX$32
Name igenytipus: [2]lista!$U$3:$U$10
Name jelleg: [2]seged!$CR$30:$CU$30
Name JTonresz: [2]seged!$BB$26:$BB$27
Name karmeng: [1]seged!$AX$19:$AX$22
Name Klauseln: [1]seged!$CS$4:$CS$16
Name konstrukcio: [2]seged!$CZ$51:$CZ$52
Name KÖZV: '[1]1'!$C$30
Name Kulturliste: seged!$B$2:$B$329
Name levcim_b: [1]seged!$BQ$4:$BQ$11
Name levcim_b: [2]seged!$BW$4:$BW$11
Name levcim_sz: [3]seged!$BO$4:$BO$11
Name levcim_sz: [2]seged!$BU$4:$BU$11
Name Liste: [1]zaradek!$M$4:$M$33
Name Liste2: [1]zaradek!#REF!
Name meretmaxabcd: [1]seged!$AX$10
Name meretmaxspec: [1]seged!$AX$9
Name noveny: seged!$B$4:$B$337
Name noveny: [2]seged!$B$4:$B$323
Name noveny2: [1]seged!$B$4:$AU$331
Name noveny2: [2]seged!$B$4:$AT$323
Name pdfnyomt: [2]seged!$CP$4:$CP$15
Name regio: [1]seged!$BU$22:$BV$26
Name regiovezet: '[1]1'!$D$29
Name rogzites: [2]seged!$CZ$25:$CZ$29
Name specoszldb: [2]seged!$CH$6
Name specoszldb2: [2]seged!$CH$9
Name spectermek: [2]seged!$AV$4:$AZ$7
Name spectermek2: [2]seged!$AV$9:$AX$15
Name szellozes: [2]seged!$CZ$38:$CZ$42
Name TAMonresz: [1]seged!$AW$26:$AW$27
Name tamoszldb: [2]seged!$CH$7
Name tamoszldb2: [2]seged!$CH$10
Name termek: [1]seged!$CV$3:$CV$11
Name termek2: seged!$M$4:$M$11

Sheet Pos_Import
A1: KULTÚRA | B1: BLOKKAZONOSÍTÓ | C1: Tábla | D1: TERÜLET (HA) | E1: Hozam (t) | F1: Egységár (Ft/t) | G1: Vihar | H1: Téli fagy | I1: őszi fagy | J1: Tavaszi fagy | K1: Aszály | L1: Felhőszakadás | M1: Árvíz

Sheet reszletezo
D1: Növénybiztosítási ajánlatkérő 2025 | AE1: KULTÚRA | AF1: BLOKKAZONOSÍTÓ | AG1: Tábla | AH1: TERÜLET (HA) | AI1: Hozam (t) | AJ1: Egységár (Ft/t) | AK1: Vihar | AL1: Téli fagy | AM1: őszi fagy | AN1: Tavaszi fagy | AO1: Aszály | AP1: Felhőszakadás | AQ1: Árvíz | AR1: =SUM(AR2:AR321)+1 -> 1
AE2: =IF(ISNA(VLOOKUP(G16,BB:BC,2,0)),"",VLOOKUP(G16,BB:BC,2,0)) | AF2: =I16 -> 0 | AG2: =IF(J16=0,"",J16) | AH2: =K16 -> 0 | AI2: =L16 -> 0 | AJ2: =M16 -> 0 | AK2: =IF(VLOOKUP(G16,$O$16:$AB$30,14,0)="x","Igen",IF(VLOOKUP(G16,$O$16:$AB$30,7,0)="x","igen","nem")) -> #N/A | AL2: =IF(VLOOKUP(G16,$O$16:$AB$30,14,0)="x","Igen",IF(VLOOKUP(G16,$O$16:$AB$30,8,0)="x","igen","nem")) -> #N/A | AM2: =IF(VLOOKUP(G16,$O$16:$AB$30,14,0)="x","Igen",IF(VLOOKUP(G16,$O$16:$AB$30,9,0)="x","igen","nem")) -> #N/A | AN2: =IF(VLOOKUP(G16,$O$16:$AB$30,14,0)="x","Igen",IF(VLOOKUP(G16,$O$16:$AB$30,10,0)="x","igen","nem")) -> #N/A | AO2: =IF(VLOOKUP(G16,$O$16:$AB$30,14,0)="x","Igen",IF(VLOOKUP(G16,$O$16:$AB$30,11,0)="x","igen","nem")) -> #N/A | AP2: =IF(VLOOKUP(G16,$O$16:$AB$30,14,0)="x","Igen",IF(VLOOKUP(G16,$O$16:$AB$30,12,0)="x","igen","nem")) -> #N/A | AQ2: =IF(VLOOKUP(G16,$O$16:$AB$30,14,0)="x","Igen",IF(VLOOKUP(G16,$O$16:$AB$30,13,0)="x","igen","nem")) -> #N/A | AR2: =IF(AE2="",0,1) -> 0
E3: Szerződő neve | AE3: =IF(ISNA(VLOOKUP(G17,BB:BC,2,0)),"",VLOOKUP(G17,BB:BC,2,0)) | AF3: =I17 -> 0 | AG3: =IF(J17=0,"",J17) | AH3: =K17 -> 0 | AI3: =L17 -> 0 | AJ3: =M17 -> 0 | AK3: =IF(VLOOKUP(G17,$O$16:$AB$30,14,0)="x","Igen",IF(VLOOKUP(G17,$O$16:$AB$30,7,0)="x","igen","nem")) -> #N/A | AL3: =IF(VLOOKUP(G17,$O$16:$AB$30,14,0)="x","Igen",IF(VLOOKUP(G17,$O$16:$AB$30,8,0)="x","igen","nem")) -> #N/A | AM3: =IF(VLOOKUP(G17,$O$16:$AB$30,14,0)="x","Igen",IF(VLOOKUP(G17,$O$16:$AB$30,9,0)="x","igen","nem")) -> #N/A | AN3: =IF(VLOOKUP(G17,$O$16:$AB$30,14,0)="x","Igen",IF(VLOOKUP(G17,$O$16:$AB$30,10,0)="x","igen","nem")) -> #N/A | AO3: =IF(VLOOKUP(G17,$O$16:$AB$30,14,0)="x","Igen",IF(VLOOKUP(G17,$O$16:$AB$30,11,0)="x","igen","nem")) -> #N/A | AP3: =IF(VLOOKUP(G17,$O$16:$AB$30,14,0)="x","Igen",IF(VLOOKUP(G17,$O$16:$AB$30,12,0)="x","igen","nem")) -> #N/A | AQ3: =IF(VLOOKUP(G17,$O$16:$AB$30,14,0)="x","Igen",IF(VLOOKUP(G17,$O$16:$AB$30,13,0)="x","igen","nem")) -> #N/A | AR3: =IF(AE3="",0,1) -> 0 | BA3: KAL01 | BB3: Őszi búza | BC3: KAL01
E4: Ügyfél-azonosító | AE4: =IF(ISNA(VLOOKUP(G18,BB:BC,2,0)),"",VLOOKUP(G18,BB:BC,2,0)) | AF4: =I18 -> 0 | AG4: =IF(J18=0,"",J18) | AH4: =K18 -> 0 | AI4: =L18 -> 0 | AJ4: =M18 -> 0 | AK4: =IF(VLOOKUP(G18,$O$16:$AB$30,14,0)="x","Igen",IF(VLOOKUP(G18,$O$16:$AB$30,7,0)="x","igen","nem")) -> #N/A | AL4: =IF(VLOOKUP(G18,$O$16:$AB$30,14,0)="x","Igen",IF(VLOOKUP(G18,$O$16:$AB$30,8,0)="x","igen","nem")) -> #N/A | AM4: =IF(VLOOKUP(G18,$O$16:$AB$30,14,0)="x","Igen",IF(VLOOKUP(G18,$O$16:$AB$30,9,0)="x","igen","nem")) -> #N/A | AN4: =IF(VLOOKUP(G18,$O$16:$AB$30,14,0)="x","Igen",IF(VLOOKUP(G18,$O$16:$AB$30,10,0)="x","igen","nem")) -> #N/A | AO4: =IF(VLOOKUP(G18,$O$16:$AB$30,14,0)="x","Igen",IF(VLOOKUP(G18,$O$16:$AB$30,11,0)="x","igen","nem")) -> #N/A | AP4: =IF(VLOOKUP(G18,$O$16:$AB$30,14,0)="x","Igen",IF(VLOOKUP(G18,$O$16:$AB$30,12,0)="x","igen","nem")) -> #N/A | AQ4: =IF(VLOOKUP(G18,$O$16:$AB$30,14,0)="x","Igen",IF(VLOOKUP(G18,$O$16:$AB$30,13,0)="x","igen","nem")) -> #N/A | AR4: =IF(AE4="",0,1) -> 0 | BA4: KAL17 | BB4: Őszi árpa | BC4: KAL17
E5: Cím ir.sz., település | AE5: =IF(ISNA(VLOOKUP(G19,BB:BC,2,0)),"",VLOOKUP(G19,BB:BC,2,0)) | AF5: =I19 -> 0 | AG5: =IF(J19=0,"",J19) | AH5: =K19 -> 0 | AI5: =L19 -> 0 | AJ5: =M19 -> 0 | AK5: =IF(VLOOKUP(G19,$O$16:$AB$30,14,0)="x","Igen",IF(VLOOKUP(G19,$O$16:$AB$30,7,0)="x","igen","nem")) -> #N/A | AL5: =IF(VLOOKUP(G19,$O$16:$AB$30,14,0)="x","Igen",IF(VLOOKUP(G19,$O$16:$AB$30,8,0)="x","igen","nem")) -> #N/A | AM5: =IF(VLOOKUP(G19,$O$16:$AB$30,14,0)="x","Igen",IF(VLOOKUP(G19,$O$16:$AB$30,9,0)="x","igen","nem")) -> #N/A | AN5: =IF(VLOOKUP(G19,$O$16:$AB$30,14,0)="x","Igen",IF(VLOOKUP(G19,$O$16:$AB$30,10,0)="x","igen","nem")) -> #N/A | AO5: =IF(VLOOKUP(G19,$O$16:$AB$30,14,0)="x","Igen",IF(VLOOKUP(G19,$O$16:$AB$30,11,0)="x","igen","nem")) -> #N/A | AP5: =IF(VLOOKUP(G19,$O$16:$AB$30,14,0)="x","Igen",IF(VLOOKUP(G19,$O$16:$AB$30,12,0)="x","igen","nem")) -> #N/A | AQ5: =IF(VLOOKUP(G19,$O$16:$AB$30,14,0)="x","Igen",IF(VLOOKUP(G19,$O$16:$AB$30,13,0)="x","igen","nem")) -> #N/A | AR5: =IF(AE5="",0,1) -> 0 | BA5: KAL27 | BB5: Őszi tritikálé | BC5: KAL27
E6: utca, szám | AE6: =IF(ISNA(VLOOKUP(G20,BB:BC,2,0)),"",VLOOKUP(G20,BB:BC,2,0)) | AF6: =I20 -> 0 | AG6: =IF(J20=0,"",J20) | AH6: =K20 -> 0 | AI6: =L20 -> 0 | AJ6: =M20 -> 0 | AK6: =IF(VLOOKUP(G20,$O$16:$AB$30,14,0)="x","Igen",IF(VLOOKUP(G20,$O$16:$AB$30,7,0)="x","igen","nem")) -> #N/A | AL6: =IF(VLOOKUP(G20,$O$16:$AB$30,14,0)="x","Igen",IF(VLOOKUP(G20,$O$16:$AB$30,8,0)="x","igen","nem")) -> #N/A | AM6: =IF(VLOOKUP(G20,$O$16:$AB$30,14,0)="x","Igen",IF(VLOOKUP(G20,$O$16:$AB$30,9,0)="x","igen","nem")) -> #N/A | AN6: =IF(VLOOKUP(G20,$O$16:$AB$30,14,0)="x","Igen",IF(VLOOKUP(G20,$O$16:$AB$30,10,0)="x","igen","nem")) -> #N/A | AO6: =IF(VLOOKUP(G20,$O$16:$AB$30,14,0)="x","Igen",IF(VLOOKUP(G20,$O$16:$AB$30,11,0)="x","igen","nem")) -> #N/A | AP6: =IF(VLOOKUP(G20,$O$16:$AB$30,14,0)="x","Igen",IF(VLOOKUP(G20,$O$16:$AB$30,12,0)="x","igen","nem")) -> #N/A | AQ6: =IF(VLOOKUP(G20,$O$16:$AB$30,14,0)="x","Igen",IF(VLOOKUP(G20,$O$16:$AB$30,13,0)="x","igen","nem")) -> #N/A | AR6: =IF(AE6="",0,1) -> 0 | BA6: KAL21 | BB6: Kukorica | BC6: KAL21
E7: Levelezési cím ir.sz., település | AE7: =IF(ISNA(VLOOKUP(G21,BB:BC,2,0)),"",VLOOKUP(G21,BB:BC,2,0)) | AF7: =I21 -> 0 | AG7: =IF(J21=0,"",J21) | AH7: =K21 -> 0 | AI7: =L21 -> 0 | AJ7: =M21 -> 0 | AK7: =IF(VLOOKUP(G21,$O$16:$AB$30,14,0)="x","Igen",IF(VLOOKUP(G21,$O$16:$AB$30,7,0)="x","igen","nem")) -> #N/A | AL7: =IF(VLOOKUP(G21,$O$16:$AB$30,14,0)="x","Igen",IF(VLOOKUP(G21,$O$16:$AB$30,8,0)="x","igen","nem")) -> #N/A | AM7: =IF(VLOOKUP(G21,$O$16:$AB$30,14,0)="x","Igen",IF(VLOOKUP(G21,$O$16:$AB$30,9,0)="x","igen","nem")) -> #N/A | AN7: =IF(VLOOKUP(G21,$O$16:$AB$30,14,0)="x","Igen",IF(VLOOKUP(G21,$O$16:$AB$30,10,0)="x","igen","nem")) -> #N/A | AO7: =IF(VLOOKUP(G21,$O$16:$AB$30,14,0)="x","Igen",IF(VLOOKUP(G21,$O$16:$AB$30,11,0)="x","igen","nem")) -> #N/A | AP7: =IF(VLOOKUP(G21,$O$16:$AB$30,14,0)="x","Igen",IF(VLOOKUP(G21,$O$16:$AB$30,12,0)="x","igen","nem")) -> #N/A | AQ7: =IF(VLOOKUP(G21,$O$16:$AB$30,14,0)="x","Igen",IF(VLOOKUP(G21,$O$16:$AB$30,13,0)="x","igen","nem")) -> #N/A | AR7: =IF(AE7="",0,1) -> 0 | BA7: IND23 | BB7: Napraforgó | BC7: IND23
E8: utca, szám | AE8: =IF(ISNA(VLOOKUP(G22,BB:BC,2,0)),"",VLOOKUP(G22,BB:BC,2,0)) | AF8: =I22 -> 0 | AG8: =IF(J22=0,"",J22) | AH8: =K22 -> 0 | AI8: =L22 -> 0 | AJ8: =M22 -> 0 | AK8: =IF(VLOOKUP(G22,$O$16:$AB$30,14,0)="x","Igen",IF(VLOOKUP(G22,$O$16:$AB$30,7,0)="x","igen","nem")) -> #N/A | AL8: =IF(VLOOKUP(G22,$O$16:$AB$30,14,0)="x","Igen",IF(VLOOKUP(G22,$O$16:$AB$30,8,0)="x","igen","nem")) -> #N/A | AM8: =IF(VLOOKUP(G22,$O$16:$AB$30,14,0)="x","Igen",IF(VLOOKUP(G22,$O$16:$AB$30,9,0)="x","igen","nem")) -> #N/A | AN8: =IF(VLOOKUP(G22,$O$16:$AB$30,14,0)="x","Igen",IF(VLOOKUP(G22,$O$16:$AB$30,10,0)="x","igen","nem")) -> #N/A | AO8: =IF(VLOOKUP(G22,$O$16:$AB$30,14,0)="x","Igen",IF(VLOOKUP(G22,$O$16:$AB$30,11,0)="x","igen","nem")) -> #N/A | AP8: =IF(VLOOKUP(G22,$O$16:$AB$30,14,0)="x","Igen",IF(VLOOKUP(G22,$O$16:$AB$30,12,0)="x","igen","nem")) -> #N/A | AQ8: =IF(VLOOKUP(G22,$O$16:$AB$30,14,0)="x","Igen",IF(VLOOKUP(G22,$O$16:$AB$30,13,0)="x","igen","nem")) -> #N/A | AR8: =IF(AE8="",0,1) -> 0 | BA8: IND03 | BB8: Őszi káposztarepce | BC8: IND03
E9: Adószám / Adóazonosító jel | AE9: =IF(ISNA(VLOOKUP(G23,BB:BC,2,0)),"",VLOOKUP(G23,BB:BC,2,0)) | AF9: =I23 -> 0 | AG9: =IF(J23=0,"",J23) | AH9: =K23 -> 0 | AI9: =L23 -> 0 | AJ9: =M23 -> 0 | AK9: =IF(VLOOKUP(G23,$O$16:$AB$30,14,0)="x","Igen",IF(VLOOKUP(G23,$O$16:$AB$30,7,0)="x","igen","nem")) -> #N/A | AL9: =IF(VLOOKUP(G23,$O$16:$AB$30,14,0)="x","Igen",IF(VLOOKUP(G23,$O$16:$AB$30,8,0)="x","igen","nem")) -> #N/A | AM9: =IF(VLOOKUP(G23,$O$16:$AB$30,14,0)="x","Igen",IF(VLOOKUP(G23,$O$16:$AB$30,9,0)="x","igen","nem")) -> #N/A | AN9: =IF(VLOOKUP(G23,$O$16:$AB$30,14,0)="x","Igen",IF(VLOOKUP(G23,$O$16:$AB$30,10,0)="x","igen","nem")) -> #N/A | AO9: =IF(VLOOKUP(G23,$O$16:$AB$30,14,0)="x","Igen",IF(VLOOKUP(G23,$O$16:$AB$30,11,0)="x","igen","nem")) -> #N/A | AP9: =IF(VLOOKUP(G23,$O$16:$AB$30,14,0)="x","Igen",IF(VLOOKUP(G23,$O$16:$AB$30,12,0)="x","igen","nem")) -> #N/A | AQ9: =IF(VLOOKUP(G23,$O$16:$AB$30,14,0)="x","Igen",IF(VLOOKUP(G23,$O$16:$AB$30,13,0)="x","igen","nem")) -> #N/A | AR9: =IF(AE9="",0,1) -> 0 | BA9: IND01 | BB9: Szójabab | BC9: IND01
E10: Telefon | AE10: =IF(ISNA(VLOOKUP(G24,BB:BC,2,0)),"",VLOOKUP(G24,BB:BC,2,0)) | AF10: =I24 -> 0 | AG10: =IF(J24=0,"",J24) | AH10: =K24 -> 0 | AI10: =L24 -> 0 | AJ10: =M24 -> 0 | AK10: =IF(VLOOKUP(G24,$O$16:$AB$30,14,0)="x","Igen",IF(VLOOKUP(G24,$O$16:$AB$30,7,0)="x","igen","nem")) -> #N/A | AL10: =IF(VLOOKUP(G24,$O$16:$AB$30,14,0)="x","Igen",IF(VLOOKUP(G24,$O$16:$AB$30,8,0)="x","igen","nem")) -> #N/A | AM10: =IF(VLOOKUP(G24,$O$16:$AB$30,14,0)="x","Igen",IF(VLOOKUP(G24,$O$16:$AB$30,9,0)="x","igen","nem")) -> #N/A | AN10: =IF(VLOOKUP(G24,$O$16:$AB$30,14,0)="x","Igen",IF(VLOOKUP(G24,$O$16:$AB$30,10,0)="x","igen","nem")) -> #N/A | AO10: =IF(VLOOKUP(G24,$O$16:$AB$30,14,0)="x","Igen",IF(VLOOKUP(G24,$O$16:$AB$30,11,0)="x","igen","nem")) -> #N/A | AP10: =IF(VLOOKUP(G24,$O$16:$AB$30,14,0)="x","Igen",IF(VLOOKUP(G24,$O$16:$AB$30,12,0)="x","igen","nem")) -> #N/A | AQ10: =IF(VLOOKUP(G24,$O$16:$AB$30,14,0)="x","Igen",IF(VLOOKUP(G24,$O$16:$AB$30,13,0)="x","igen","nem")) -> #N/A | AR10: =IF(AE10="",0,1) -> 0 | BA10: -------------- | BB10: -------------- | BC10: --------------
E11: E-mail | AE11: =IF(ISNA(VLOOKUP(G25,BB:BC,2,0)),"",VLOOKUP(G25,BB:BC,2,0)) | AF11: =I25 -> 0 | AG11: =IF(J25=0,"",J25) | AH11: =K25 -> 0 | AI11: =L25 -> 0 | AJ11: =M25 -> 0 | AK11: =IF(VLOOKUP(G25,$O$16:$AB$30,14,0)="x","Igen",IF(VLOOKUP(G25,$O$16:$AB$30,7,0)="x","igen","nem")) -> #N/A | AL11: =IF(VLOOKUP(G25,$O$16:$AB$30,14,0)="x","Igen",IF(VLOOKUP(G25,$O$16:$AB$30,8,0)="x","igen","nem")) -> #N/A | AM11: =IF(VLOOKUP(G25,$O$16:$AB$30,14,0)="x","Igen",IF(VLOOKUP(G25,$O$16:$AB$30,9,0)="x","igen","nem")) -> #N/A | AN11: =IF(VLOOKUP(G25,$O$16:$AB$30,14,0)="x","Igen",IF(VLOOKUP(G25,$O$16:$AB$30,10,0)="x","igen","nem")) -> #N/A | AO11: =IF(VLOOKUP(G25,$O$16:$AB$30,14,0)="x","Igen",IF(VLOOKUP(G25,$O$16:$AB$30,11,0)="x","igen","nem")) -> #N/A | AP11: =IF(VLOOKUP(G25,$O$16:$AB$30,14,0)="x","Igen",IF(VLOOKUP(G25,$O$16:$AB$30,12,0)="x","igen","nem")) -> #N/A | AQ11: =IF(VLOOKUP(G25,$O$16:$AB$30,14,0)="x","Igen",IF(VLOOKUP(G25,$O$16:$AB$30,13,0)="x","igen","nem")) -> #N/A | AR11: =IF(AE11="",0,1) -> 0 | BA11: FRU17 | BB11: Áfonya | BC11: FRU17
E12: Bankszámlaszám | AE12: =IF(ISNA(VLOOKUP(G26,BB:BC,2,0)),"",VLOOKUP(G26,BB:BC,2,0)) | AF12: =I26 -> 0 | AG12: =IF(J26=0,"",J26) | AH12: =K26 -> 0 | AI12: =L26 -> 0 | AJ12: =M26 -> 0 | AK12: =IF(VLOOKUP(G26,$O$16:$AB$30,14,0)="x","Igen",IF(VLOOKUP(G26,$O$16:$AB$30,7,0)="x","igen","nem")) -> #N/A | AL12: =IF(VLOOKUP(G26,$O$16:$AB$30,14,0)="x","Igen",IF(VLOOKUP(G26,$O$16:$AB$30,8,0)="x","igen","nem")) -> #N/A | AM12: =IF(VLOOKUP(G26,$O$16:$AB$30,14,0)="x","Igen",IF(VLOOKUP(G26,$O$16:$AB$30,9,0)="x","igen","nem")) -> #N/A | AN12: =IF(VLOOKUP(G26,$O$16:$AB$30,14,0)="x","Igen",IF(VLOOKUP(G26,$O$16:$AB$30,10,0)="x","igen","nem")) -> #N/A | AO12: =IF(VLOOKUP(G26,$O$16:$AB$30,14,0)="x","Igen",IF(VLOOKUP(G26,$O$16:$AB$30,11,0)="x","igen","nem")) -> #N/A | AP12: =IF(VLOOKUP(G26,$O$16:$AB$30,14,0)="x","Igen",IF(VLOOKUP(G26,$O$16:$AB$30,12,0)="x","igen","nem")) -> #N/A | AQ12: =IF(VLOOKUP(G26,$O$16:$AB$30,14,0)="x","Igen",IF(VLOOKUP(G26,$O$16:$AB$30,13,0)="x","igen","nem")) -> #N/A | AR12: =IF(AE12="",0,1) -> 0 | BA12: FOR14 | BB12: Alexandriai here | BC12: FOR14
S13: Kockázat | AE13: =IF(ISNA(VLOOKUP(G27,BB:BC,2,0)),"",VLOOKUP(G27,BB:BC,2,0)) | AF13: =I27 -> 0 | AG13: =IF(J27=0,"",J27) | AH13: =K27 -> 0 | AI13: =L27 -> 0 | AJ13: =M27 -> 0 | AK13: =IF(VLOOKUP(G27,$O$16:$AB$30,14,0)="x","Igen",IF(VLOOKUP(G27,$O$16:$AB$30,7,0)="x","igen","nem")) -> #N/A | AL13: =IF(VLOOKUP(G27,$O$16:$AB$30,14,0)="x","Igen",IF(VLOOKUP(G27,$O$16:$AB$30,8,0)="x","igen","nem")) -> #N/A | AM13: =IF(VLOOKUP(G27,$O$16:$AB$30,14,0)="x","Igen",IF(VLOOKUP(G27,$O$16:$AB$30,9,0)="x","igen","nem")) -> #N/A | AN13: =IF(VLOOKUP(G27,$O$16:$AB$30,14,0)="x","Igen",IF(VLOOKUP(G27,$O$16:$AB$30,10,0)="x","igen","nem")) -> #N/A | AO13: =IF(VLOOKUP(G27,$O$16:$AB$30,14,0)="x","Igen",IF(VLOOKUP(G27,$O$16:$AB$30,11,0)="x","igen","nem")) -> #N/A | AP13: =IF(VLOOKUP(G27,$O$16:$AB$30,14,0)="x","Igen",IF(VLOOKUP(G27,$O$16:$AB$30,12,0)="x","igen","nem")) -> #N/A | AQ13: =IF(VLOOKUP(G27,$O$16:$AB$30,14,0)="x","Igen",IF(VLOOKUP(G27,$O$16:$AB$30,13,0)="x","igen","nem")) -> #N/A | AR13: =IF(AE13="",0,1) -> 0 | BA13: ULT01 | BB13: Alma | BC13: ULT01
O14: ÖSSZESÍTŐ | P14: =SUM(P16:P30) -> 0 | S14: jég + tűz | T14: tűz | U14: vihar | V14: télifagy | W14: őszi fagy | X14: tavaszi fagy | Y14: aszály | Z14: felhő-szakadás | AA14: mg-i árvízkár | AB14: "A" típus | AE14: =IF(ISNA(VLOOKUP(G28,BB:BC,2,0)),"",VLOOKUP(G28,BB:BC,2,0)) | AF14: =I28 -> 0 | AG14: =IF(J28=0,"",J28) | AH14: =K28 -> 0 | AI14: =L28 -> 0 | AJ14: =M28 -> 0 | AK14: =IF(VLOOKUP(G28,$O$16:$AB$30,14,0)="x","Igen",IF(VLOOKUP(G28,$O$16:$AB$30,7,0)="x","igen","nem")) -> #N/A | AL14: =IF(VLOOKUP(G28,$O$16:$AB$30,14,0)="x","Igen",IF(VLOOKUP(G28,$O$16:$AB$30,8,0)="x","igen","nem")) -> #N/A | AM14: =IF(VLOOKUP(G28,$O$16:$AB$30,14,0)="x","Igen",IF(VLOOKUP(G28,$O$16:$AB$30,9,0)="x","igen","nem")) -> #N/A | AN14: =IF(VLOOKUP(G28,$O$16:$AB$30,14,0)="x","Igen",IF(VLOOKUP(G28,$O$16:$AB$30,10,0)="x","igen","nem")) -> #N/A | AO14: =IF(VLOOKUP(G28,$O$16:$AB$30,14,0)="x","Igen",IF(VLOOKUP(G28,$O$16:$AB$30,11,0)="x","igen","nem")) -> #N/A | AP14: =IF(VLOOKUP(G28,$O$16:$AB$30,14,0)="x","Igen",IF(VLOOKUP(G28,$O$16:$AB$30,12,0)="x","igen","nem")) -> #N/A | AQ14: =IF(VLOOKUP(G28,$O$16:$AB$30,14,0)="x","Igen",IF(VLOOKUP(G28,$O$16:$AB$30,13,0)="x","igen","nem")) -> #N/A | AR14: =IF(AE14="",0,1) -> 0 | BA14: PAZ08 | BB14: Angol perje | BC14: PAZ08
D15: Ssz | E15: Ügyfél-azonosító | F15: Haszn. Kód | G15: Növény | I15: Blokk azonosító | J15: Tábla sorszám | K15: Terület (ha) | L15: Hozam (t/ha) | M15: Egységár (Ft/t) | O15: Növény | P15: Terület (ha) | Q15: Hozam (t/ha) | R15: Egységár (Ft/t) | AE15: =IF(ISNA(VLOOKUP(G29,BB:BC,2,0)),"",VLOOKUP(G29,BB:BC,2,0)) | AF15: =I29 -> 0 | AG15: =IF(J29=0,"",J29) | AH15: =K29 -> 0 | AI15: =L29 -> 0 | AJ15: =M29 -> 0 | AK15: =IF(VLOOKUP(G29,$O$16:$AB$30,14,0)="x","Igen",IF(VLOOKUP(G29,$O$16:$AB$30,7,0)="x","igen","nem")) -> #N/A | AL15: =IF(VLOOKUP(G29,$O$16:$AB$30,14,0)="x","Igen",IF(VLOOKUP(G29,$O$16:$AB$30,8,0)="x","igen","nem")) -> #N/A | AM15: =IF(VLOOKUP(G29,$O$16:$AB$30,14,0)="x","Igen",IF(VLOOKUP(G29,$O$16:$AB$30,9,0)="x","igen","nem")) -> #N/A | AN15: =IF(VLOOKUP(G29,$O$16:$AB$30,14,0)="x","Igen",IF(VLOOKUP(G29,$O$16:$AB$30,10,0)="x","igen","nem")) -> #N/A | AO15: =IF(VLOOKUP(G29,$O$16:$AB$30,14,0)="x","Igen",IF(VLOOKUP(G29,$O$16:$AB$30,11,0)="x","igen","nem")) -> #N/A | AP15: =IF(VLOOKUP(G29,$O$16:$AB$30,14,0)="x","Igen",IF(VLOOKUP(G29,$O$16:$AB$30,12,0)="x","igen","nem")) -> #N/A | AQ15: =IF(VLOOKUP(G29,$O$16:$AB$30,14,0)="x","Igen",IF(VLOOKUP(G29,$O$16:$AB$30,13,0)="x","igen","nem")) -> #N/A | AR15: =IF(AE15="",0,1) -> 0 | BA15: AGF02 | BB15: Angyalgyökér | BC15: AGF02
B16: =IF(F16=0,0,IF(ISERROR(VLOOKUP(C16,C15:C$15,1,FALSE)),1,0))+B15 -> 0 | C16: =G16&"_"&L16&"_"&M16 -> __ | D16: 1 | F16: =IF(ISERROR(VLOOKUP(G16,seged!$B$2:$C$330,2,FALSE)),0,VLOOKUP(G16,seged!$B$2:$C$330,2,FALSE)) -> 0 | N16: 1 | O16: =IF(ISERROR(VLOOKUP($N16,$B$16:$B$335,1,FALSE)),"",VLOOKUP($N16,$B$16:$M$335,6,FALSE)) | P16: =SUMIF($C$16:$C$335,O16&"_"&IF(Q16=0,"",Q16)&"_"&IF(R16=0,"",R16),$K$16:$K$335) -> 0 | Q16: =IF(ISERROR(VLOOKUP($N16,$B$16:$B$335,1,FALSE)),"",VLOOKUP($N16,$B$16:$M$335,11,FALSE)) | R16: =IF(ISERROR(VLOOKUP($N16,$B$16:$B$335,1,FALSE)),"",VLOOKUP($N16,$B$16:$M$335,12,FALSE)) | AE16: =IF(ISNA(VLOOKUP(G30,BB:BC,2,0)),"",VLOOKUP(G30,BB:BC,2,0)) | AF16: =I30 -> 0 | AG16: =IF(J30=0,"",J30) | AH16: =K30 -> 0 | AI16: =L30 -> 0 | AJ16: =M30 -> 0 | AK16: =IF(VLOOKUP(G30,$O$16:$AB$30,14,0)="x","Igen",IF(VLOOKUP(G30,$O$16:$AB$30,7,0)="x","igen","nem")) -> #N/A | AL16: =IF(VLOOKUP(G30,$O$16:$AB$30,14,0)="x","Igen",IF(VLOOKUP(G30,$O$16:$AB$30,8,0)="x","igen","nem")) -> #N/A | AM16: =IF(VLOOKUP(G30,$O$16:$AB$30,14,0)="x","Igen",IF(VLOOKUP(G30,$O$16:$AB$30,9,0)="x","igen","nem")) -> #N/A | AN16: =IF(VLOOKUP(G30,$O$16:$AB$30,14,0)="x","Igen",IF(VLOOKUP(G30,$O$16:$AB$30,10,0)="x","igen","nem")) -> #N/A | AO16: =IF(VLOOKUP(G30,$O$16:$AB$30,14,0)="x","Igen",IF(VLOOKUP(G30,$O$16:$AB$30,11,0)="x","igen","nem")) -> #N/A | AP16: =IF(VLOOKUP(G30,$O$16:$AB$30,14,0)="x","Igen",IF(VLOOKUP(G30,$O$16:$AB$30,12,0)="x","igen","nem")) -> #N/A | AQ16: =IF(VLOOKUP(G30,$O$16:$AB$30,14,0)="x","Igen",IF(VLOOKUP(G30,$O$16:$AB$30,13,0)="x","igen","nem")) -> #N/A | AR16: =IF(AE16="",0,1) -> 0 | BA16: AGF28 | BB16: Ánizs | BC16: AGF28
B17: =IF(F17=0,0,IF(ISERROR(VLOOKUP(C17,C$15:C16,1,FALSE)),1,0))+B16 -> 0 | C17: =G17&"_"&L17&"_"&M17 -> __ | D17: 2 | F17: =IF(ISERROR(VLOOKUP(G17,seged!$B$2:$C$330,2,FALSE)),0,VLOOKUP(G17,seged!$B$2:$C$330,2,FALSE)) -> 0 | N17: 2 | O17: =IF(ISERROR(VLOOKUP($N17,$B$16:$B$335,1,FALSE)),"",VLOOKUP($N17,$B$16:$M$335,6,FALSE)) | P17: =SUMIF($C$16:$C$335,O17&"_"&IF(Q17=0,"",Q17)&"_"&IF(R17=0,"",R17),$K$16:$K$335) -> 0 | Q17: =IF(ISERROR(VLOOKUP($N17,$B$16:$B$335,1,FALSE)),"",VLOOKUP($N17,$B$16:$M$335,11,FALSE)) | R17: =IF(ISERROR(VLOOKUP($N17,$B$16:$B$335,1,FALSE)),"",VLOOKUP($N17,$B$16:$M$335,12,FALSE)) | AE17: =IF(ISNA(VLOOKUP(G31,BB:BC,2,0)),"",VLOOKUP(G31,BB:BC,2,0)) | AF17: =I31 -> 0 | AG17: =IF(J31=0,"",J31) | AH17: =K31 -> 0 | AI17: =L31 -> 0 | AJ17: =M31 -> 0 | AK17: =IF(VLOOKUP(G31,$O$16:$AB$30,14,0)="x","Igen",IF(VLOOKUP(G31,$O$16:$AB$30,7,0)="x","igen","nem")) -> #N/A | AL17: =IF(VLOOKUP(G31,$O$16:$AB$30,14,0)="x","Igen",IF(VLOOKUP(G31,$O$16:$AB$30,8,0)="x","igen","nem")) -> #N/A | AM17: =IF(VLOOKUP(G31,$O$16:$AB$30,14,0)="x","Igen",IF(VLOOKUP(G31,$O$16:$AB$30,9,0)="x","igen","nem")) -> #N/A | AN17: =IF(VLOOKUP(G31,$O$16:$AB$30,14,0)="x","Igen",IF(VLOOKUP(G31,$O$16:$AB$30,10,0)="x","igen","nem")) -> #N/A | AO17: =IF(VLOOKUP(G31,$O$16:$AB$30,14,0)="x","Igen",IF(VLOOKUP(G31,$O$16:$AB$30,11,0)="x","igen","nem")) -> #N/A | AP17: =IF(VLOOKUP(G31,$O$16:$AB$30,14,0)="x","Igen",IF(VLOOKUP(G31,$O$16:$AB$30,12,0)="x","igen","nem")) -> #N/A | AQ17: =IF(VLOOKUP(G31,$O$16:$AB$30,14,0)="x","Igen",IF(VLOOKUP(G31,$O$16:$AB$30,13,0)="x","igen","nem")) -> #N/A | AR17: =IF(AE17="",0,1) -> 0 | BA17: AGF37 | BB17: Ánizsizsóp | BC17: AGF37
B18: =IF(F18=0,0,IF(ISERROR(VLOOKUP(C18,C$15:C17,1,FALSE)),1,0))+B17 -> 0 | C18: =G18&"_"&L18&"_"&M18 -> __ | D18: 3 | F18: =IF(ISERROR(VLOOKUP(G18,seged!$B$2:$C$330,2,FALSE)),0,VLOOKUP(G18,seged!$B$2:$C$330,2,FALSE)) -> 0 | N18: 3 | O18: =IF(ISERROR(VLOOKUP($N18,$B$16:$B$335,1,FALSE)),"",VLOOKUP($N18,$B$16:$M$335,6,FALSE)) | P18: =SUMIF($C$16:$C$335,O18&"_"&IF(Q18=0,"",Q18)&"_"&IF(R18=0,"",R18),$K$16:$K$335) -> 0 | Q18: =IF(ISERROR(VLOOKUP($N18,$B$16:$B$335,1,FALSE)),"",VLOOKUP($N18,$B$16:$M$335,11,FALSE)) | R18: =IF(ISERROR(VLOOKUP($N18,$B$16:$B$335,1,FALSE)),"",VLOOKUP($N18,$B$16:$M$335,12,FALSE)) | AE18: =IF(ISNA(VLOOKUP(G32,BB:BC,2,0)),"",VLOOKUP(G32,BB:BC,2,0)) | AF18: =I32 -> 0 | AG18: =IF(J32=0,"",J32) | AH18: =K32 -> 0 | AI18: =L32 -> 0 | AJ18: =M32 -> 0 | AK18: =IF(VLOOKUP(G32,$O$16:$AB$30,14,0)="x","Igen",IF(VLOOKUP(G32,$O$16:$AB$30,7,0)="x","igen","nem")) -> #N/A | AL18: =IF(VLOOKUP(G32,$O$16:$AB$30,14,0)="x","Igen",IF(VLOOKUP(G32,$O$16:$AB$30,8,0)="x","igen","nem")) -> #N/A | AM18: =IF(VLOOKUP(G32,$O$16:$AB$30,14,0)="x","Igen",IF(VLOOKUP(G32,$O$16:$AB$30,9,0)="x","igen","nem")) -> #N/A | AN18: =IF(VLOOKUP(G32,$O$16:$AB$30,14,0)="x","Igen",IF(VLOOKUP(G32,$O$16:$AB$30,10,0)="x","igen","nem")) -> #N/A | AO18: =IF(VLOOKUP(G32,$O$16:$AB$30,14,0)="x","Igen",IF(VLOOKUP(G32,$O$16:$AB$30,11,0)="x","igen","nem")) -> #N/A | AP18: =IF(VLOOKUP(G32,$O$16:$AB$30,14,0)="x","Igen",IF(VLOOKUP(G32,$O$16:$AB$30,12,0)="x","igen","nem")) -> #N/A | AQ18: =IF(VLOOKUP(G32,$O$16:$AB$30,14,0)="x","Igen",IF(VLOOKUP(G32,$O$16:$AB$30,13,0)="x","igen","nem")) -> #N/A | AR18: =IF(AE18="",0,1) -> 0 | BA18: AGF38 | BB18: Ánizsmenta | BC18: AGF38
B19: =IF(F19=0,0,IF(ISERROR(VLOOKUP(C19,C$15:C18,1,FALSE)),1,0))+B18 -> 0 | C19: =G19&"_"&L19&"_"&M19 -> __ | D19: 4 | F19: =IF(ISERROR(VLOOKUP(G19,seged!$B$2:$C$330,2,FALSE)),0,VLOOKUP(G19,seged!$B$2:$C$330,2,FALSE)) -> 0 | N19: 4 | O19: =IF(ISERROR(VLOOKUP($N19,$B$16:$B$335,1,FALSE)),"",VLOOKUP($N19,$B$16:$M$335,6,FALSE)) | P19: =SUMIF($C$16:$C$335,O19&"_"&IF(Q19=0,"",Q19)&"_"&IF(R19=0,"",R19),$K$16:$K$335) -> 0 | Q19: =IF(ISERROR(VLOOKUP($N19,$B$16:$B$335,1,FALSE)),"",VLOOKUP($N19,$B$16:$M$335,11,FALSE)) | R19: =IF(ISERROR(VLOOKUP($N19,$B$16:$B$335,1,FALSE)),"",VLOOKUP($N19,$B$16:$M$335,12,FALSE)) | AE19: =IF(ISNA(VLOOKUP(G33,BB:BC,2,0)),"",VLOOKUP(G33,BB:BC,2,0)) | AF19: =I33 -> 0 | AG19: =IF(J33=0,"",J33) | AH19: =K33 -> 0 | AI19: =L33 -> 0 | AJ19: =M33 -> 0 | AK19: =IF(VLOOKUP(G33,$O$16:$AB$30,14,0)="x","Igen",IF(VLOOKUP(G33,$O$16:$AB$30,7,0)="x","igen","nem")) -> #N/A | AL19: =IF(VLOOKUP(G33,$O$16:$AB$30,14,0)="x","Igen",IF(VLOOKUP(G33,$O$16:$AB$30,8,0)="x","igen","nem")) -> #N/A | AM19: =IF(VLOOKUP(G33,$O$16:$AB$30,14,0)="x","Igen",IF(VLOOKUP(G33,$O$16:$AB$30,9,0)="x","igen","nem")) -> #N/A | AN19: =IF(VLOOKUP(G33,$O$16:$AB$30,14,0)="x","Igen",IF(VLOOKUP(G33,$O$16:$AB$30,10,0)="x","igen","nem")) -> #N/A | AO19: =IF(VLOOKUP(G33,$O$16:$AB$30,14,0)="x","Igen",IF(VLOOKUP(G33,$O$16:$AB$30,11,0)="x","igen","nem")) -> #N/A | AP19: =IF(VLOOKUP(G33,$O$16:$AB$30,14,0)="x","Igen",IF(VLOOKUP(G33,$O$16:$AB$30,12,0)="x","igen","nem")) -> #N/A | AQ19: =IF(VLOOKUP(G33,$O$16:$AB$30,14,0)="x","Igen",IF(VLOOKUP(G33,$O$16:$AB$30,13,0)="x","igen","nem")) -> #N/A | AR19: =IF(AE19="",0,1) -> 0 | BA19: AGF25 | BB19: Anyarozs | BC19: AGF25
B20: =IF(F20=0,0,IF(ISERROR(VLOOKUP(C20,C$15:C19,1,FALSE)),1,0))+B19 -> 0 | C20: =G20&"_"&L20&"_"&M20 -> __ | D20: 5 | F20: =IF(ISERROR(VLOOKUP(G20,seged!$B$2:$C$330,2,FALSE)),0,VLOOKUP(G20,seged!$B$2:$C$330,2,FALSE)) -> 0 | N20: 5 | O20: =IF(ISERROR(VLOOKUP($N20,$B$16:$B$335,1,FALSE)),"",VLOOKUP($N20,$B$16:$M$335,6,FALSE)) | P20: =SUMIF($C$16:$C$335,O20&"_"&IF(Q20=0,"",Q20)&"_"&IF(R20=0,"",R20),$K$16:$K$335) -> 0 | Q20: =IF(ISERROR(VLOOKUP($N20,$B$16:$B$335,1,FALSE)),"",VLOOKUP($N20,$B$16:$M$335,11,FALSE)) | R20: =IF(ISERROR(VLOOKUP($N20,$B$16:$B$335,1,FALSE)),"",VLOOKUP($N20,$B$16:$M$335,12,FALSE)) | AE20: =IF(ISNA(VLOOKUP(G34,BB:BC,2,0)),"",VLOOKUP(G34,BB:BC,2,0)) | AF20: =I34 -> 0 | AG20: =IF(J34=0,"",J34) | AH20: =K34 -> 0 | AI20: =L34 -> 0 | AJ20: =M34 -> 0 | AK20: =IF(VLOOKUP(G34,$O$16:$AB$30,14,0)="x","Igen",IF(VLOOKUP(G34,$O$16:$AB$30,7,0)="x","igen","nem")) -> #N/A | AL20: =IF(VLOOKUP(G34,$O$16:$AB$30,14,0)="x","Igen",IF(VLOOKUP(G34,$O$16:$AB$30,8,0)="x","igen","nem")) -> #N/A | AM20: =IF(VLOOKUP(G34,$O$16:$AB$30,14,0)="x","Igen",IF(VLOOKUP(G34,$O$16:$AB$30,9,0)="x","igen","nem")) -> #N/A | AN20: =IF(VLOOKUP(G34,$O$16:$AB$30,14,0)="x","Igen",IF(VLOOKUP(G34,$O$16:$AB$30,10,0)="x","igen","nem")) -> #N/A | AO20: =IF(VLOOKUP(G34,$O$16:$AB$30,14,0)="x","Igen",IF(VLOOKUP(G34,$O$16:$AB$30,11,0)="x","igen","nem")) -> #N/A | AP20: =IF(VLOOKUP(G34,$O$16:$AB$30,14,0)="x","Igen",IF(VLOOKUP(G34,$O$16:$AB$30,12,0)="x","igen","nem")) -> #N/A | AQ20: =IF(VLOOKUP(G34,$O$16:$AB$30,14,0)="x","Igen",IF(VLOOKUP(G34,$O$16:$AB$30,13,0)="x","igen","nem")) -> #N/A | AR20: =IF(AE20="",0,1) -> 0 | BA20: VEG24 | BB20: Articsóka | BC20: VEG24
B21: =IF(F21=0,0,IF(ISERROR(VLOOKUP(C21,C$15:C20,1,FALSE)),1,0))+B20 -> 0 | C21: =G21&"_"&L21&"_"&M21 -> __ | D21: 6 | F21: =IF(ISERROR(VLOOKUP(G21,seged!$B$2:$C$330,2,FALSE)),0,VLOOKUP(G21,seged!$B$2:$C$330,2,FALSE)) -> 0 | N21: 6 | O21: =IF(ISERROR(VLOOKUP($N21,$B$16:$B$335,1,FALSE)),"",VLOOKUP($N21,$B$16:$M$335,6,FALSE)) | P21: =SUMIF($C$16:$C$335,O21&"_"&IF(Q21=0,"",Q21)&"_"&IF(R21=0,"",R21),$K$16:$K$335) -> 0 | Q21: =IF(ISERROR(VLOOKUP($N21,$B$16:$B$335,1,FALSE)),"",VLOOKUP($N21,$B$16:$M$335,11,FALSE)) | R21: =IF(ISERROR(VLOOKUP($N21,$B$16:$B$335,1,FALSE)),"",VLOOKUP($N21,$B$16:$M$335,12,FALSE)) | AE21: =IF(ISNA(VLOOKUP(G35,BB:BC,2,0)),"",VLOOKUP(G35,BB:BC,2,0)) | AF21: =I35 -> 0 | AG21: =IF(J35=0,"",J35) | AH21: =K35 -> 0 | AI21: =L35 -> 0 | AJ21: =M35 -> 0 | AK21: =IF(VLOOKUP(G35,$O$16:$AB$30,14,0)="x","Igen",IF(VLOOKUP(G35,$O$16:$AB$30,7,0)="x","igen","nem")) -> #N/A | AL21: =IF(VLOOKUP(G35,$O$16:$AB$30,14,0)="x","Igen",IF(VLOOKUP(G35,$O$16:$AB$30,8,0)="x","igen","nem")) -> #N/A | AM21: =IF(VLOOKUP(G35,$O$16:$AB$30,14,0)="x","Igen",IF(VLOOKUP(G35,$O$16:$AB$30,9,0)="x","igen","nem")) -> #N/A | AN21: =IF(VLOOKUP(G35,$O$16:$AB$30,14,0)="x","Igen",IF(VLOOKUP(G35,$O$16:$AB$30,10,0)="x","igen","nem")) -> #N/A | AO21: =IF(VLOOKUP(G35,$O$16:$AB$30,14,0)="x","Igen",IF(VLOOKUP(G35,$O$16:$AB$30,11,0)="x","igen","nem")) -> #N/A | AP21: =IF(VLOOKUP(G35,$O$16:$AB$30,14,0)="x","Igen",IF(VLOOKUP(G35,$O$16:$AB$30,12,0)="x","igen","nem")) -> #N/A | AQ21: =IF(VLOOKUP(G35,$O$16:$AB$30,14,0)="x","Igen",IF(VLOOKUP(G35,$O$16:$AB$30,13,0)="x","igen","nem")) -> #N/A | AR21: =IF(AE21="",0,1) -> 0 | BA21: VEG54 | BB21: Batáta (édesburgonya) | BC21: VEG54
B22: =IF(F22=0,0,IF(ISERROR(VLOOKUP(C22,C$15:C21,1,FALSE)),1,0))+B21 -> 0 | C22: =G22&"_"&L22&"_"&M22 -> __ | D22: 7 | F22: =IF(ISERROR(VLOOKUP(G22,seged!$B$2:$C$330,2,FALSE)),0,VLOOKUP(G22,seged!$B$2:$C$330,2,FALSE)) -> 0 | N22: 7 | O22: =IF(ISERROR(VLOOKUP($N22,$B$16:$B$335,1,FALSE)),"",VLOOKUP($N22,$B$16:$M$335,6,FALSE)) | P22: =SUMIF($C$16:$C$335,O22&"_"&IF(Q22=0,"",Q22)&"_"&IF(R22=0,"",R22),$K$16:$K$335) -> 0 | Q22: =IF(ISERROR(VLOOKUP($N22,$B$16:$B$335,1,FALSE)),"",VLOOKUP($N22,$B$16:$M$335,11,FALSE)) | R22: =IF(ISERROR(VLOOKUP($N22,$B$16:$B$335,1,FALSE)),"",VLOOKUP($N22,$B$16:$M$335,12,FALSE)) | AE22: =IF(ISNA(VLOOKUP(G36,BB:BC,2,0)),"",VLOOKUP(G36,BB:BC,2,0)) | AF22: =I36 -> 0 | AG22: =IF(J36=0,"",J36) | AH22: =K36 -> 0 | AI22: =L36 -> 0 | AJ22: =M36 -> 0 | AK22: =IF(VLOOKUP(G36,$O$16:$AB$30,14,0)="x","Igen",IF(VLOOKUP(G36,$O$16:$AB$30,7,0)="x","igen","nem")) -> #N/A | AL22: =IF(VLOOKUP(G36,$O$16:$AB$30,14,0)="x","Igen",IF(VLOOKUP(G36,$O$16:$AB$30,8,0)="x","igen","nem")) -> #N/A | AM22: =IF(VLOOKUP(G36,$O$16:$AB$30,14,0)="x","Igen",IF(VLOOKUP(G36,$O$16:$AB$30,9,0)="x","igen","nem")) -> #N/A | AN22: =IF(VLOOKUP(G36,$O$16:$AB$30,14,0)="x","Igen",IF(VLOOKUP(G36,$O$16:$AB$30,10,0)="x","igen","nem")) -> #N/A | AO22: =IF(VLOOKUP(G36,$O$16:$AB$30,14,0)="x","Igen",IF(VLOOKUP(G36,$O$16:$AB$30,11,0)="x","igen","nem")) -> #N/A | AP22: =IF(VLOOKUP(G36,$O$16:$AB$30,14,0)="x","Igen",IF(VLOOKUP(G36,$O$16:$AB$30,12,0)="x","igen","nem")) -> #N/A | AQ22: =IF(VLOOKUP(G36,$O$16:$AB$30,14,0)="x","Igen",IF(VLOOKUP(G36,$O$16:$AB$30,13,0)="x","igen","nem")) -> #N/A | AR22: =IF(AE22="",0,1) -> 0 | BA22: AGF21 | BB22: Bazsalikom | BC22: AGF21
B23: =IF(F23=0,0,IF(ISERROR(VLOOKUP(C23,C$15:C22,1,FALSE)),1,0))+B22 -> 0 | C23: =G23&"_"&L23&"_"&M23 -> __ | D23: 8 | F23: =IF(ISERROR(VLOOKUP(G23,seged!$B$2:$C$330,2,FALSE)),0,VLOOKUP(G23,seged!$B$2:$C$330,2,FALSE)) -> 0 | N23: 8 | O23: =IF(ISERROR(VLOOKUP($N23,$B$16:$B$335,1,FALSE)),"",VLOOKUP($N23,$B$16:$M$335,6,FALSE)) | P23: =SUMIF($C$16:$C$335,O23&"_"&IF(Q23=0,"",Q23)&"_"&IF(R23=0,"",R23),$K$16:$K$335) -> 0 | Q23: =IF(ISERROR(VLOOKUP($N23,$B$16:$B$335,1,FALSE)),"",VLOOKUP($N23,$B$16:$M$335,11,FALSE)) | R23: =IF(ISERROR(VLOOKUP($N23,$B$16:$B$335,1,FALSE)),"",VLOOKUP($N23,$B$16:$M$335,12,FALSE)) | AE23: =IF(ISNA(VLOOKUP(G37,BB:BC,2,0)),"",VLOOKUP(G37,BB:BC,2,0)) | AF23: =I37 -> 0 | AG23: =IF(J37=0,"",J37) | AH23: =K37 -> 0 | AI23: =L37 -> 0 | AJ23: =M37 -> 0 | AK23: =IF(VLOOKUP(G37,$O$16:$AB$30,14,0)="x","Igen",IF(VLOOKUP(G37,$O$16:$AB$30,7,0)="x","igen","nem")) -> #N/A | AL23: =IF(VLOOKUP(G37,$O$16:$AB$30,14,0)="x","Igen",IF(VLOOKUP(G37,$O$16:$AB$30,8,0)="x","igen","nem")) -> #N/A | AM23: =IF(VLOOKUP(G37,$O$16:$AB$30,14,0)="x","Igen",IF(VLOOKUP(G37,$O$16:$AB$30,9,0)="x","igen","nem")) -> #N/A | AN23: =IF(VLOOKUP(G37,$O$16:$AB$30,14,0)="x","Igen",IF(VLOOKUP(G37,$O$16:$AB$30,10,0)="x","igen","nem")) -> #N/A | AO23: =IF(VLOOKUP(G37,$O$16:$AB$30,14,0)="x","Igen",IF(VLOOKUP(G37,$O$16:$AB$30,11,0)="x","igen","nem")) -> #N/A | AP23: =IF(VLOOKUP(G37,$O$16:$AB$30,14,0)="x","Igen",IF(VLOOKUP(G37,$O$16:$AB$30,12,0)="x","igen","nem")) -> #N/A | AQ23: =IF(VLOOKUP(G37,$O$16:$AB$30,14,0)="x","Igen",IF(VLOOKUP(G37,$O$16:$AB$30,13,0)="x","igen","nem")) -> #N/A | AR23: =IF(AE23="",0,1) -> 0 | BA23: FRU18 | BB23: Berkenye | BC23: FRU18
B24: =IF(F24=0,0,IF(ISERROR(VLOOKUP(C24,C$15:C23,1,FALSE)),1,0))+B23 -> 0 | C24: =G24&"_"&L24&"_"&M24 -> __ | D24: 9 | F24: =IF(ISERROR(VLOOKUP(G24,seged!$B$2:$C$330,2,FALSE)),0,VLOOKUP(G24,seged!$B$2:$C$330,2,FALSE)) -> 0 | N24: 9 | O24: =IF(ISERROR(VLOOKUP($N24,$B$16:$B$335,1,FALSE)),"",VLOOKUP($N24,$B$16:$M$335,6,FALSE)) | P24: =SUMIF($C$16:$C$335,O24&"_"&IF(Q24=0,"",Q24)&"_"&IF(R24=0,"",R24),$K$16:$K$335) -> 0 | Q24: =IF(ISERROR(VLOOKUP($N24,$B$16:$B$335,1,FALSE)),"",VLOOKUP($N24,$B$16:$M$335,11,FALSE)) | R24: =IF(ISERROR(VLOOKUP($N24,$B$16:$B$335,1,FALSE)),"",VLOOKUP($N24,$B$16:$M$335,12,FALSE)) | AE24: =IF(ISNA(VLOOKUP(G38,BB:BC,2,0)),"",VLOOKUP(G38,BB:BC,2,0)) | AF24: =I38 -> 0 | AG24: =IF(J38=0,"",J38) | AH24: =K38 -> 0 | AI24: =L38 -> 0 | AJ24: =M38 -> 0 | AK24: =IF(VLOOKUP(G38,$O$16:$AB$30,14,0)="x","Igen",IF(VLOOKUP(G38,$O$16:$AB$30,7,0)="x","igen","nem")) -> #N/A | AL24: =IF(VLOOKUP(G38,$O$16:$AB$30,14,0)="x","Igen",IF(VLOOKUP(G38,$O$16:$AB$30,8,0)="x","igen","nem")) -> #N/A | AM24: =IF(VLOOKUP(G38,$O$16:$AB$30,14,0)="x","Igen",IF(VLOOKUP(G38,$O$16:$AB$30,9,0)="x","igen","nem")) -> #N/A | AN24: =IF(VLOOKUP(G38,$O$16:$AB$30,14,0)="x","Igen",IF(VLOOKUP(G38,$O$16:$AB$30,10,0)="x","igen","nem")) -> #N/A | AO24: =IF(VLOOKUP(G38,$O$16:$AB$30,14,0)="x","Igen",IF(VLOOKUP(G38,$O$16:$AB$30,11,0)="x","igen","nem")) -> #N/A | AP24: =IF(VLOOKUP(G38,$O$16:$AB$30,14,0)="x","Igen",IF(VLOOKUP(G38,$O$16:$AB$30,12,0)="x","igen","nem")) -> #N/A | AQ24: =IF(VLOOKUP(G38,$O$16:$AB$30,14,0)="x","Igen",IF(VLOOKUP(G38,$O$16:$AB$30,13,0)="x","igen","nem")) -> #N/A | AR24: =IF(AE24="",0,1) -> 0 | BA24: AGF39 | BB24: Bíbor kasvirág (Echinacea) | BC24: AGF39
B25: =IF(F25=0,0,IF(ISERROR(VLOOKUP(C25,C$15:C24,1,FALSE)),1,0))+B24 -> 0 | C25: =G25&"_"&L25&"_"&M25 -> __ | D25: 10 | F25: =IF(ISERROR(VLOOKUP(G25,seged!$B$2:$C$330,2,FALSE)),0,VLOOKUP(G25,seged!$B$2:$C$330,2,FALSE)) -> 0 | N25: 10 | O25: =IF(ISERROR(VLOOKUP($N25,$B$16:$B$335,1,FALSE)),"",VLOOKUP($N25,$B$16:$M$335,6,FALSE)) | P25: =SUMIF($C$16:$C$335,O25&"_"&IF(Q25=0,"",Q25)&"_"&IF(R25=0,"",R25),$K$16:$K$335) -> 0 | Q25: =IF(ISERROR(VLOOKUP($N25,$B$16:$B$335,1,FALSE)),"",VLOOKUP($N25,$B$16:$M$335,11,FALSE)) | R25: =IF(ISERROR(VLOOKUP($N25,$B$16:$B$335,1,FALSE)),"",VLOOKUP($N25,$B$16:$M$335,12,FALSE)) | AE25: =IF(ISNA(VLOOKUP(G39,BB:BC,2,0)),"",VLOOKUP(G39,BB:BC,2,0)) | AF25: =I39 -> 0 | AG25: =IF(J39=0,"",J39) | AH25: =K39 -> 0 | AI25: =L39 -> 0 | AJ25: =M39 -> 0 | AK25: =IF(VLOOKUP(G39,$O$16:$AB$30,14,0)="x","Igen",IF(VLOOKUP(G39,$O$16:$AB$30,7,0)="x","igen","nem")) -> #N/A | AL25: =IF(VLOOKUP(G39,$O$16:$AB$30,14,0)="x","Igen",IF(VLOOKUP(G39,$O$16:$AB$30,8,0)="x","igen","nem")) -> #N/A | AM25: =IF(VLOOKUP(G39,$O$16:$AB$30,14,0)="x","Igen",IF(VLOOKUP(G39,$O$16:$AB$30,9,0)="x","igen","nem")) -> #N/A | AN25: =IF(VLOOKUP(G39,$O$16:$AB$30,14,0)="x","Igen",IF(VLOOKUP(G39,$O$16:$AB$30,10,0)="x","igen","nem")) -> #N/A | AO25: =IF(VLOOKUP(G39,$O$16:$AB$30,14,0)="x","Igen",IF(VLOOKUP(G39,$O$16:$AB$30,11,0)="x","igen","nem")) -> #N/A | AP25: =IF(VLOOKUP(G39,$O$16:$AB$30,14,0)="x","Igen",IF(VLOOKUP(G39,$O$16:$AB$30,12,0)="x","igen","nem")) -> #N/A | AQ25: =IF(VLOOKUP(G39,$O$16:$AB$30,14,0)="x","Igen",IF(VLOOKUP(G39,$O$16:$AB$30,13,0)="x","igen","nem")) -> #N/A | AR25: =IF(AE25="",0,1) -> 0 | BA25: FOR10 | BB25: Bíborhere | BC25: FOR10
B26: =IF(F26=0,0,IF(ISERROR(VLOOKUP(C26,C$15:C25,1,FALSE)),1,0))+B25 -> 0 | C26: =G26&"_"&L26&"_"&M26 -> __ | D26: 11 | F26: =IF(ISERROR(VLOOKUP(G26,seged!$B$2:$C$330,2,FALSE)),0,VLOOKUP(G26,seged!$B$2:$C$330,2,FALSE)) -> 0 | N26: 11 | O26: =IF(ISERROR(VLOOKUP($N26,$B$16:$B$335,1,FALSE)),"",VLOOKUP($N26,$B$16:$M$335,6,FALSE)) | P26: =SUMIF($C$16:$C$335,O26&"_"&IF(Q26=0,"",Q26)&"_"&IF(R26=0,"",R26),$K$16:$K$335) -> 0 | Q26: =IF(ISERROR(VLOOKUP($N26,$B$16:$B$335,1,FALSE)),"",VLOOKUP($N26,$B$16:$M$335,11,FALSE)) | R26: =IF(ISERROR(VLOOKUP($N26,$B$16:$B$335,1,FALSE)),"",VLOOKUP($N26,$B$16:$M$335,12,FALSE)) | AE26: =IF(ISNA(VLOOKUP(G40,BB:BC,2,0)),"",VLOOKUP(G40,BB:BC,2,0)) | AF26: =I40 -> 0 | AG26: =IF(J40=0,"",J40) | AH26: =K40 -> 0 | AI26: =L40 -> 0 | AJ26: =M40 -> 0 | AK26: =IF(VLOOKUP(G40,$O$16:$AB$30,14,0)="x","Igen",IF(VLOOKUP(G40,$O$16:$AB$30,7,0)="x","igen","nem")) -> #N/A | AL26: =IF(VLOOKUP(G40,$O$16:$AB$30,14,0)="x","Igen",IF(VLOOKUP(G40,$O$16:$AB$30,8,0)="x","igen","nem")) -> #N/A | AM26: =IF(VLOOKUP(G40,$O$16:$AB$30,14,0)="x","Igen",IF(VLOOKUP(G40,$O$16:$AB$30,9,0)="x","igen","nem")) -> #N/A | AN26: =IF(VLOOKUP(G40,$O$16:$AB$30,14,0)="x","Igen",IF(VLOOKUP(G40,$O$16:$AB$30,10,0)="x","igen","nem")) -> #N/A | AO26: =IF(VLOOKUP(G40,$O$16:$AB$30,14,0)="x","Igen",IF(VLOOKUP(G40,$O$16:$AB$30,11,0)="x","igen","nem")) -> #N/A | AP26: =IF(VLOOKUP(G40,$O$16:$AB$30,14,0)="x","Igen",IF(VLOOKUP(G40,$O$16:$AB$30,12,0)="x","igen","nem")) -> #N/A | AQ26: =IF(VLOOKUP(G40,$O$16:$AB$30,14,0)="x","Igen",IF(VLOOKUP(G40,$O$16:$AB$30,13,0)="x","igen","nem")) -> #N/A | AR26: =IF(AE26="",0,1) -> 0 | BA26: VEG03 | BB26: Bimbóskel | BC26: VEG03
B27: =IF(F27=0,0,IF(ISERROR(VLOOKUP(C27,C$15:C26,1,FALSE)),1,0))+B26 -> 0 | C27: =G27&"_"&L27&"_"&M27 -> __ | D27: 12 | F27: =IF(ISERROR(VLOOKUP(G27,seged!$B$2:$C$330,2,FALSE)),0,VLOOKUP(G27,seged!$B$2:$C$330,2,FALSE)) -> 0 | N27: 12 | O27: =IF(ISERROR(VLOOKUP($N27,$B$16:$B$335,1,FALSE)),"",VLOOKUP($N27,$B$16:$M$335,6,FALSE)) | P27: =SUMIF($C$16:$C$335,O27&"_"&IF(Q27=0,"",Q27)&"_"&IF(R27=0,"",R27),$K$16:$K$335) -> 0 | Q27: =IF(ISERROR(VLOOKUP($N27,$B$16:$B$335,1,FALSE)),"",VLOOKUP($N27,$B$16:$M$335,11,FALSE)) | R27: =IF(ISERROR(VLOOKUP($N27,$B$16:$B$335,1,FALSE)),"",VLOOKUP($N27,$B$16:$M$335,12,FALSE)) | AE27: =IF(ISNA(VLOOKUP(G41,BB:BC,2,0)),"",VLOOKUP(G41,BB:BC,2,0)) | AF27: =I41 -> 0 | AG27: =IF(J41=0,"",J41) | AH27: =K41 -> 0 | AI27: =L41 -> 0 | AJ27: =M41 -> 0 | AK27: =IF(VLOOKUP(G41,$O$16:$AB$30,14,0)="x","Igen",IF(VLOOKUP(G41,$O$16:$AB$30,7,0)="x","igen","nem")) -> #N/A | AL27: =IF(VLOOKUP(G41,$O$16:$AB$30,14,0)="x","Igen",IF(VLOOKUP(G41,$O$16:$AB$30,8,0)="x","igen","nem")) -> #N/A | AM27: =IF(VLOOKUP(G41,$O$16:$AB$30,14,0)="x","Igen",IF(VLOOKUP(G41,$O$16:$AB$30,9,0)="x","igen","nem")) -> #N/A | AN27: =IF(VLOOKUP(G41,$O$16:$AB$30,14,0)="x","Igen",IF(VLOOKUP(G41,$O$16:$AB$30,10,0)="x","igen","nem")) -> #N/A | AO27: =IF(VLOOKUP(G41,$O$16:$AB$30,14,0)="x","Igen",IF(VLOOKUP(G41,$O$16:$AB$30,11,0)="x","igen","nem")) -> #N/A | AP27: =IF(VLOOKUP(G41,$O$16:$AB$30,14,0)="x","Igen",IF(VLOOKUP(G41,$O$16:$AB$30,12,0)="x","igen","nem")) -> #N/A | AQ27: =IF(VLOOKUP(G41,$O$16:$AB$30,14,0)="x","Igen",IF(VLOOKUP(G41,$O$16:$AB$30,13,0)="x","igen","nem")) -> #N/A | AR27: =IF(AE27="",0,1) -> 0 | BA27: ULT18 | BB27: Birs | BC27: ULT18
B28: =IF(F28=0,0,IF(ISERROR(VLOOKUP(C28,C$15:C27,1,FALSE)),1,0))+B27 -> 0 | C28: =G28&"_"&L28&"_"&M28 -> __ | D28: 13 | F28: =IF(ISERROR(VLOOKUP(G28,seged!$B$2:$C$330,2,FALSE)),0,VLOOKUP(G28,seged!$B$2:$C$330,2,FALSE)) -> 0 | N28: 13 | O28: =IF(ISERROR(VLOOKUP($N28,$B$16:$B$335,1,FALSE)),"",VLOOKUP($N28,$B$16:$M$335,6,FALSE)) | P28: =SUMIF($C$16:$C$335,O28&"_"&IF(Q28=0,"",Q28)&"_"&IF(R28=0,"",R28),$K$16:$K$335) -> 0 | Q28: =IF(ISERROR(VLOOKUP($N28,$B$16:$B$335,1,FALSE)),"",VLOOKUP($N28,$B$16:$M$335,11,FALSE)) | R28: =IF(ISERROR(VLOOKUP($N28,$B$16:$B$335,1,FALSE)),"",VLOOKUP($N28,$B$16:$M$335,12,FALSE)) | AE28: =IF(ISNA(VLOOKUP(G42,BB:BC,2,0)),"",VLOOKUP(G42,BB:BC,2,0)) | AF28: =I42 -> 0 | AG28: =IF(J42=0,"",J42) | AH28: =K42 -> 0 | AI28: =L42 -> 0 | AJ28: =M42 -> 0 | AK28: =IF(VLOOKUP(G42,$O$16:$AB$30,14,0)="x","Igen",IF(VLOOKUP(G42,$O$16:$AB$30,7,0)="x","igen","nem")) -> #N/A | AL28: =IF(VLOOKUP(G42,$O$16:$AB$30,14,0)="x","Igen",IF(VLOOKUP(G42,$O$16:$AB$30,8,0)="x","igen","nem")) -> #N/A | AM28: =IF(VLOOKUP(G42,$O$16:$AB$30,14,0)="x","Igen",IF(VLOOKUP(G42,$O$16:$AB$30,9,0)="x","igen","nem")) -> #N/A | AN28: =IF(VLOOKUP(G42,$O$16:$AB$30,14,0)="x","Igen",IF(VLOOKUP(G42,$O$16:$AB$30,10,0)="x","igen","nem")) -> #N/A | AO28: =IF(VLOOKUP(G42,$O$16:$AB$30,14,0)="x","Igen",IF(VLOOKUP(G42,$O$16:$AB$30,11,0)="x","igen","nem")) -> #N/A | AP28: =IF(VLOOKUP(G42,$O$16:$AB$30,14,0)="x","Igen",IF(VLOOKUP(G42,$O$16:$AB$30,12,0)="x","igen","nem")) -> #N/A | AQ28: =IF(VLOOKUP(G42,$O$16:$AB$30,14,0)="x","Igen",IF(VLOOKUP(G42,$O$16:$AB$30,13,0)="x","igen","nem")) -> #N/A | AR28: =IF(AE28="",0,1) -> 0 | BA28: AGF44 | BB28: Borágó | BC28: AGF44
B29: =IF(F29=0,0,IF(ISERROR(VLOOKUP(C29,C$15:C28,1,FALSE)),1,0))+B28 -> 0 | C29: =G29&"_"&L29&"_"&M29 -> __ | D29: 14 | F29: =IF(ISERROR(VLOOKUP(G29,seged!$B$2:$C$330,2,FALSE)),0,VLOOKUP(G29,seged!$B$2:$C$330,2,FALSE)) -> 0 | N29: 14 | O29: =IF(ISERROR(VLOOKUP($N29,$B$16:$B$335,1,FALSE)),"",VLOOKUP($N29,$B$16:$M$335,6,FALSE)) | P29: =SUMIF($C$16:$C$335,O29&"_"&IF(Q29=0,"",Q29)&"_"&IF(R29=0,"",R29),$K$16:$K$335) -> 0 | Q29: =IF(ISERROR(VLOOKUP($N29,$B$16:$B$335,1,FALSE)),"",VLOOKUP($N29,$B$16:$M$335,11,FALSE)) | R29: =IF(ISERROR(VLOOKUP($N29,$B$16:$B$335,1,FALSE)),"",VLOOKUP($N29,$B$16:$M$335,12,FALSE)) | AE29: =IF(ISNA(VLOOKUP(G43,BB:BC,2,0)),"",VLOOKUP(G43,BB:BC,2,0)) | AF29: =I43 -> 0 | AG29: =IF(J43=0,"",J43) | AH29: =K43 -> 0 | AI29: =L43 -> 0 | AJ29: =M43 -> 0 | AK29: =IF(VLOOKUP(G43,$O$16:$AB$30,14,0)="x","Igen",IF(VLOOKUP(G43,$O$16:$AB$30,7,0)="x","igen","nem")) -> #N/A | AL29: =IF(VLOOKUP(G43,$O$16:$AB$30,14,0)="x","Igen",IF(VLOOKUP(G43,$O$16:$AB$30,8,0)="x","igen","nem")) -> #N/A | AM29: =IF(VLOOKUP(G43,$O$16:$AB$30,14,0)="x","Igen",IF(VLOOKUP(G43,$O$16:$AB$30,9,0)="x","igen","nem")) -> #N/A | AN29: =IF(VLOOKUP(G43,$O$16:$AB$30,14,0)="x","Igen",IF(VLOOKUP(G43,$O$16:$AB$30,10,0)="x","igen","nem")) -> #N/A | AO29: =IF(VLOOKUP(G43,$O$16:$AB$30,14,0)="x","Igen",IF(VLOOKUP(G43,$O$16:$AB$30,11,0)="x","igen","nem")) -> #N/A | AP29: =IF(VLOOKUP(G43,$O$16:$AB$30,14,0)="x","Igen",IF(VLOOKUP(G43,$O$16:$AB$30,12,0)="x","igen","nem")) -> #N/A | AQ29: =IF(VLOOKUP(G43,$O$16:$AB$30,14,0)="x","Igen",IF(VLOOKUP(G43,$O$16:$AB$30,13,0)="x","igen","nem")) -> #N/A | AR29: =IF(AE29="",0,1) -> 0 | BA29: AGF29 | BB29: Borsikafű | BC29: AGF29
B30: =IF(F30=0,0,IF(ISERROR(VLOOKUP(C30,C$15:C29,1,FALSE)),1,0))+B29 -> 0 | C30: =G30&"_"&L30&"_"&M30 -> __ | D30: 15 | N30: 15 | O30: =IF(ISERROR(VLOOKUP($N30,$B$16:$B$335,1,FALSE)),"",VLOOKUP($N30,$B$16:$M$335,5,FALSE)) | P30: =SUMIF($C$16:$C$335,O30&"_"&IF(Q30=0,"",Q30)&"_"&IF(R30=0,"",R30),$K$16:$K$335) -> 0 | Q30: =IF(ISERROR(VLOOKUP($N30,$B$16:$B$335,1,FALSE)),"",VLOOKUP($N30,$B$16:$M$335,11,FALSE)) | R30: =IF(ISERROR(VLOOKUP($N30,$B$16:$B$335,1,FALSE)),"",VLOOKUP($N30,$B$16:$M$335,12,FALSE)) | AE30: =IF(ISNA(VLOOKUP(G44,BB:BC,2,0)),"",VLOOKUP(G44,BB:BC,2,0)) | AF30: =I44 -> 0 | AG30: =IF(J44=0,"",J44) | AH30: =K44 -> 0 | AI30: =L44 -> 0 | AJ30: =M44 -> 0 | AK30: =IF(VLOOKUP(G44,$O$16:$AB$30,14,0)="x","Igen",IF(VLOOKUP(G44,$O$16:$AB$30,7,0)="x","igen","nem")) -> #N/A | AL30: =IF(VLOOKUP(G44,$O$16:$AB$30,14,0)="x","Igen",IF(VLOOKUP(G44,$O$16:$AB$30,8,0)="x","igen","nem")) -> #N/A | AM30: =IF(VLOOKUP(G44,$O$16:$AB$30,14,0)="x","Igen",IF(VLOOKUP(G44,$O$16:$AB$30,9,0)="x","igen","nem")) -> #N/A | AN30: =IF(VLOOKUP(G44,$O$16:$AB$30,14,0)="x","Igen",IF(VLOOKUP(G44,$O$16:$AB$30,10,0)="x","igen","nem")) -> #N/A | AO30: =IF(VLOOKUP(G44,$O$16:$AB$30,14,0)="x","Igen",IF(VLOOKUP(G44,$O$16:$AB$30,11,0)="x","igen","nem")) -> #N/A | AP30: =IF(VLOOKUP(G44,$O$16:$AB$30,14,0)="x","Igen",IF(VLOOKUP(G44,$O$16:$AB$30,12,0)="x","igen","nem")) -> #N/A | AQ30: =IF(VLOOKUP(G44,$O$16:$AB$30,14,0)="x","Igen",IF(VLOOKUP(G44,$O$16:$AB$30,13,0)="x","igen","nem")) -> #N/A | AR30: =IF(AE30="",0,1) -> 0 | BA30: VEG55 | BB30: Borsmustár (rukkola) | BC30: VEG55
B31: =IF(F31=0,0,IF(ISERROR(VLOOKUP(C31,C$15:C30,1,FALSE)),1,0))+B30 -> 0 | C31: =G31&"_"&L31&"_"&M31 -> __ | D31: 16 | F31: =IF(ISERROR(VLOOKUP(G31,seged!$B$2:$C$330,2,FALSE)),0,VLOOKUP(G31,seged!$B$2:$C$330,2,FALSE)) -> 0 | AE31: =IF(ISNA(VLOOKUP(G45,BB:BC,2,0)),"",VLOOKUP(G45,BB:BC,2,0)) | AF31: =I45 -> 0 | AG31: =IF(J45=0,"",J45) | AH31: =K45 -> 0 | AI31: =L45 -> 0 | AJ31: =M45 -> 0 | AK31: =IF(VLOOKUP(G45,$O$16:$AB$30,14,0)="x","Igen",IF(VLOOKUP(G45,$O$16:$AB$30,7,0)="x","igen","nem")) -> #N/A | AL31: =IF(VLOOKUP(G45,$O$16:$AB$30,14,0)="x","Igen",IF(VLOOKUP(G45,$O$16:$AB$30,8,0)="x","igen","nem")) -> #N/A | AM31: =IF(VLOOKUP(G45,$O$16:$AB$30,14,0)="x","Igen",IF(VLOOKUP(G45,$O$16:$AB$30,9,0)="x","igen","nem")) -> #N/A | AN31: =IF(VLOOKUP(G45,$O$16:$AB$30,14,0)="x","Igen",IF(VLOOKUP(G45,$O$16:$AB$30,10,0)="x","igen","nem")) -> #N/A | AO31: =IF(VLOOKUP(G45,$O$16:$AB$30,14,0)="x","Igen",IF(VLOOKUP(G45,$O$16:$AB$30,11,0)="x","igen","nem")) -> #N/A | AP31: =IF(VLOOKUP(G45,$O$16:$AB$30,14,0)="x","Igen",IF(VLOOKUP(G45,$O$16:$AB$30,12,0)="x","igen","nem")) -> #N/A | AQ31: =IF(VLOOKUP(G45,$O$16:$AB$30,14,0)="x","Igen",IF(VLOOKUP(G45,$O$16:$AB$30,13,0)="x","igen","nem")) -> #N/A | AR31: =IF(AE31="",0,1) -> 0 | BA31: FOR52 | BB31: Borsós kukoricacsalamádé | BC31: FOR52
B32: =IF(F32=0,0,IF(ISERROR(VLOOKUP(C32,C$15:C31,1,FALSE)),1,0))+B31 -> 0 | C32: =G32&"_"&L32&"_"&M32 -> __ | D32: 17 | F32: =IF(ISERROR(VLOOKUP(G32,seged!$B$2:$C$330,2,FALSE)),0,VLOOKUP(G32,seged!$B$2:$C$330,2,FALSE)) -> 0 | AE32: =IF(ISNA(VLOOKUP(G46,BB:BC,2,0)),"",VLOOKUP(G46,BB:BC,2,0)) | AF32: =I46 -> 0 | AG32: =IF(J46=0,"",J46) | AH32: =K46 -> 0 | AI32: =L46 -> 0 | AJ32: =M46 -> 0 | AK32: =IF(VLOOKUP(G46,$O$16:$AB$30,14,0)="x","Igen",IF(VLOOKUP(G46,$O$16:$AB$30,7,0)="x","igen","nem")) -> #N/A | AL32: =IF(VLOOKUP(G46,$O$16:$AB$30,14,0)="x","Igen",IF(VLOOKUP(G46,$O$16:$AB$30,8,0)="x","igen","nem")) -> #N/A | AM32: =IF(VLOOKUP(G46,$O$16:$AB$30,14,0)="x","Igen",IF(VLOOKUP(G46,$O$16:$AB$30,9,0)="x","igen","nem")) -> #N/A | AN32: =IF(VLOOKUP(G46,$O$16:$AB$30,14,0)="x","Igen",IF(VLOOKUP(G46,$O$16:$AB$30,10,0)="x","igen","nem")) -> #N/A | AO32: =IF(VLOOKUP(G46,$O$16:$AB$30,14,0)="x","Igen",IF(VLOOKUP(G46,$O$16:$AB$30,11,0)="x","igen","nem")) -> #N/A | AP32: =IF(VLOOKUP(G46,$O$16:$AB$30,14,0)="x","Igen",IF(VLOOKUP(G46,$O$16:$AB$30,12,0)="x","igen","nem")) -> #N/A | AQ32: =IF(VLOOKUP(G46,$O$16:$AB$30,14,0)="x","Igen",IF(VLOOKUP(G46,$O$16:$AB$30,13,0)="x","igen","nem")) -> #N/A | AR32: =IF(AE32="",0,1) -> 0 | BA32: FOR53 | BB32: Borsós napraforgó-csalamádé | BC32: FOR53
B33: =IF(F33=0,0,IF(ISERROR(VLOOKUP(C33,C$15:C32,1,FALSE)),1,0))+B32 -> 0 | C33: =G33&"_"&L33&"_"&M33 -> __ | D33: 18 | F33: =IF(ISERROR(VLOOKUP(G33,seged!$B$2:$C$330,2,FALSE)),0,VLOOKUP(G33,seged!$B$2:$C$330,2,FALSE)) -> 0 | AE33: =IF(ISNA(VLOOKUP(G47,BB:BC,2,0)),"",VLOOKUP(G47,BB:BC,2,0)) | AF33: =I47 -> 0 | AG33: =IF(J47=0,"",J47) | AH33: =K47 -> 0 | AI33: =L47 -> 0 | AJ33: =M47 -> 0 | AK33: =IF(VLOOKUP(G47,$O$16:$AB$30,14,0)="x","Igen",IF(VLOOKUP(G47,$O$16:$AB$30,7,0)="x","igen","nem")) -> #N/A | AL33: =IF(VLOOKUP(G47,$O$16:$AB$30,14,0)="x","Igen",IF(VLOOKUP(G47,$O$16:$AB$30,8,0)="x","igen","nem")) -> #N/A | AM33: =IF(VLOOKUP(G47,$O$16:$AB$30,14,0)="x","Igen",IF(VLOOKUP(G47,$O$16:$AB$30,9,0)="x","igen","nem")) -> #N/A | AN33: =IF(VLOOKUP(G47,$O$16:$AB$30,14,0)="x","Igen",IF(VLOOKUP(G47,$O$16:$AB$30,10,0)="x","igen","nem")) -> #N/A | AO33: =IF(VLOOKUP(G47,$O$16:$AB$30,14,0)="x","Igen",IF(VLOOKUP(G47,$O$16:$AB$30,11,0)="x","igen","nem")) -> #N/A | AP33: =IF(VLOOKUP(G47,$O$16:$AB$30,14,0)="x","Igen",IF(VLOOKUP(G47,$O$16:$AB$30,12,0)="x","igen","nem")) -> #N/A | AQ33: =IF(VLOOKUP(G47,$O$16:$AB$30,14,0)="x","Igen",IF(VLOOKUP(G47,$O$16:$AB$30,13,0)="x","igen","nem")) -> #N/A | AR33: =IF(AE33="",0,1) -> 0 | BA33: VEG02 | BB33: Brokkoli | BC33: VEG02
B34: =IF(F34=0,0,IF(ISERROR(VLOOKUP(C34,C$15:C33,1,FALSE)),1,0))+B33 -> 0 | C34: =G34&"_"&L34&"_"&M34 -> __ | D34: 19 | F34: =IF(ISERROR(VLOOKUP(G34,seged!$B$2:$C$330,2,FALSE)),0,VLOOKUP(G34,seged!$B$2:$C$330,2,FALSE)) -> 0 | AE34: =IF(ISNA(VLOOKUP(G48,BB:BC,2,0)),"",VLOOKUP(G48,BB:BC,2,0)) | AF34: =I48 -> 0 | AG34: =IF(J48=0,"",J48) | AH34: =K48 -> 0 | AI34: =L48 -> 0 | AJ34: =M48 -> 0 | AK34: =IF(VLOOKUP(G48,$O$16:$AB$30,14,0)="x","Igen",IF(VLOOKUP(G48,$O$16:$AB$30,7,0)="x","igen","nem")) -> #N/A | AL34: =IF(VLOOKUP(G48,$O$16:$AB$30,14,0)="x","Igen",IF(VLOOKUP(G48,$O$16:$AB$30,8,0)="x","igen","nem")) -> #N/A | AM34: =IF(VLOOKUP(G48,$O$16:$AB$30,14,0)="x","Igen",IF(VLOOKUP(G48,$O$16:$AB$30,9,0)="x","igen","nem")) -> #N/A | AN34: =IF(VLOOKUP(G48,$O$16:$AB$30,14,0)="x","Igen",IF(VLOOKUP(G48,$O$16:$AB$30,10,0)="x","igen","nem")) -> #N/A | AO34: =IF(VLOOKUP(G48,$O$16:$AB$30,14,0)="x","Igen",IF(VLOOKUP(G48,$O$16:$AB$30,11,0)="x","igen","nem")) -> #N/A | AP34: =IF(VLOOKUP(G48,$O$16:$AB$30,14,0)="x","Igen",IF(VLOOKUP(G48,$O$16:$AB$30,12,0)="x","igen","nem")) -> #N/A | AQ34: =IF(VLOOKUP(G48,$O$16:$AB$30,14,0)="x","Igen",IF(VLOOKUP(G48,$O$16:$AB$30,13,0)="x","igen","nem")) -> #N/A | AR34: =IF(AE34="",0,1) -> 0 | BA34: BUR01 | BB34: Burgonya | BC34: BUR01
B35: =IF(F35=0,0,IF(ISERROR(VLOOKUP(C35,C$15:C34,1,FALSE)),1,0))+B34 -> 0 | C35: =G35&"_"&L35&"_"&M35 -> __ | D35: 20 | F35: =IF(ISERROR(VLOOKUP(G35,seged!$B$2:$C$330,2,FALSE)),0,VLOOKUP(G35,seged!$B$2:$C$330,2,FALSE)) -> 0 | AE35: =IF(ISNA(VLOOKUP(G49,BB:BC,2,0)),"",VLOOKUP(G49,BB:BC,2,0)) | AF35: =I49 -> 0 | AG35: =IF(J49=0,"",J49) | AH35: =K49 -> 0 | AI35: =L49 -> 0 | AJ35: =M49 -> 0 | AK35: =IF(VLOOKUP(G49,$O$16:$AB$30,14,0)="x","Igen",IF(VLOOKUP(G49,$O$16:$AB$30,7,0)="x","igen","nem")) -> #N/A | AL35: =IF(VLOOKUP(G49,$O$16:$AB$30,14,0)="x","Igen",IF(VLOOKUP(G49,$O$16:$AB$30,8,0)="x","igen","nem")) -> #N/A | AM35: =IF(VLOOKUP(G49,$O$16:$AB$30,14,0)="x","Igen",IF(VLOOKUP(G49,$O$16:$AB$30,9,0)="x","igen","nem")) -> #N/A | AN35: =IF(VLOOKUP(G49,$O$16:$AB$30,14,0)="x","Igen",IF(VLOOKUP(G49,$O$16:$AB$30,10,0)="x","igen","nem")) -> #N/A | AO35: =IF(VLOOKUP(G49,$O$16:$AB$30,14,0)="x","Igen",IF(VLOOKUP(G49,$O$16:$AB$30,11,0)="x","igen","nem")) -> #N/A | AP35: =IF(VLOOKUP(G49,$O$16:$AB$30,14,0)="x","Igen",IF(VLOOKUP(G49,$O$16:$AB$30,12,0)="x","igen","nem")) -> #N/A | AQ35: =IF(VLOOKUP(G49,$O$16:$AB$30,14,0)="x","Igen",IF(VLOOKUP(G49,$O$16:$AB$30,13,0)="x","igen","nem")) -> #N/A | AR35: =IF(AE35="",0,1) -> 0 | BA35: VEG46 | BB35: Cékla | BC35: VEG46
B36: =IF(F36=0,0,IF(ISERROR(VLOOKUP(C36,C$15:C35,1,FALSE)),1,0))+B35 -> 0 | C36: =G36&"_"&L36&"_"&M36 -> __ | D36: 21 | F36: =IF(ISERROR(VLOOKUP(G36,seged!$B$2:$C$330,2,FALSE)),0,VLOOKUP(G36,seged!$B$2:$C$330,2,FALSE)) -> 0 | AE36: =IF(ISNA(VLOOKUP(G50,BB:BC,2,0)),"",VLOOKUP(G50,BB:BC,2,0)) | AF36: =I50 -> 0 | AG36: =IF(J50=0,"",J50) | AH36: =K50 -> 0 | AI36: =L50 -> 0 | AJ36: =M50 -> 0 | AK36: =IF(VLOOKUP(G50,$O$16:$AB$30,14,0)="x","Igen",IF(VLOOKUP(G50,$O$16:$AB$30,7,0)="x","igen","nem")) -> #N/A | AL36: =IF(VLOOKUP(G50,$O$16:$AB$30,14,0)="x","Igen",IF(VLOOKUP(G50,$O$16:$AB$30,8,0)="x","igen","nem")) -> #N/A | AM36: =IF(VLOOKUP(G50,$O$16:$AB$30,14,0)="x","Igen",IF(VLOOKUP(G50,$O$16:$AB$30,9,0)="x","igen","nem")) -> #N/A | AN36: =IF(VLOOKUP(G50,$O$16:$AB$30,14,0)="x","Igen",IF(VLOOKUP(G50,$O$16:$AB$30,10,0)="x","igen","nem")) -> #N/A | AO36: =IF(VLOOKUP(G50,$O$16:$AB$30,14,0)="x","Igen",IF(VLOOKUP(G50,$O$16:$AB$30,11,0)="x","igen","nem")) -> #N/A | AP36: =IF(VLOOKUP(G50,$O$16:$AB$30,14,0)="x","Igen",IF(VLOOKUP(G50,$O$16:$AB$30,12,0)="x","igen","nem")) -> #N/A | AQ36: =IF(VLOOKUP(G50,$O$16:$AB$30,14,0)="x","Igen",IF(VLOOKUP(G50,$O$16:$AB$30,13,0)="x","igen","nem")) -> #N/A | AR36: =IF(AE36="",0,1) -> 0 | BA36: PAZ04 | BB36: Cérnatippan | BC36: PAZ04
B37: =IF(F37=0,0,IF(ISERROR(VLOOKUP(C37,C$15:C36,1,FALSE)),1,0))+B36 -> 0 | C37: =G37&"_"&L37&"_"&M37 -> __ | D37: 22 | F37: =IF(ISERROR(VLOOKUP(G37,seged!$B$2:$C$330,2,FALSE)),0,VLOOKUP(G37,seged!$B$2:$C$330,2,FALSE)) -> 0 | AE37: =IF(ISNA(VLOOKUP(G51,BB:BC,2,0)),"",VLOOKUP(G51,BB:BC,2,0)) | AF37: =I51 -> 0 | AG37: =IF(J51=0,"",J51) | AH37: =K51 -> 0 | AI37: =L51 -> 0 | AJ37: =M51 -> 0 | AK37: =IF(VLOOKUP(G51,$O$16:$AB$30,14,0)="x","Igen",IF(VLOOKUP(G51,$O$16:$AB$30,7,0)="x","igen","nem")) -> #N/A | AL37: =IF(VLOOKUP(G51,$O$16:$AB$30,14,0)="x","Igen",IF(VLOOKUP(G51,$O$16:$AB$30,8,0)="x","igen","nem")) -> #N/A | AM37: =IF(VLOOKUP(G51,$O$16:$AB$30,14,0)="x","Igen",IF(VLOOKUP(G51,$O$16:$AB$30,9,0)="x","igen","nem")) -> #N/A | AN37: =IF(VLOOKUP(G51,$O$16:$AB$30,14,0)="x","Igen",IF(VLOOKUP(G51,$O$16:$AB$30,10,0)="x","igen","nem")) -> #N/A | AO37: =IF(VLOOKUP(G51,$O$16:$AB$30,14,0)="x","Igen",IF(VLOOKUP(G51,$O$16:$AB$30,11,0)="x","igen","nem")) -> #N/A | AP37: =IF(VLOOKUP(G51,$O$16:$AB$30,14,0)="x","Igen",IF(VLOOKUP(G51,$O$16:$AB$30,12,0)="x","igen","nem")) -> #N/A | AQ37: =IF(VLOOKUP(G51,$O$16:$AB$30,14,0)="x","Igen",IF(VLOOKUP(G51,$O$16:$AB$30,13,0)="x","igen","nem")) -> #N/A | AR37: =IF(AE37="",0,1) -> 0 | BA37: AGF40 | BB37: Cickafark | BC37: AGF40
B38: =IF(F38=0,0,IF(ISERROR(VLOOKUP(C38,C$15:C37,1,FALSE)),1,0))+B37 -> 0 | C38: =G38&"_"&L38&"_"&M38 -> __ | D38: 23 | F38: =IF(ISERROR(VLOOKUP(G38,seged!$B$2:$C$330,2,FALSE)),0,VLOOKUP(G38,seged!$B$2:$C$330,2,FALSE)) -> 0 | AE38: =IF(ISNA(VLOOKUP(G52,BB:BC,2,0)),"",VLOOKUP(G52,BB:BC,2,0)) | AF38: =I52 -> 0 | AG38: =IF(J52=0,"",J52) | AH38: =K52 -> 0 | AI38: =L52 -> 0 | AJ38: =M52 -> 0 | AK38: =IF(VLOOKUP(G52,$O$16:$AB$30,14,0)="x","Igen",IF(VLOOKUP(G52,$O$16:$AB$30,7,0)="x","igen","nem")) -> #N/A | AL38: =IF(VLOOKUP(G52,$O$16:$AB$30,14,0)="x","Igen",IF(VLOOKUP(G52,$O$16:$AB$30,8,0)="x","igen","nem")) -> #N/A | AM38: =IF(VLOOKUP(G52,$O$16:$AB$30,14,0)="x","Igen",IF(VLOOKUP(G52,$O$16:$AB$30,9,0)="x","igen","nem")) -> #N/A | AN38: =IF(VLOOKUP(G52,$O$16:$AB$30,14,0)="x","Igen",IF(VLOOKUP(G52,$O$16:$AB$30,10,0)="x","igen","nem")) -> #N/A | AO38: =IF(VLOOKUP(G52,$O$16:$AB$30,14,0)="x","Igen",IF(VLOOKUP(G52,$O$16:$AB$30,11,0)="x","igen","nem")) -> #N/A | AP38: =IF(VLOOKUP(G52,$O$16:$AB$30,14,0)="x","Igen",IF(VLOOKUP(G52,$O$16:$AB$30,12,0)="x","igen","nem")) -> #N/A | AQ38: =IF(VLOOKUP(G52,$O$16:$AB$30,14,0)="x","Igen",IF(VLOOKUP(G52,$O$16:$AB$30,13,0)="x","igen","nem")) -> #N/A | AR38: =IF(AE38="",0,1) -> 0 | BA38: IND22 | BB38: Cikória | BC38: IND22
B39: =IF(F39=0,0,IF(ISERROR(VLOOKUP(C39,C$15:C38,1,FALSE)),1,0))+B38 -> 0 | C39: =G39&"_"&L39&"_"&M39 -> __ | D39: 24 | F39: =IF(ISERROR(VLOOKUP(G39,seged!$B$2:$C$330,2,FALSE)),0,VLOOKUP(G39,seged!$B$2:$C$330,2,FALSE)) -> 0 | AE39: =IF(ISNA(VLOOKUP(G53,BB:BC,2,0)),"",VLOOKUP(G53,BB:BC,2,0)) | AF39: =I53 -> 0 | AG39: =IF(J53=0,"",J53) | AH39: =K53 -> 0 | AI39: =L53 -> 0 | AJ39: =M53 -> 0 | AK39: =IF(VLOOKUP(G53,$O$16:$AB$30,14,0)="x","Igen",IF(VLOOKUP(G53,$O$16:$AB$30,7,0)="x","igen","nem")) -> #N/A | AL39: =IF(VLOOKUP(G53,$O$16:$AB$30,14,0)="x","Igen",IF(VLOOKUP(G53,$O$16:$AB$30,8,0)="x","igen","nem")) -> #N/A | AM39: =IF(VLOOKUP(G53,$O$16:$AB$30,14,0)="x","Igen",IF(VLOOKUP(G53,$O$16:$AB$30,9,0)="x","igen","nem")) -> #N/A | AN39: =IF(VLOOKUP(G53,$O$16:$AB$30,14,0)="x","Igen",IF(VLOOKUP(G53,$O$16:$AB$30,10,0)="x","igen","nem")) -> #N/A | AO39: =IF(VLOOKUP(G53,$O$16:$AB$30,14,0)="x","Igen",IF(VLOOKUP(G53,$O$16:$AB$30,11,0)="x","igen","nem")) -> #N/A | AP39: =IF(VLOOKUP(G53,$O$16:$AB$30,14,0)="x","Igen",IF(VLOOKUP(G53,$O$16:$AB$30,12,0)="x","igen","nem")) -> #N/A | AQ39: =IF(VLOOKUP(G53,$O$16:$AB$30,14,0)="x","Igen",IF(VLOOKUP(G53,$O$16:$AB$30,13,0)="x","igen","nem")) -> #N/A | AR39: =IF(AE39="",0,1) -> 0 | BA39: AGF20 | BB39: Citromfű | BC39: AGF20
B40: =IF(F40=0,0,IF(ISERROR(VLOOKUP(C40,C$15:C39,1,FALSE)),1,0))+B39 -> 0 | C40: =G40&"_"&L40&"_"&M40 -> __ | D40: 25 | F40: =IF(ISERROR(VLOOKUP(G40,seged!$B$2:$C$330,2,FALSE)),0,VLOOKUP(G40,seged!$B$2:$C$330,2,FALSE)) -> 0 | AE40: =IF(ISNA(VLOOKUP(G54,BB:BC,2,0)),"",VLOOKUP(G54,BB:BC,2,0)) | AF40: =I54 -> 0 | AG40: =IF(J54=0,"",J54) | AH40: =K54 -> 0 | AI40: =L54 -> 0 | AJ40: =M54 -> 0 | AK40: =IF(VLOOKUP(G54,$O$16:$AB$30,14,0)="x","Igen",IF(VLOOKUP(G54,$O$16:$AB$30,7,0)="x","igen","nem")) -> #N/A | AL40: =IF(VLOOKUP(G54,$O$16:$AB$30,14,0)="x","Igen",IF(VLOOKUP(G54,$O$16:$AB$30,8,0)="x","igen","nem")) -> #N/A | AM40: =IF(VLOOKUP(G54,$O$16:$AB$30,14,0)="x","Igen",IF(VLOOKUP(G54,$O$16:$AB$30,9,0)="x","igen","nem")) -> #N/A | AN40: =IF(VLOOKUP(G54,$O$16:$AB$30,14,0)="x","Igen",IF(VLOOKUP(G54,$O$16:$AB$30,10,0)="x","igen","nem")) -> #N/A | AO40: =IF(VLOOKUP(G54,$O$16:$AB$30,14,0)="x","Igen",IF(VLOOKUP(G54,$O$16:$AB$30,11,0)="x","igen","nem")) -> #N/A | AP40: =IF(VLOOKUP(G54,$O$16:$AB$30,14,0)="x","Igen",IF(VLOOKUP(G54,$O$16:$AB$30,12,0)="x","igen","nem")) -> #N/A | AQ40: =IF(VLOOKUP(G54,$O$16:$AB$30,14,0)="x","Igen",IF(VLOOKUP(G54,$O$16:$AB$30,13,0)="x","igen","nem")) -> #N/A | AR40: =IF(AE40="",0,1) -> 0 | BA40: VEG14 | BB40: Csemegehagyma | BC40: VEG14
B41: =IF(F41=0,0,IF(ISERROR(VLOOKUP(C41,C$15:C40,1,FALSE)),1,0))+B40 -> 0 | C41: =G41&"_"&L41&"_"&M41 -> __ | D41: 26 | F41: =IF(ISERROR(VLOOKUP(G41,seged!$B$2:$C$330,2,FALSE)),0,VLOOKUP(G41,seged!$B$2:$C$330,2,FALSE)) -> 0 | AE41: =IF(ISNA(VLOOKUP(G55,BB:BC,2,0)),"",VLOOKUP(G55,BB:BC,2,0)) | AF41: =I55 -> 0 | AG41: =IF(J55=0,"",J55) | AH41: =K55 -> 0 | AI41: =L55 -> 0 | AJ41: =M55 -> 0 | AK41: =IF(VLOOKUP(G55,$O$16:$AB$30,14,0)="x","Igen",IF(VLOOKUP(G55,$O$16:$AB$30,7,0)="x","igen","nem")) -> #N/A | AL41: =IF(VLOOKUP(G55,$O$16:$AB$30,14,0)="x","Igen",IF(VLOOKUP(G55,$O$16:$AB$30,8,0)="x","igen","nem")) -> #N/A | AM41: =IF(VLOOKUP(G55,$O$16:$AB$30,14,0)="x","Igen",IF(VLOOKUP(G55,$O$16:$AB$30,9,0)="x","igen","nem")) -> #N/A | AN41: =IF(VLOOKUP(G55,$O$16:$AB$30,14,0)="x","Igen",IF(VLOOKUP(G55,$O$16:$AB$30,10,0)="x","igen","nem")) -> #N/A | AO41: =IF(VLOOKUP(G55,$O$16:$AB$30,14,0)="x","Igen",IF(VLOOKUP(G55,$O$16:$AB$30,11,0)="x","igen","nem")) -> #N/A | AP41: =IF(VLOOKUP(G55,$O$16:$AB$30,14,0)="x","Igen",IF(VLOOKUP(G55,$O$16:$AB$30,12,0)="x","igen","nem")) -> #N/A | AQ41: =IF(VLOOKUP(G55,$O$16:$AB$30,14,0)="x","Igen",IF(VLOOKUP(G55,$O$16:$AB$30,13,0)="x","igen","nem")) -> #N/A | AR41: =IF(AE41="",0,1) -> 0 | BA41: KAL23 | BB41: Csemegekukorica | BC41: KAL23
B42: =IF(F42=0,0,IF(ISERROR(VLOOKUP(C42,C$15:C41,1,FALSE)),1,0))+B41 -> 0 | C42: =G42&"_"&L42&"_"&M42 -> __ | D42: 27 | F42: =IF(ISERROR(VLOOKUP(G42,seged!$B$2:$C$330,2,FALSE)),0,VLOOKUP(G42,seged!$B$2:$C$330,2,FALSE)) -> 0 | AE42: =IF(ISNA(VLOOKUP(G56,BB:BC,2,0)),"",VLOOKUP(G56,BB:BC,2,0)) | AF42: =I56 -> 0 | AG42: =IF(J56=0,"",J56) | AH42: =K56 -> 0 | AI42: =L56 -> 0 | AJ42: =M56 -> 0 | AK42: =IF(VLOOKUP(G56,$O$16:$AB$30,14,0)="x","Igen",IF(VLOOKUP(G56,$O$16:$AB$30,7,0)="x","igen","nem")) -> #N/A | AL42: =IF(VLOOKUP(G56,$O$16:$AB$30,14,0)="x","Igen",IF(VLOOKUP(G56,$O$16:$AB$30,8,0)="x","igen","nem")) -> #N/A | AM42: =IF(VLOOKUP(G56,$O$16:$AB$30,14,0)="x","Igen",IF(VLOOKUP(G56,$O$16:$AB$30,9,0)="x","igen","nem")) -> #N/A | AN42: =IF(VLOOKUP(G56,$O$16:$AB$30,14,0)="x","Igen",IF(VLOOKUP(G56,$O$16:$AB$30,10,0)="x","igen","nem")) -> #N/A | AO42: =IF(VLOOKUP(G56,$O$16:$AB$30,14,0)="x","Igen",IF(VLOOKUP(G56,$O$16:$AB$30,11,0)="x","igen","nem")) -> #N/A | AP42: =IF(VLOOKUP(G56,$O$16:$AB$30,14,0)="x","Igen",IF(VLOOKUP(G56,$O$16:$AB$30,12,0)="x","igen","nem")) -> #N/A | AQ42: =IF(VLOOKUP(G56,$O$16:$AB$30,14,0)="x","Igen",IF(VLOOKUP(G56,$O$16:$AB$30,13,0)="x","igen","nem")) -> #N/A | AR42: =IF(AE42="",0,1) -> 0 | BA42: KAL23 | BB42: Csemegekukorica (csőkárosodás) | BC42: KAL23
... B321: =IF(F321=0,0,IF(ISERROR(VLOOKUP(C321,C$15:C320,1,FALSE)),1,0))+B320 -> 0 | C321: =G321&"_"&L321&"_"&M321 -> __ | D321: 306 | F321: =IF(ISERROR(VLOOKUP(G321,seged!$B$2:$C$330,2,FALSE)),0,VLOOKUP(G321,seged!$B$2:$C$330,2,FALSE)) -> 0 | AE321: =IF(ISNA(VLOOKUP(G335,BB:BC,2,0)),"",VLOOKUP(G335,BB:BC,2,0)) | AF321: =I335 -> 0 | AG321: =IF(J335=0,"",J335) | AH321: =K335 -> 0 | AI321: =L335 -> 0 | AJ321: =M335 -> 0 | AK321: =IF(VLOOKUP(G335,$O$16:$AB$30,14,0)="x","Igen",IF(VLOOKUP(G335,$O$16:$AB$30,7,0)="x","igen","nem")) -> #N/A | AL321: =IF(VLOOKUP(G335,$O$16:$AB$30,14,0)="x","Igen",IF(VLOOKUP(G335,$O$16:$AB$30,8,0)="x","igen","nem")) -> #N/A | AM321: =IF(VLOOKUP(G335,$O$16:$AB$30,14,0)="x","Igen",IF(VLOOKUP(G335,$O$16:$AB$30,9,0)="x","igen","nem")) -> #N/A | AN321: =IF(VLOOKUP(G335,$O$16:$AB$30,14,0)="x","Igen",IF(VLOOKUP(G335,$O$16:$AB$30,10,0)="x","igen","nem")) -> #N/A | AO321: =IF(VLOOKUP(G335,$O$16:$AB$30,14,0)="x","Igen",IF(VLOOKUP(G335,$O$16:$AB$30,11,0)="x","igen","nem")) -> #N/A | AP321: =IF(VLOOKUP(G335,$O$16:$AB$30,14,0)="x","Igen",IF(VLOOKUP(G335,$O$16:$AB$30,12,0)="x","igen","nem")) -> #N/A | AQ321: =IF(VLOOKUP(G335,$O$16:$AB$30,14,0)="x","Igen",IF(VLOOKUP(G335,$O$16:$AB$30,13,0)="x","igen","nem")) -> #N/A | AR321: =IF(AE321="",0,1) -> 0 | BA321: FOR09 | BB321: Vöröshere | BC321: FOR09
B322: =IF(F322=0,0,IF(ISERROR(VLOOKUP(C322,C$15:C321,1,FALSE)),1,0))+B321 -> 0 | C322: =G322&"_"&L322&"_"&M322 -> __ | D322: 307 | F322: =IF(ISERROR(VLOOKUP(G322,seged!$B$2:$C$330,2,FALSE)),0,VLOOKUP(G322,seged!$B$2:$C$330,2,FALSE)) -> 0 | BA322: VEG06 | BB322: Vöröskáposzta | BC322: VEG06
B323: =IF(F323=0,0,IF(ISERROR(VLOOKUP(C323,C$15:C322,1,FALSE)),1,0))+B322 -> 0 | C323: =G323&"_"&L323&"_"&M323 -> __ | D323: 308 | F323: =IF(ISERROR(VLOOKUP(G323,seged!$B$2:$C$330,2,FALSE)),0,VLOOKUP(G323,seged!$B$2:$C$330,2,FALSE)) -> 0 | BA323: FRU13 | BB323: Yosta (rikö) | BC323: FRU13
B324: =IF(F324=0,0,IF(ISERROR(VLOOKUP(C324,C$15:C323,1,FALSE)),1,0))+B323 -> 0 | C324: =G324&"_"&L324&"_"&M324 -> __ | D324: 309 | F324: =IF(ISERROR(VLOOKUP(G324,seged!$B$2:$C$330,2,FALSE)),0,VLOOKUP(G324,seged!$B$2:$C$330,2,FALSE)) -> 0 | BA324: KAL39 | BB324: Zab (õszi) | BC324: KAL39
B325: =IF(F325=0,0,IF(ISERROR(VLOOKUP(C325,C$15:C324,1,FALSE)),1,0))+B324 -> 0 | C325: =G325&"_"&L325&"_"&M325 -> __ | D325: 310 | F325: =IF(ISERROR(VLOOKUP(G325,seged!$B$2:$C$330,2,FALSE)),0,VLOOKUP(G325,seged!$B$2:$C$330,2,FALSE)) -> 0 | BA325: FOR51 | BB325: Zabos borsó | BC325: FOR51
B326: =IF(F326=0,0,IF(ISERROR(VLOOKUP(C326,C$15:C325,1,FALSE)),1,0))+B325 -> 0 | C326: =G326&"_"&L326&"_"&M326 -> __ | D326: 311 | F326: =IF(ISERROR(VLOOKUP(G326,seged!$B$2:$C$330,2,FALSE)),0,VLOOKUP(G326,seged!$B$2:$C$330,2,FALSE)) -> 0 | BA326: FOR50 | BB326: Zabos bükköny | BC326: FOR50
B327: =IF(F327=0,0,IF(ISERROR(VLOOKUP(C327,C$15:C326,1,FALSE)),1,0))+B326 -> 0 | C327: =G327&"_"&L327&"_"&M327 -> __ | D327: 312 | F327: =IF(ISERROR(VLOOKUP(G327,seged!$B$2:$C$330,2,FALSE)),0,VLOOKUP(G327,seged!$B$2:$C$330,2,FALSE)) -> 0 | BA327: VEG10 | BB327: Zeller | BC327: VEG10
B328: =IF(F328=0,0,IF(ISERROR(VLOOKUP(C328,C$15:C327,1,FALSE)),1,0))+B327 -> 0 | C328: =G328&"_"&L328&"_"&M328 -> __ | D328: 313 | F328: =IF(ISERROR(VLOOKUP(G328,seged!$B$2:$C$330,2,FALSE)),0,VLOOKUP(G328,seged!$B$2:$C$330,2,FALSE)) -> 0 | BA328: PAZ23 | BB328: Zöld Pántlikafű | BC328: PAZ23
B329: =IF(F329=0,0,IF(ISERROR(VLOOKUP(C329,C$15:C328,1,FALSE)),1,0))+B328 -> 0 | C329: =G329&"_"&L329&"_"&M329 -> __ | D329: 314 | F329: =IF(ISERROR(VLOOKUP(G329,seged!$B$2:$C$330,2,FALSE)),0,VLOOKUP(G329,seged!$B$2:$C$330,2,FALSE)) -> 0 | BA329: PIL13 | BB329: Zöldbab | BC329: PIL13
B330: =IF(F330=0,0,IF(ISERROR(VLOOKUP(C330,C$15:C329,1,FALSE)),1,0))+B329 -> 0 | C330: =G330&"_"&L330&"_"&M330 -> __ | D330: 315 | F330: =IF(ISERROR(VLOOKUP(G330,seged!$B$2:$C$330,2,FALSE)),0,VLOOKUP(G330,seged!$B$2:$C$330,2,FALSE)) -> 0 | BA330: VEG32 | BB330: Zsázsa | BC330: VEG32
B331: =IF(F331=0,0,IF(ISERROR(VLOOKUP(C331,C$15:C330,1,FALSE)),1,0))+B330 -> 0 | C331: =G331&"_"&L331&"_"&M331 -> __ | D331: 316 | F331: =IF(ISERROR(VLOOKUP(G331,seged!$B$2:$C$330,2,FALSE)),0,VLOOKUP(G331,seged!$B$2:$C$330,2,FALSE)) -> 0 | BA331: ENE02 | BB331: Energiaakác | BC331: ENE02
B332: =IF(F332=0,0,IF(ISERROR(VLOOKUP(C332,C$15:C331,1,FALSE)),1,0))+B331 -> 0 | C332: =G332&"_"&L332&"_"&M332 -> __ | D332: 317 | F332: =IF(ISERROR(VLOOKUP(G332,seged!$B$2:$C$330,2,FALSE)),0,VLOOKUP(G332,seged!$B$2:$C$330,2,FALSE)) -> 0 | BA332: ENE11 | BB332: Fehér nyár | BC332: ENE11
B333: =IF(F333=0,0,IF(ISERROR(VLOOKUP(C333,C$15:C332,1,FALSE)),1,0))+B332 -> 0 | C333: =G333&"_"&L333&"_"&M333 -> __ | D333: 318 | F333: =IF(ISERROR(VLOOKUP(G333,seged!$B$2:$C$330,2,FALSE)),0,VLOOKUP(G333,seged!$B$2:$C$330,2,FALSE)) -> 0 | BA333: ENE12 | BB333: Fekete nyár | BC333: ENE12
... B335: =IF(F335=0,0,IF(ISERROR(VLOOKUP(C335,C$15:C334,1,FALSE)),1,0))+B334 -> 0 | C335: =G335&"_"&L335&"_"&M335 -> __ | D335: 320 | F335: =IF(ISERROR(VLOOKUP(G335,seged!$B$2:$C$330,2,FALSE)),0,VLOOKUP(G335,seged!$B$2:$C$330,2,FALSE)) -> 0 | BA335: ENE14 | BB335: Rezgő nyár | BC335: ENE14
BA336: ENE15 | BB336: Egyéb nyár | BC336: ENE15
BA337: ENE16 | BB337: Fehér fűz | BC337: ENE16
BA338: ENE17 | BB338: Kosárfonó fűz | BC338: ENE17
BA339: ENE18 | BB339: Egyéb fűz | BC339: ENE18
BA340: ENE19 | BB340: Mézgás éger | BC340: ENE19
BA341: ENE20 | BB341: Egyéb éger | BC341: ENE20
BA342: ENE21 | BB342: Magas kőris | BC342: ENE21
BA343: ENE22 | BB343: Keskenylevelű kőris | BC343: ENE22
BA344: ENE23 | BB344: Egyéb kőris | BC344: ENE23
BA345: ENE24 | BB345: Korai juhar | BC345: ENE24
BA346: ENE25 | BB346: Egyéb juhar | BC346: ENE25
BA347: ENE06 | BB347: Egyéb rövid vágásfordulójú sarjerdő | BC347: ENE06
... BA467: FE101 | BB467: Lomb elegyes-egyéb fenyves | BC467: FE101

Sheet EK
A1: W0221 Egységes kérelem Iratazonosító: 3369367775 Kérelmezo ügyfél-azonosítója: 1003148743 Nyomtatás idopontja: 2022.05.03. 11:41:54 Oldal: 1 | H1: REGSZ: | L1: Növény név | N1: KULTÚRA | O1: BLOKKAZONOSÍTÓ | P1: Tábla | Q1: TERÜLET (HA) | S1: ÖSSZESÍTŐ EK | V1: =SUM(V4:V43) -> #VALUE! | X1: RÉSZLETEZŐ EK | AD1: =SUM(Q2:Q321) -> #VALUE! | AJ1: =COUNT(P:P)+1 -> 4
A2: Integrált Igazgatási és Ellenorzési Rendszer | B2: =IF(AND(LEFT(A2,6)="Blokk:",RIGHT(A2,10)<>"módosított",LEFT(A3,11)="Táblaadatok",H2>0),B1+1,B1) -> 0 | C2: =IF(B2=B1+1,MID(A2,8,8),"") | D2: =IF(B2=B1+1,IF(ISERROR(FIND("Állapot",A2)),RIGHT(A2,LEN(A2)-23)*1,MID(A2,24,FIND("Állapot",A2)-24)*1),"") | E2: =IF(B2=B1+1,VLOOKUP(MID(A3,40,5),AE:AF,2,0),"") | F2: =IF(B2=B1+1,RIGHT(A3,LEN(A3)-45),"") | G2: =IF(B2=B1+1,MID(A4,29,FIND("Kockázatkezelés",A4)-30)*1,"") | H2: =IF(ISERROR(RIGHT(INDIRECT("A"&MATCH("2 Ügyfél-azonosítási információ",A:A,0)+1),10)),"",RIGHT(INDIRECT("A"&MATCH("2 Ügyfél-azonosítási információ",A:A,0)+1),10)) | I2: =IF(N2=0,0,IF(COUNTIF($J$1:J1,J2)>0,I1,I1+1)) -> 1 | J2: =N2 -> KAL01 | K2: 1 | L2: =IF(ISERROR(VLOOKUP(N2,seged!$A$2:$B$458,2,FALSE)),IF(ISERROR(VLOOKUP($K2,$B:$G,Y$2,FALSE)),"",VLOOKUP($K2,$B:$G,Y$2,FALSE)),VLOOKUP(N2,seged!$A$2:$B$458,2,FALSE)) -> Őszi búza | N2: =IF(ISERROR(VLOOKUP($K2,$B:$G,AA$2,FALSE)),"",VLOOKUP($K2,$B:$G,AA$2,FALSE)) -> KAL01 | O2: =IF(ISERROR(VLOOKUP($K2,$B:$G,AB$2,FALSE)),"",VLOOKUP($K2,$B:$G,AB$2,FALSE)) -> H53TD320 | P2: =IF(ISERROR(VLOOKUP($K2,$B:$G,AC$2,FALSE)),"",VLOOKUP($K2,$B:$G,AC$2,FALSE)) -> 1 | Q2: =IF(L2=0,"",(ROUND(IF(ISERROR(VLOOKUP($K2,$B:$G,AD$2,FALSE)),"terület?",VLOOKUP($K2,$B:$G,AD$2,FALSE)),2))) -> #VALUE! | S2: LEELLENŐRIZNI EK-BÓL!!! | Y2: 5 | AA2: 4 | AB2: 2 | AC2: 3 | AD2: 6
A3: W0221 Egységes kérelem | B3: =IF(AND(LEFT(A3,6)="Blokk:",RIGHT(A3,10)<>"módosított",LEFT(A4,11)="Táblaadatok",H3>0),B2+1,B2) -> 0 | C3: =IF(B3=B2+1,MID(A3,8,8),"") | D3: =IF(B3=B2+1,IF(ISERROR(FIND("Állapot",A3)),RIGHT(A3,LEN(A3)-23)*1,MID(A3,24,FIND("Állapot",A3)-24)*1),"") | E3: =IF(B3=B2+1,VLOOKUP(MID(A4,40,5),AE:AF,2,0),"") | F3: =IF(B3=B2+1,RIGHT(A4,LEN(A4)-45),"") | G3: =IF(B3=B2+1,MID(A5,29,FIND("Kockázatkezelés",A5)-30)*1,"") | I3: =IF(N3=0,0,IF(COUNTIF($J$1:J2,J3)>0,I2,I2+1)) -> 2 | J3: =N3 -> KAL21 | K3: 2 | L3: =IF(ISERROR(VLOOKUP(N3,seged!$A$2:$B$458,2,FALSE)),IF(ISERROR(VLOOKUP($K3,$B:$G,Y$2,FALSE)),0,VLOOKUP($K3,$B:$G,Y$2,FALSE)),VLOOKUP(N3,seged!$A$2:$B$458,2,FALSE)) -> Kukorica | N3: =IF(ISERROR(VLOOKUP($K3,$B:$G,AA$2,FALSE)),"",VLOOKUP($K3,$B:$G,AA$2,FALSE)) -> KAL21 | O3: =IF(ISERROR(VLOOKUP($K3,$B:$G,AB$2,FALSE)),"",VLOOKUP($K3,$B:$G,AB$2,FALSE)) -> H53TD320 | P3: =IF(ISERROR(VLOOKUP($K3,$B:$G,AC$2,FALSE)),"",VLOOKUP($K3,$B:$G,AC$2,FALSE)) -> 2 | Q3: =IF(L3=0,"",(ROUND(IF(ISERROR(VLOOKUP($K3,$B:$G,AD$2,FALSE)),"terület?",VLOOKUP($K3,$B:$G,AD$2,FALSE)),2))) -> #VALUE! | T3: Növény név | U3: Haszn.kód | V3: Hektár | AE3: Haszn.kód | AF3: IBISS_Code
A4: 3369367775 | B4: =IF(AND(LEFT(A4,6)="Blokk:",RIGHT(A4,10)<>"módosított",LEFT(A5,11)="Táblaadatok",H4>0),B3+1,B3) -> 0 | C4: =IF(B4=B3+1,MID(A4,8,8),"") | D4: =IF(B4=B3+1,IF(ISERROR(FIND("Állapot",A4)),RIGHT(A4,LEN(A4)-23)*1,MID(A4,24,FIND("Állapot",A4)-24)*1),"") | E4: =IF(B4=B3+1,VLOOKUP(MID(A5,40,5),AE:AF,2,0),"") | F4: =IF(B4=B3+1,RIGHT(A5,LEN(A5)-45),"") | G4: =IF(B4=B3+1,MID(A6,29,FIND("Kockázatkezelés",A6)-30)*1,"") | H4: =IF(ISNA(VLOOKUP(MID(A5,40,5),AE:AF,2,0)),0,1) -> 0 | I4: =IF(N4=0,0,IF(COUNTIF($J$1:J3,J4)>0,I3,I3+1)) -> 3 | J4: =N4 -> KAL17 | K4: 3 | L4: =IF(ISERROR(VLOOKUP(N4,seged!$A$2:$B$458,2,FALSE)),IF(ISERROR(VLOOKUP($K4,$B:$G,Y$2,FALSE)),0,VLOOKUP($K4,$B:$G,Y$2,FALSE)),VLOOKUP(N4,seged!$A$2:$B$458,2,FALSE)) -> Őszi árpa | N4: =IF(ISERROR(VLOOKUP($K4,$B:$G,AA$2,FALSE)),"",VLOOKUP($K4,$B:$G,AA$2,FALSE)) -> KAL17 | O4: =IF(ISERROR(VLOOKUP($K4,$B:$G,AB$2,FALSE)),"",VLOOKUP($K4,$B:$G,AB$2,FALSE)) -> H53TD320 | P4: =IF(ISERROR(VLOOKUP($K4,$B:$G,AC$2,FALSE)),"",VLOOKUP($K4,$B:$G,AC$2,FALSE)) -> 3 | Q4: =IF(L4=0,"",(ROUND(IF(ISERROR(VLOOKUP($K4,$B:$G,AD$2,FALSE)),"terület?",VLOOKUP($K4,$B:$G,AD$2,FALSE)),2))) -> #VALUE! | S4: 1 | T4: =IF(ISERROR(VLOOKUP($S4,$I$2:$Q$323,1,FALSE)),"",VLOOKUP($S4,$I$2:$Q$323,4,FALSE)) -> Őszi búza | U4: =IF(ISERROR(VLOOKUP($S4,$I$2:$Q$323,1,FALSE)),"",VLOOKUP($S4,$I$2:$Q$323,6,FALSE)) -> KAL01 | V4: =SUMIF($J$2:$J$323,U4,$Q$2:$Q$321) -> #VALUE! | AE4: KAL01 | AF4: KAL01
A5: 1 Adminisztrációs adatok | B5: =IF(AND(LEFT(A5,6)="Blokk:",RIGHT(A5,10)<>"módosított",LEFT(A6,11)="Táblaadatok",H5>0),B4+1,B4) -> 0 | C5: =IF(B5=B4+1,MID(A5,8,8),"") | D5: =IF(B5=B4+1,IF(ISERROR(FIND("Állapot",A5)),RIGHT(A5,LEN(A5)-23)*1,MID(A5,24,FIND("Állapot",A5)-24)*1),"") | E5: =IF(B5=B4+1,VLOOKUP(MID(A6,40,5),AE:AF,2,0),"") | F5: =IF(B5=B4+1,RIGHT(A6,LEN(A6)-45),"") | G5: =IF(B5=B4+1,MID(A7,29,FIND("Kockázatkezelés",A7)-30)*1,"") | H5: =IF(ISNA(VLOOKUP(MID(A6,40,5),AE:AF,2,0)),0,1) -> 0 | I5: =IF(N5=0,0,IF(COUNTIF($J$1:J4,J5)>0,I4,I4+1)) -> 3 | J5: =N5 | K5: 4 | L5: =IF(ISERROR(VLOOKUP(N5,seged!$A$2:$B$458,2,FALSE)),IF(ISERROR(VLOOKUP($K5,$B:$G,Y$2,FALSE)),0,VLOOKUP($K5,$B:$G,Y$2,FALSE)),VLOOKUP(N5,seged!$A$2:$B$458,2,FALSE)) -> 0 | N5: =IF(ISERROR(VLOOKUP($K5,$B:$G,AA$2,FALSE)),"",VLOOKUP($K5,$B:$G,AA$2,FALSE)) | O5: =IF(ISERROR(VLOOKUP($K5,$B:$G,AB$2,FALSE)),"",VLOOKUP($K5,$B:$G,AB$2,FALSE)) | P5: =IF(ISERROR(VLOOKUP($K5,$B:$G,AC$2,FALSE)),"",VLOOKUP($K5,$B:$G,AC$2,FALSE)) | Q5: =IF(L5=0,"",(ROUND(IF(ISERROR(VLOOKUP($K5,$B:$G,AD$2,FALSE)),"terület?",VLOOKUP($K5,$B:$G,AD$2,FALSE)),2))) | S5: 2 | T5: =IF(ISERROR(VLOOKUP($S5,$I$2:$Q$323,1,FALSE)),"",VLOOKUP($S5,$I$2:$Q$323,4,FALSE)) -> Kukorica | U5: =IF(ISERROR(VLOOKUP($S5,$I$2:$Q$323,1,FALSE)),"",VLOOKUP($S5,$I$2:$Q$323,6,FALSE)) -> KAL21 | V5: =SUMIF($J$2:$J$323,U5,$Q$2:$Q$321) -> #VALUE! | AE5: KAL17 | AF5: KAL17
A6: Iratazonosító: 3369367775 | B6: =IF(AND(LEFT(A6,6)="Blokk:",RIGHT(A6,10)<>"módosított",LEFT(A7,11)="Táblaadatok",H6>0),B5+1,B5) -> 0 | C6: =IF(B6=B5+1,MID(A6,8,8),"") | D6: =IF(B6=B5+1,IF(ISERROR(FIND("Állapot",A6)),RIGHT(A6,LEN(A6)-23)*1,MID(A6,24,FIND("Állapot",A6)-24)*1),"") | E6: =IF(B6=B5+1,VLOOKUP(MID(A7,40,5),AE:AF,2,0),"") | F6: =IF(B6=B5+1,RIGHT(A7,LEN(A7)-45),"") | G6: =IF(B6=B5+1,MID(A8,29,FIND("Kockázatkezelés",A8)-30)*1,"") | H6: =IF(ISNA(VLOOKUP(MID(A7,40,5),AE:AF,2,0)),0,1) -> 0 | I6: =IF(N6=0,0,IF(COUNTIF($J$1:J5,J6)>0,I5,I5+1)) -> 3 | J6: =N6 | K6: 5 | L6: =IF(ISERROR(VLOOKUP(N6,seged!$A$2:$B$458,2,FALSE)),IF(ISERROR(VLOOKUP($K6,$B:$G,Y$2,FALSE)),0,VLOOKUP($K6,$B:$G,Y$2,FALSE)),VLOOKUP(N6,seged!$A$2:$B$458,2,FALSE)) -> 0 | N6: =IF(ISERROR(VLOOKUP($K6,$B:$G,AA$2,FALSE)),"",VLOOKUP($K6,$B:$G,AA$2,FALSE)) | O6: =IF(ISERROR(VLOOKUP($K6,$B:$G,AB$2,FALSE)),"",VLOOKUP($K6,$B:$G,AB$2,FALSE)) | P6: =IF(ISERROR(VLOOKUP($K6,$B:$G,AC$2,FALSE)),"",VLOOKUP($K6,$B:$G,AC$2,FALSE)) | Q6: =IF(L6=0,"",(ROUND(IF(ISERROR(VLOOKUP($K6,$B:$G,AD$2,FALSE)),"terület?",VLOOKUP($K6,$B:$G,AD$2,FALSE)),2))) | S6: 3 | T6: =IF(ISERROR(VLOOKUP($S6,$I$2:$Q$323,1,FALSE)),"",VLOOKUP($S6,$I$2:$Q$323,4,FALSE)) -> Őszi árpa | U6: =IF(ISERROR(VLOOKUP($S6,$I$2:$Q$323,1,FALSE)),"",VLOOKUP($S6,$I$2:$Q$323,6,FALSE)) -> KAL17 | V6: =SUMIF($J$2:$J$323,U6,$Q$2:$Q$321) -> #VALUE! | AE6: KAL27 | AF6: KAL27
A7: Utolsó mentés dátuma: 2022.05.03. 11:41:31 | B7: =IF(AND(LEFT(A7,6)="Blokk:",RIGHT(A7,10)<>"módosított",LEFT(A8,11)="Táblaadatok",H7>0),B6+1,B6) -> 0 | C7: =IF(B7=B6+1,MID(A7,8,8),"") | D7: =IF(B7=B6+1,IF(ISERROR(FIND("Állapot",A7)),RIGHT(A7,LEN(A7)-23)*1,MID(A7,24,FIND("Állapot",A7)-24)*1),"") | E7: =IF(B7=B6+1,VLOOKUP(MID(A8,40,5),AE:AF,2,0),"") | F7: =IF(B7=B6+1,RIGHT(A8,LEN(A8)-45),"") | G7: =IF(B7=B6+1,MID(A9,29,FIND("Kockázatkezelés",A9)-30)*1,"") | H7: =IF(ISNA(VLOOKUP(MID(A8,40,5),AE:AF,2,0)),0,1) -> 0 | I7: =IF(N7=0,0,IF(COUNTIF($J$1:J6,J7)>0,I6,I6+1)) -> 3 | J7: =N7 | K7: 6 | L7: =IF(ISERROR(VLOOKUP(N7,seged!$A$2:$B$458,2,FALSE)),IF(ISERROR(VLOOKUP($K7,$B:$G,Y$2,FALSE)),0,VLOOKUP($K7,$B:$G,Y$2,FALSE)),VLOOKUP(N7,seged!$A$2:$B$458,2,FALSE)) -> 0 | N7: =IF(ISERROR(VLOOKUP($K7,$B:$G,AA$2,FALSE)),"",VLOOKUP($K7,$B:$G,AA$2,FALSE)) | O7: =IF(ISERROR(VLOOKUP($K7,$B:$G,AB$2,FALSE)),"",VLOOKUP($K7,$B:$G,AB$2,FALSE)) | P7: =IF(ISERROR(VLOOKUP($K7,$B:$G,AC$2,FALSE)),"",VLOOKUP($K7,$B:$G,AC$2,FALSE)) | Q7: =IF(L7=0,"",(ROUND(IF(ISERROR(VLOOKUP($K7,$B:$G,AD$2,FALSE)),"terület?",VLOOKUP($K7,$B:$G,AD$2,FALSE)),2))) | S7: 4 | T7: =IF(ISERROR(VLOOKUP($S7,$I$2:$Q$323,1,FALSE)),"",VLOOKUP($S7,$I$2:$Q$323,4,FALSE)) | U7: =IF(ISERROR(VLOOKUP($S7,$I$2:$Q$323,1,FALSE)),"",VLOOKUP($S7,$I$2:$Q$323,6,FALSE)) | V7: =SUMIF($J$2:$J$323,U7,$Q$2:$Q$321) -> 0 | AE7: KAL21 | AF7: KAL21
A8: Utolsó adatmódosítás dátuma: 2022.05.03. 11:41:31 | B8: =IF(AND(LEFT(A8,6)="Blokk:",RIGHT(A8,10)<>"módosított",LEFT(A9,11)="Táblaadatok",H8>0),B7+1,B7) -> 0 | C8: =IF(B8=B7+1,MID(A8,8,8),"") | D8: =IF(B8=B7+1,IF(ISERROR(FIND("Állapot",A8)),RIGHT(A8,LEN(A8)-23)*1,MID(A8,24,FIND("Állapot",A8)-24)*1),"") | E8: =IF(B8=B7+1,VLOOKUP(MID(A9,40,5),AE:AF,2,0),"") | F8: =IF(B8=B7+1,RIGHT(A9,LEN(A9)-45),"") | G8: =IF(B8=B7+1,MID(A10,29,FIND("Kockázatkezelés",A10)-30)*1,"") | H8: =IF(ISNA(VLOOKUP(MID(A9,40,5),AE:AF,2,0)),0,1) -> 0 | I8: =IF(N8=0,0,IF(COUNTIF($J$1:J7,J8)>0,I7,I7+1)) -> 3 | J8: =N8 | K8: 7 | L8: =IF(ISERROR(VLOOKUP(N8,seged!$A$2:$B$458,2,FALSE)),IF(ISERROR(VLOOKUP($K8,$B:$G,Y$2,FALSE)),0,VLOOKUP($K8,$B:$G,Y$2,FALSE)),VLOOKUP(N8,seged!$A$2:$B$458,2,FALSE)) -> 0 | N8: =IF(ISERROR(VLOOKUP($K8,$B:$G,AA$2,FALSE)),"",VLOOKUP($K8,$B:$G,AA$2,FALSE)) | O8: =IF(ISERROR(VLOOKUP($K8,$B:$G,AB$2,FALSE)),"",VLOOKUP($K8,$B:$G,AB$2,FALSE)) | P8: =IF(ISERROR(VLOOKUP($K8,$B:$G,AC$2,FALSE)),"",VLOOKUP($K8,$B:$G,AC$2,FALSE)) | Q8: =IF(L8=0,"",(ROUND(IF(ISERROR(VLOOKUP($K8,$B:$G,AD$2,FALSE)),"terület?",VLOOKUP($K8,$B:$G,AD$2,FALSE)),2))) | S8: 5 | T8: =IF(ISERROR(VLOOKUP($S8,$I$2:$Q$323,1,FALSE)),"",VLOOKUP($S8,$I$2:$Q$323,4,FALSE)) | U8: =IF(ISERROR(VLOOKUP($S8,$I$2:$Q$323,1,FALSE)),"",VLOOKUP($S8,$I$2:$Q$323,6,FALSE)) | V8: =SUMIF($J$2:$J$323,U8,$Q$2:$Q$321) -> 0 | AE8: IND23 | AF8: IND23
A9: Alkalmazás típusa: Böngészo | B9: =IF(AND(LEFT(A9,6)="Blokk:",RIGHT(A9,10)<>"módosított",LEFT(A10,11)="Táblaadatok",H9>0),B8+1,B8) -> 0 | C9: =IF(B9=B8+1,MID(A9,8,8),"") | D9: =IF(B9=B8+1,IF(ISERROR(FIND("Állapot",A9)),RIGHT(A9,LEN(A9)-23)*1,MID(A9,24,FIND("Állapot",A9)-24)*1),"") | E9: =IF(B9=B8+1,VLOOKUP(MID(A10,40,5),AE:AF,2,0),"") | F9: =IF(B9=B8+1,RIGHT(A10,LEN(A10)-45),"") | G9: =IF(B9=B8+1,MID(A11,29,FIND("Kockázatkezelés",A11)-30)*1,"") | H9: =IF(ISNA(VLOOKUP(MID(A10,40,5),AE:AF,2,0)),0,1) -> 0 | I9: =IF(N9=0,0,IF(COUNTIF($J$1:J8,J9)>0,I8,I8+1)) -> 3 | J9: =N9 | K9: 8 | L9: =IF(ISERROR(VLOOKUP(N9,seged!$A$2:$B$458,2,FALSE)),IF(ISERROR(VLOOKUP($K9,$B:$G,Y$2,FALSE)),0,VLOOKUP($K9,$B:$G,Y$2,FALSE)),VLOOKUP(N9,seged!$A$2:$B$458,2,FALSE)) -> 0 | N9: =IF(ISERROR(VLOOKUP($K9,$B:$G,AA$2,FALSE)),"",VLOOKUP($K9,$B:$G,AA$2,FALSE)) | O9: =IF(ISERROR(VLOOKUP($K9,$B:$G,AB$2,FALSE)),"",VLOOKUP($K9,$B:$G,AB$2,FALSE)) | P9: =IF(ISERROR(VLOOKUP($K9,$B:$G,AC$2,FALSE)),"",VLOOKUP($K9,$B:$G,AC$2,FALSE)) | Q9: =IF(L9=0,"",(ROUND(IF(ISERROR(VLOOKUP($K9,$B:$G,AD$2,FALSE)),"terület?",VLOOKUP($K9,$B:$G,AD$2,FALSE)),2))) | S9: 6 | T9: =IF(ISERROR(VLOOKUP($S9,$I$2:$Q$323,1,FALSE)),"",VLOOKUP($S9,$I$2:$Q$323,4,FALSE)) | U9: =IF(ISERROR(VLOOKUP($S9,$I$2:$Q$323,1,FALSE)),"",VLOOKUP($S9,$I$2:$Q$323,6,FALSE)) | V9: =SUMIF($J$2:$J$323,U9,$Q$2:$Q$321) -> 0 | AE9: IND03 | AF9: IND03
A10: Megszemélyesített adatok betöltésének dátuma: 2022.05.03. 11:26:16 | B10: =IF(AND(LEFT(A10,6)="Blokk:",RIGHT(A10,10)<>"módosított",LEFT(A11,11)="Táblaadatok",H10>0),B9+1,B9) -> 0 | C10: =IF(B10=B9+1,MID(A10,8,8),"") | D10: =IF(B10=B9+1,IF(ISERROR(FIND("Állapot",A10)),RIGHT(A10,LEN(A10)-23)*1,MID(A10,24,FIND("Állapot",A10)-24)*1),"") | E10: =IF(B10=B9+1,VLOOKUP(MID(A11,40,5),AE:AF,2,0),"") | F10: =IF(B10=B9+1,RIGHT(A11,LEN(A11)-45),"") | G10: =IF(B10=B9+1,MID(A12,29,FIND("Kockázatkezelés",A12)-30)*1,"") | H10: =IF(ISNA(VLOOKUP(MID(A11,40,5),AE:AF,2,0)),0,1) -> 0 | I10: =IF(N10=0,0,IF(COUNTIF($J$1:J9,J10)>0,I9,I9+1)) -> 3 | J10: =N10 | K10: 9 | L10: =IF(ISERROR(VLOOKUP(N10,seged!$A$2:$B$458,2,FALSE)),IF(ISERROR(VLOOKUP($K10,$B:$G,Y$2,FALSE)),0,VLOOKUP($K10,$B:$G,Y$2,FALSE)),VLOOKUP(N10,seged!$A$2:$B$458,2,FALSE)) -> 0 | N10: =IF(ISERROR(VLOOKUP($K10,$B:$G,AA$2,FALSE)),"",VLOOKUP($K10,$B:$G,AA$2,FALSE)) | O10: =IF(ISERROR(VLOOKUP($K10,$B:$G,AB$2,FALSE)),"",VLOOKUP($K10,$B:$G,AB$2,FALSE)) | P10: =IF(ISERROR(VLOOKUP($K10,$B:$G,AC$2,FALSE)),"",VLOOKUP($K10,$B:$G,AC$2,FALSE)) | Q10: =IF(L10=0,"",(ROUND(IF(ISERROR(VLOOKUP($K10,$B:$G,AD$2,FALSE)),"terület?",VLOOKUP($K10,$B:$G,AD$2,FALSE)),2))) | S10: 7 | T10: =IF(ISERROR(VLOOKUP($S10,$I$2:$Q$323,1,FALSE)),"",VLOOKUP($S10,$I$2:$Q$323,4,FALSE)) | U10: =IF(ISERROR(VLOOKUP($S10,$I$2:$Q$323,1,FALSE)),"",VLOOKUP($S10,$I$2:$Q$323,6,FALSE)) | V10: =SUMIF($J$2:$J$323,U10,$Q$2:$Q$321) -> 0 | AE10: IND01 | AF10: IND01
A11: Egységes kérelem beadásának idopontja: 2022.05.03. 11:41:32 | B11: =IF(AND(LEFT(A11,6)="Blokk:",RIGHT(A11,10)<>"módosított",LEFT(A12,11)="Táblaadatok",H11>0),B10+1,B10) -> 0 | C11: =IF(B11=B10+1,MID(A11,8,8),"") | D11: =IF(B11=B10+1,IF(ISERROR(FIND("Állapot",A11)),RIGHT(A11,LEN(A11)-23)*1,MID(A11,24,FIND("Állapot",A11)-24)*1),"") | E11: =IF(B11=B10+1,VLOOKUP(MID(A12,40,5),AE:AF,2,0),"") | F11: =IF(B11=B10+1,RIGHT(A12,LEN(A12)-45),"") | G11: =IF(B11=B10+1,MID(A13,29,FIND("Kockázatkezelés",A13)-30)*1,"") | H11: =IF(ISNA(VLOOKUP(MID(A12,40,5),AE:AF,2,0)),0,1) -> 0 | I11: =IF(N11=0,0,IF(COUNTIF($J$1:J10,J11)>0,I10,I10+1)) -> 3 | J11: =N11 | K11: 10 | L11: =IF(ISERROR(VLOOKUP(N11,seged!$A$2:$B$458,2,FALSE)),IF(ISERROR(VLOOKUP($K11,$B:$G,Y$2,FALSE)),0,VLOOKUP($K11,$B:$G,Y$2,FALSE)),VLOOKUP(N11,seged!$A$2:$B$458,2,FALSE)) -> 0 | N11: =IF(ISERROR(VLOOKUP($K11,$B:$G,AA$2,FALSE)),"",VLOOKUP($K11,$B:$G,AA$2,FALSE)) | O11: =IF(ISERROR(VLOOKUP($K11,$B:$G,AB$2,FALSE)),"",VLOOKUP($K11,$B:$G,AB$2,FALSE)) | P11: =IF(ISERROR(VLOOKUP($K11,$B:$G,AC$2,FALSE)),"",VLOOKUP($K11,$B:$G,AC$2,FALSE)) | Q11: =IF(L11=0,"",(ROUND(IF(ISERROR(VLOOKUP($K11,$B:$G,AD$2,FALSE)),"terület?",VLOOKUP($K11,$B:$G,AD$2,FALSE)),2))) | S11: 8 | T11: =IF(ISERROR(VLOOKUP($S11,$I$2:$Q$323,1,FALSE)),"",VLOOKUP($S11,$I$2:$Q$323,4,FALSE)) | U11: =IF(ISERROR(VLOOKUP($S11,$I$2:$Q$323,1,FALSE)),"",VLOOKUP($S11,$I$2:$Q$323,6,FALSE)) | V11: =SUMIF($J$2:$J$323,U11,$Q$2:$Q$321) -> 0 | AE11: -------------- | AF11: --------------
A12: 2 Beadó adatai | B12: =IF(AND(LEFT(A12,6)="Blokk:",RIGHT(A12,10)<>"módosított",LEFT(A13,11)="Táblaadatok",H12>0),B11+1,B11) -> 0 | C12: =IF(B12=B11+1,MID(A12,8,8),"") | D12: =IF(B12=B11+1,IF(ISERROR(FIND("Állapot",A12)),RIGHT(A12,LEN(A12)-23)*1,MID(A12,24,FIND("Állapot",A12)-24)*1),"") | E12: =IF(B12=B11+1,VLOOKUP(MID(A13,40,5),AE:AF,2,0),"") | F12: =IF(B12=B11+1,RIGHT(A13,LEN(A13)-45),"") | G12: =IF(B12=B11+1,MID(A14,29,FIND("Kockázatkezelés",A14)-30)*1,"") | H12: =IF(ISNA(VLOOKUP(MID(A13,40,5),AE:AF,2,0)),0,1) -> 0 | I12: =IF(N12=0,0,IF(COUNTIF($J$1:J11,J12)>0,I11,I11+1)) -> 3 | J12: =N12 | K12: 11 | L12: =IF(ISERROR(VLOOKUP(N12,seged!$A$2:$B$458,2,FALSE)),IF(ISERROR(VLOOKUP($K12,$B:$G,Y$2,FALSE)),0,VLOOKUP($K12,$B:$G,Y$2,FALSE)),VLOOKUP(N12,seged!$A$2:$B$458,2,FALSE)) -> 0 | N12: =IF(ISERROR(VLOOKUP($K12,$B:$G,AA$2,FALSE)),"",VLOOKUP($K12,$B:$G,AA$2,FALSE)) | O12: =IF(ISERROR(VLOOKUP($K12,$B:$G,AB$2,FALSE)),"",VLOOKUP($K12,$B:$G,AB$2,FALSE)) | P12: =IF(ISERROR(VLOOKUP($K12,$B:$G,AC$2,FALSE)),"",VLOOKUP($K12,$B:$G,AC$2,FALSE)) | Q12: =IF(L12=0,"",(ROUND(IF(ISERROR(VLOOKUP($K12,$B:$G,AD$2,FALSE)),"terület?",VLOOKUP($K12,$B:$G,AD$2,FALSE)),2))) | S12: 9 | T12: =IF(ISERROR(VLOOKUP($S12,$I$2:$Q$323,1,FALSE)),"",VLOOKUP($S12,$I$2:$Q$323,4,FALSE)) | U12: =IF(ISERROR(VLOOKUP($S12,$I$2:$Q$323,1,FALSE)),"",VLOOKUP($S12,$I$2:$Q$323,6,FALSE)) | V12: =SUMIF($J$2:$J$323,U12,$Q$2:$Q$321) -> 0 | AE12: FRU17 | AF12: FRU17
A13: A beadó ügyfél-azonosító száma: 1004165143 Beadó neve: Ruzsity Emil | B13: =IF(AND(LEFT(A13,6)="Blokk:",RIGHT(A13,10)<>"módosított",LEFT(A14,11)="Táblaadatok",H13>0),B12+1,B12) -> 0 | C13: =IF(B13=B12+1,MID(A13,8,8),"") | D13: =IF(B13=B12+1,IF(ISERROR(FIND("Állapot",A13)),RIGHT(A13,LEN(A13)-23)*1,MID(A13,24,FIND("Állapot",A13)-24)*1),"") | E13: =IF(B13=B12+1,VLOOKUP(MID(A14,40,5),AE:AF,2,0),"") | F13: =IF(B13=B12+1,RIGHT(A14,LEN(A14)-45),"") | G13: =IF(B13=B12+1,MID(A15,29,FIND("Kockázatkezelés",A15)-30)*1,"") | H13: =IF(ISNA(VLOOKUP(MID(A14,40,5),AE:AF,2,0)),0,1) -> 0 | I13: =IF(N13=0,0,IF(COUNTIF($J$1:J12,J13)>0,I12,I12+1)) -> 3 | J13: =N13 | K13: 12 | L13: =IF(ISERROR(VLOOKUP(N13,seged!$A$2:$B$458,2,FALSE)),IF(ISERROR(VLOOKUP($K13,$B:$G,Y$2,FALSE)),0,VLOOKUP($K13,$B:$G,Y$2,FALSE)),VLOOKUP(N13,seged!$A$2:$B$458,2,FALSE)) -> 0 | N13: =IF(ISERROR(VLOOKUP($K13,$B:$G,AA$2,FALSE)),"",VLOOKUP($K13,$B:$G,AA$2,FALSE)) | O13: =IF(ISERROR(VLOOKUP($K13,$B:$G,AB$2,FALSE)),"",VLOOKUP($K13,$B:$G,AB$2,FALSE)) | P13: =IF(ISERROR(VLOOKUP($K13,$B:$G,AC$2,FALSE)),"",VLOOKUP($K13,$B:$G,AC$2,FALSE)) | Q13: =IF(L13=0,"",(ROUND(IF(ISERROR(VLOOKUP($K13,$B:$G,AD$2,FALSE)),"terület?",VLOOKUP($K13,$B:$G,AD$2,FALSE)),2))) | S13: 10 | T13: =IF(ISERROR(VLOOKUP($S13,$I$2:$Q$323,1,FALSE)),"",VLOOKUP($S13,$I$2:$Q$323,4,FALSE)) | U13: =IF(ISERROR(VLOOKUP($S13,$I$2:$Q$323,1,FALSE)),"",VLOOKUP($S13,$I$2:$Q$323,6,FALSE)) | V13: =SUMIF($J$2:$J$323,U13,$Q$2:$Q$321) -> 0 | AE13: FOR14 | AF13: FOR14
A14: 3 Ügyfél-azonosítási információ | B14: =IF(AND(LEFT(A14,6)="Blokk:",RIGHT(A14,10)<>"módosított",LEFT(A15,11)="Táblaadatok",H14>0),B13+1,B13) -> 0 | C14: =IF(B14=B13+1,MID(A14,8,8),"") | D14: =IF(B14=B13+1,IF(ISERROR(FIND("Állapot",A14)),RIGHT(A14,LEN(A14)-23)*1,MID(A14,24,FIND("Állapot",A14)-24)*1),"") | E14: =IF(B14=B13+1,VLOOKUP(MID(A15,40,5),AE:AF,2,0),"") | F14: =IF(B14=B13+1,RIGHT(A15,LEN(A15)-45),"") | G14: =IF(B14=B13+1,MID(A16,29,FIND("Kockázatkezelés",A16)-30)*1,"") | H14: =IF(ISNA(VLOOKUP(MID(A15,40,5),AE:AF,2,0)),0,1) -> 0 | I14: =IF(N14=0,0,IF(COUNTIF($J$1:J13,J14)>0,I13,I13+1)) -> 3 | J14: =N14 | K14: 13 | L14: =IF(ISERROR(VLOOKUP(N14,seged!$A$2:$B$458,2,FALSE)),IF(ISERROR(VLOOKUP($K14,$B:$G,Y$2,FALSE)),0,VLOOKUP($K14,$B:$G,Y$2,FALSE)),VLOOKUP(N14,seged!$A$2:$B$458,2,FALSE)) -> 0 | N14: =IF(ISERROR(VLOOKUP($K14,$B:$G,AA$2,FALSE)),"",VLOOKUP($K14,$B:$G,AA$2,FALSE)) | O14: =IF(ISERROR(VLOOKUP($K14,$B:$G,AB$2,FALSE)),"",VLOOKUP($K14,$B:$G,AB$2,FALSE)) | P14: =IF(ISERROR(VLOOKUP($K14,$B:$G,AC$2,FALSE)),"",VLOOKUP($K14,$B:$G,AC$2,FALSE)) | Q14: =IF(L14=0,"",(ROUND(IF(ISERROR(VLOOKUP($K14,$B:$G,AD$2,FALSE)),"terület?",VLOOKUP($K14,$B:$G,AD$2,FALSE)),2))) | S14: 11 | T14: =IF(ISERROR(VLOOKUP($S14,$I$2:$Q$323,1,FALSE)),"",VLOOKUP($S14,$I$2:$Q$323,4,FALSE)) | U14: =IF(ISERROR(VLOOKUP($S14,$I$2:$Q$323,1,FALSE)),"",VLOOKUP($S14,$I$2:$Q$323,6,FALSE)) | V14: =SUMIF($J$2:$J$323,U14,$Q$2:$Q$321) -> 0 | AE14: ULT01 | AF14: ULT01
A15: A kérelmezo ügyfél-azonosító száma: 1003148743 | B15: =IF(AND(LEFT(A15,6)="Blokk:",RIGHT(A15,10)<>"módosított",LEFT(A16,11)="Táblaadatok",H15>0),B14+1,B14) -> 0 | C15: =IF(B15=B14+1,MID(A15,8,8),"") | D15: =IF(B15=B14+1,IF(ISERROR(FIND("Állapot",A15)),RIGHT(A15,LEN(A15)-23)*1,MID(A15,24,FIND("Állapot",A15)-24)*1),"") | E15: =IF(B15=B14+1,VLOOKUP(MID(A16,40,5),AE:AF,2,0),"") | F15: =IF(B15=B14+1,RIGHT(A16,LEN(A16)-45),"") | G15: =IF(B15=B14+1,MID(A17,29,FIND("Kockázatkezelés",A17)-30)*1,"") | H15: =IF(ISNA(VLOOKUP(MID(A16,40,5),AE:AF,2,0)),0,1) -> 0 | I15: =IF(N15=0,0,IF(COUNTIF($J$1:J14,J15)>0,I14,I14+1)) -> 3 | J15: =N15 | K15: 14 | L15: =IF(ISERROR(VLOOKUP(N15,seged!$A$2:$B$458,2,FALSE)),IF(ISERROR(VLOOKUP($K15,$B:$G,Y$2,FALSE)),0,VLOOKUP($K15,$B:$G,Y$2,FALSE)),VLOOKUP(N15,seged!$A$2:$B$458,2,FALSE)) -> 0 | N15: =IF(ISERROR(VLOOKUP($K15,$B:$G,AA$2,FALSE)),"",VLOOKUP($K15,$B:$G,AA$2,FALSE)) | O15: =IF(ISERROR(VLOOKUP($K15,$B:$G,AB$2,FALSE)),"",VLOOKUP($K15,$B:$G,AB$2,FALSE)) | P15: =IF(ISERROR(VLOOKUP($K15,$B:$G,AC$2,FALSE)),"",VLOOKUP($K15,$B:$G,AC$2,FALSE)) | Q15: =IF(L15=0,"",(ROUND(IF(ISERROR(VLOOKUP($K15,$B:$G,AD$2,FALSE)),"terület?",VLOOKUP($K15,$B:$G,AD$2,FALSE)),2))) | S15: 12 | T15: =IF(ISERROR(VLOOKUP($S15,$I$2:$Q$323,1,FALSE)),"",VLOOKUP($S15,$I$2:$Q$323,4,FALSE)) | U15: =IF(ISERROR(VLOOKUP($S15,$I$2:$Q$323,1,FALSE)),"",VLOOKUP($S15,$I$2:$Q$323,6,FALSE)) | V15: =SUMIF($J$2:$J$323,U15,$Q$2:$Q$321) -> 0 | AE15: PAZ08 | AF15: PAZ08
A16: 4 Ügyfél adatai | B16: =IF(AND(LEFT(A16,6)="Blokk:",RIGHT(A16,10)<>"módosított",LEFT(A17,11)="Táblaadatok",H16>0),B15+1,B15) -> 0 | C16: =IF(B16=B15+1,MID(A16,8,8),"") | D16: =IF(B16=B15+1,IF(ISERROR(FIND("Állapot",A16)),RIGHT(A16,LEN(A16)-23)*1,MID(A16,24,FIND("Állapot",A16)-24)*1),"") | E16: =IF(B16=B15+1,VLOOKUP(MID(A17,40,5),AE:AF,2,0),"") | F16: =IF(B16=B15+1,RIGHT(A17,LEN(A17)-45),"") | G16: =IF(B16=B15+1,MID(A18,29,FIND("Kockázatkezelés",A18)-30)*1,"") | H16: =IF(ISNA(VLOOKUP(MID(A17,40,5),AE:AF,2,0)),0,1) -> 0 | I16: =IF(N16=0,0,IF(COUNTIF($J$1:J15,J16)>0,I15,I15+1)) -> 3 | J16: =N16 | K16: 15 | L16: =IF(ISERROR(VLOOKUP(N16,seged!$A$2:$B$458,2,FALSE)),IF(ISERROR(VLOOKUP($K16,$B:$G,Y$2,FALSE)),0,VLOOKUP($K16,$B:$G,Y$2,FALSE)),VLOOKUP(N16,seged!$A$2:$B$458,2,FALSE)) -> 0 | N16: =IF(ISERROR(VLOOKUP($K16,$B:$G,AA$2,FALSE)),"",VLOOKUP($K16,$B:$G,AA$2,FALSE)) | O16: =IF(ISERROR(VLOOKUP($K16,$B:$G,AB$2,FALSE)),"",VLOOKUP($K16,$B:$G,AB$2,FALSE)) | P16: =IF(ISERROR(VLOOKUP($K16,$B:$G,AC$2,FALSE)),"",VLOOKUP($K16,$B:$G,AC$2,FALSE)) | Q16: =IF(L16=0,"",(ROUND(IF(ISERROR(VLOOKUP($K16,$B:$G,AD$2,FALSE)),"terület?",VLOOKUP($K16,$B:$G,AD$2,FALSE)),2))) | S16: 13 | T16: =IF(ISERROR(VLOOKUP($S16,$I$2:$Q$323,1,FALSE)),"",VLOOKUP($S16,$I$2:$Q$323,4,FALSE)) | U16: =IF(ISERROR(VLOOKUP($S16,$I$2:$Q$323,1,FALSE)),"",VLOOKUP($S16,$I$2:$Q$323,6,FALSE)) | V16: =SUMIF($J$2:$J$323,U16,$Q$2:$Q$321) -> 0 | AE16: AGF02 | AF16: AGF02
... A43: Területalapú igénylések SAPS + Zöldítés q4 | B43: =IF(AND(LEFT(A43,6)="Blokk:",RIGHT(A43,10)<>"módosított",LEFT(A44,11)="Táblaadatok",H43>0),B42+1,B42) -> 2 | C43: =IF(B43=B42+1,MID(A43,8,8),"") | D43: =IF(B43=B42+1,IF(ISERROR(FIND("Állapot",A43)),RIGHT(A43,LEN(A43)-23)*1,MID(A43,24,FIND("Állapot",A43)-24)*1),"") | E43: =IF(B43=B42+1,VLOOKUP(MID(A44,40,5),AE:AF,2,0),"") | F43: =IF(B43=B42+1,RIGHT(A44,LEN(A44)-45),"") | G43: =IF(B43=B42+1,MID(A45,29,FIND("Kockázatkezelés",A45)-30)*1,"") | H43: =IF(ISNA(VLOOKUP(MID(A44,40,5),AE:AF,2,0)),0,1) -> 0 | I43: =IF(N43=0,0,IF(COUNTIF($J$1:J42,J43)>0,I42,I42+1)) -> 3 | J43: =N43 | K43: 42 | L43: =IF(ISERROR(VLOOKUP(N43,seged!$A$2:$B$458,2,FALSE)),IF(ISERROR(VLOOKUP($K43,$B:$G,Y$2,FALSE)),0,VLOOKUP($K43,$B:$G,Y$2,FALSE)),VLOOKUP(N43,seged!$A$2:$B$458,2,FALSE)) -> 0 | N43: =IF(ISERROR(VLOOKUP($K43,$B:$G,AA$2,FALSE)),"",VLOOKUP($K43,$B:$G,AA$2,FALSE)) | O43: =IF(ISERROR(VLOOKUP($K43,$B:$G,AB$2,FALSE)),"",VLOOKUP($K43,$B:$G,AB$2,FALSE)) | P43: =IF(ISERROR(VLOOKUP($K43,$B:$G,AC$2,FALSE)),"",VLOOKUP($K43,$B:$G,AC$2,FALSE)) | Q43: =IF(L43=0,"",(ROUND(IF(ISERROR(VLOOKUP($K43,$B:$G,AD$2,FALSE)),"terület?",VLOOKUP($K43,$B:$G,AD$2,FALSE)),2))) | S43: 40 | T43: =IF(ISERROR(VLOOKUP($S43,$I$2:$Q$323,1,FALSE)),"",VLOOKUP($S43,$I$2:$Q$323,4,FALSE)) | U43: =IF(ISERROR(VLOOKUP($S43,$I$2:$Q$323,1,FALSE)),"",VLOOKUP($S43,$I$2:$Q$323,6,FALSE)) | V43: =SUMIF($J$2:$J$323,U43,$Q$2:$Q$321) -> 0 | AE43: ULT29 | AF43: ULT29
A44: Blokk: H53TD320 Tábla: 3 | B44: =IF(AND(LEFT(A44,6)="Blokk:",RIGHT(A44,10)<>"módosított",LEFT(A45,11)="Táblaadatok",H44>0),B43+1,B43) -> 3 | C44: =IF(B44=B43+1,MID(A44,8,8),"") -> H53TD320 | D44: =IF(B44=B43+1,IF(ISERROR(FIND("Állapot",A44)),RIGHT(A44,LEN(A44)-23)*1,MID(A44,24,FIND("Állapot",A44)-24)*1),"") -> 3 | E44: =IF(B44=B43+1,VLOOKUP(MID(A45,40,5),AE:AF,2,0),"") -> KAL17 | F44: =IF(B44=B43+1,RIGHT(A45,LEN(A45)-45),"") -> Oszi árpa | G44: =IF(B44=B43+1,MID(A46,29,FIND("Kockázatkezelés",A46)-30)*1,"") -> #VALUE! | H44: =IF(ISNA(VLOOKUP(MID(A45,40,5),AE:AF,2,0)),0,1) -> 1 | I44: =IF(N44=0,0,IF(COUNTIF($J$1:J43,J44)>0,I43,I43+1)) -> 3 | J44: =N44 | K44: 43 | L44: =IF(ISERROR(VLOOKUP(N44,seged!$A$2:$B$458,2,FALSE)),IF(ISERROR(VLOOKUP($K44,$B:$G,Y$2,FALSE)),0,VLOOKUP($K44,$B:$G,Y$2,FALSE)),VLOOKUP(N44,seged!$A$2:$B$458,2,FALSE)) -> 0 | N44: =IF(ISERROR(VLOOKUP($K44,$B:$G,AA$2,FALSE)),"",VLOOKUP($K44,$B:$G,AA$2,FALSE)) | O44: =IF(ISERROR(VLOOKUP($K44,$B:$G,AB$2,FALSE)),"",VLOOKUP($K44,$B:$G,AB$2,FALSE)) | P44: =IF(ISERROR(VLOOKUP($K44,$B:$G,AC$2,FALSE)),"",VLOOKUP($K44,$B:$G,AC$2,FALSE)) | Q44: =IF(L44=0,"",(ROUND(IF(ISERROR(VLOOKUP($K44,$B:$G,AD$2,FALSE)),"terület?",VLOOKUP($K44,$B:$G,AD$2,FALSE)),2))) | AE44: PAZ06 | AF44: PAZ06
A45: Táblaadatok Fonövény hasznosítási kód: KAL17 Oszi árpa | B45: =IF(AND(LEFT(A45,6)="Blokk:",RIGHT(A45,10)<>"módosított",LEFT(A46,11)="Táblaadatok",H45>0),B44+1,B44) -> 3 | C45: =IF(B45=B44+1,MID(A45,8,8),"") | D45: =IF(B45=B44+1,IF(ISERROR(FIND("Állapot",A45)),RIGHT(A45,LEN(A45)-23)*1,MID(A45,24,FIND("Állapot",A45)-24)*1),"") | E45: =IF(B45=B44+1,VLOOKUP(MID(A46,40,5),AE:AF,2,0),"") | F45: =IF(B45=B44+1,RIGHT(A46,LEN(A46)-45),"") | G45: =IF(B45=B44+1,MID(A47,29,FIND("Kockázatkezelés",A47)-30)*1,"") | H45: =IF(ISNA(VLOOKUP(MID(A46,40,5),AE:AF,2,0)),0,1) -> 0 | I45: =IF(N45=0,0,IF(COUNTIF($J$1:J44,J45)>0,I44,I44+1)) -> 3 | J45: =N45 | K45: 44 | L45: =IF(ISERROR(VLOOKUP(N45,seged!$A$2:$B$458,2,FALSE)),IF(ISERROR(VLOOKUP($K45,$B:$G,Y$2,FALSE)),0,VLOOKUP($K45,$B:$G,Y$2,FALSE)),VLOOKUP(N45,seged!$A$2:$B$458,2,FALSE)) -> 0 | N45: =IF(ISERROR(VLOOKUP($K45,$B:$G,AA$2,FALSE)),"",VLOOKUP($K45,$B:$G,AA$2,FALSE)) | O45: =IF(ISERROR(VLOOKUP($K45,$B:$G,AB$2,FALSE)),"",VLOOKUP($K45,$B:$G,AB$2,FALSE)) | P45: =IF(ISERROR(VLOOKUP($K45,$B:$G,AC$2,FALSE)),"",VLOOKUP($K45,$B:$G,AC$2,FALSE)) | Q45: =IF(L45=0,"",(ROUND(IF(ISERROR(VLOOKUP($K45,$B:$G,AD$2,FALSE)),"terület?",VLOOKUP($K45,$B:$G,AD$2,FALSE)),2))) | AE45: ULT17 | AF45: ULT17
A46: Tábla igényelt területe: 0,9200 Tábla berajzolt terület: 0,8335 Kockázatkezelés szempontjából releváns terület: Szántóföldi kultúra Szaporítóanyag célra: Nem | B46: =IF(AND(LEFT(A46,6)="Blokk:",RIGHT(A46,10)<>"módosított",LEFT(A47,11)="Táblaadatok",H46>0),B45+1,B45) -> 3 | C46: =IF(B46=B45+1,MID(A46,8,8),"") | D46: =IF(B46=B45+1,IF(ISERROR(FIND("Állapot",A46)),RIGHT(A46,LEN(A46)-23)*1,MID(A46,24,FIND("Állapot",A46)-24)*1),"") | E46: =IF(B46=B45+1,VLOOKUP(MID(A47,40,5),AE:AF,2,0),"") | F46: =IF(B46=B45+1,RIGHT(A47,LEN(A47)-45),"") | G46: =IF(B46=B45+1,MID(A48,29,FIND("Kockázatkezelés",A48)-30)*1,"") | H46: =IF(ISNA(VLOOKUP(MID(A47,40,5),AE:AF,2,0)),0,1) -> 0 | I46: =IF(N46=0,0,IF(COUNTIF($J$1:J45,J46)>0,I45,I45+1)) -> 3 | J46: =N46 | K46: 45 | L46: =IF(ISERROR(VLOOKUP(N46,seged!$A$2:$B$458,2,FALSE)),IF(ISERROR(VLOOKUP($K46,$B:$G,Y$2,FALSE)),0,VLOOKUP($K46,$B:$G,Y$2,FALSE)),VLOOKUP(N46,seged!$A$2:$B$458,2,FALSE)) -> 0 | N46: =IF(ISERROR(VLOOKUP($K46,$B:$G,AA$2,FALSE)),"",VLOOKUP($K46,$B:$G,AA$2,FALSE)) | O46: =IF(ISERROR(VLOOKUP($K46,$B:$G,AB$2,FALSE)),"",VLOOKUP($K46,$B:$G,AB$2,FALSE)) | P46: =IF(ISERROR(VLOOKUP($K46,$B:$G,AC$2,FALSE)),"",VLOOKUP($K46,$B:$G,AC$2,FALSE)) | Q46: =IF(L46=0,"",(ROUND(IF(ISERROR(VLOOKUP($K46,$B:$G,AD$2,FALSE)),"terület?",VLOOKUP($K46,$B:$G,AD$2,FALSE)),2))) | AE46: PIL29 | AF46: PIL29
A47: Területalapú igénylések SAPS + Zöldítés q4 | B47: =IF(AND(LEFT(A47,6)="Blokk:",RIGHT(A47,10)<>"módosított",LEFT(A48,11)="Táblaadatok",H47>0),B46+1,B46) -> 3 | C47: =IF(B47=B46+1,MID(A47,8,8),"") | D47: =IF(B47=B46+1,IF(ISERROR(FIND("Állapot",A47)),RIGHT(A47,LEN(A47)-23)*1,MID(A47,24,FIND("Állapot",A47)-24)*1),"") | E47: =IF(B47=B46+1,VLOOKUP(MID(A48,40,5),AE:AF,2,0),"") | F47: =IF(B47=B46+1,RIGHT(A48,LEN(A48)-45),"") | G47: =IF(B47=B46+1,MID(A49,29,FIND("Kockázatkezelés",A49)-30)*1,"") | H47: =IF(ISNA(VLOOKUP(MID(A48,40,5),AE:AF,2,0)),0,1) -> 0 | I47: =IF(N47=0,0,IF(COUNTIF($J$1:J46,J47)>0,I46,I46+1)) -> 3 | J47: =N47 | K47: 46 | L47: =IF(ISERROR(VLOOKUP(N47,seged!$A$2:$B$458,2,FALSE)),IF(ISERROR(VLOOKUP($K47,$B:$G,Y$2,FALSE)),0,VLOOKUP($K47,$B:$G,Y$2,FALSE)),VLOOKUP(N47,seged!$A$2:$B$458,2,FALSE)) -> 0 | N47: =IF(ISERROR(VLOOKUP($K47,$B:$G,AA$2,FALSE)),"",VLOOKUP($K47,$B:$G,AA$2,FALSE)) | O47: =IF(ISERROR(VLOOKUP($K47,$B:$G,AB$2,FALSE)),"",VLOOKUP($K47,$B:$G,AB$2,FALSE)) | P47: =IF(ISERROR(VLOOKUP($K47,$B:$G,AC$2,FALSE)),"",VLOOKUP($K47,$B:$G,AC$2,FALSE)) | Q47: =IF(L47=0,"",(ROUND(IF(ISERROR(VLOOKUP($K47,$B:$G,AD$2,FALSE)),"terület?",VLOOKUP($K47,$B:$G,AD$2,FALSE)),2))) | AE47: FOR36 | AF47: FOR36
A48: 8 Kárenyhítés/Biztosítási díjtámogatás | B48: =IF(AND(LEFT(A48,6)="Blokk:",RIGHT(A48,10)<>"módosított",LEFT(A49,11)="Táblaadatok",H48>0),B47+1,B47) -> 3 | C48: =IF(B48=B47+1,MID(A48,8,8),"") | D48: =IF(B48=B47+1,IF(ISERROR(FIND("Állapot",A48)),RIGHT(A48,LEN(A48)-23)*1,MID(A48,24,FIND("Állapot",A48)-24)*1),"") | E48: =IF(B48=B47+1,VLOOKUP(MID(A49,40,5),AE:AF,2,0),"") | F48: =IF(B48=B47+1,RIGHT(A49,LEN(A49)-45),"") | G48: =IF(B48=B47+1,MID(A50,29,FIND("Kockázatkezelés",A50)-30)*1,"") | H48: =IF(ISNA(VLOOKUP(MID(A49,40,5),AE:AF,2,0)),0,1) -> 0 | I48: =IF(N48=0,0,IF(COUNTIF($J$1:J47,J48)>0,I47,I47+1)) -> 3 | J48: =N48 | K48: 47 | L48: =IF(ISERROR(VLOOKUP(N48,seged!$A$2:$B$458,2,FALSE)),IF(ISERROR(VLOOKUP($K48,$B:$G,Y$2,FALSE)),0,VLOOKUP($K48,$B:$G,Y$2,FALSE)),VLOOKUP(N48,seged!$A$2:$B$458,2,FALSE)) -> 0 | N48: =IF(ISERROR(VLOOKUP($K48,$B:$G,AA$2,FALSE)),"",VLOOKUP($K48,$B:$G,AA$2,FALSE)) | O48: =IF(ISERROR(VLOOKUP($K48,$B:$G,AB$2,FALSE)),"",VLOOKUP($K48,$B:$G,AB$2,FALSE)) | P48: =IF(ISERROR(VLOOKUP($K48,$B:$G,AC$2,FALSE)),"",VLOOKUP($K48,$B:$G,AC$2,FALSE)) | Q48: =IF(L48=0,"",(ROUND(IF(ISERROR(VLOOKUP($K48,$B:$G,AD$2,FALSE)),"terület?",VLOOKUP($K48,$B:$G,AD$2,FALSE)),2))) | AE48: VEG40 | AF48: VEG40
A49: Biztosítási díjtámogatás | B49: =IF(AND(LEFT(A49,6)="Blokk:",RIGHT(A49,10)<>"módosított",LEFT(A50,11)="Táblaadatok",H49>0),B48+1,B48) -> 3 | C49: =IF(B49=B48+1,MID(A49,8,8),"") | D49: =IF(B49=B48+1,IF(ISERROR(FIND("Állapot",A49)),RIGHT(A49,LEN(A49)-23)*1,MID(A49,24,FIND("Állapot",A49)-24)*1),"") | E49: =IF(B49=B48+1,VLOOKUP(MID(A50,40,5),AE:AF,2,0),"") | F49: =IF(B49=B48+1,RIGHT(A50,LEN(A50)-45),"") | G49: =IF(B49=B48+1,MID(A51,29,FIND("Kockázatkezelés",A51)-30)*1,"") | H49: =IF(ISNA(VLOOKUP(MID(A50,40,5),AE:AF,2,0)),0,1) -> 0 | I49: =IF(N49=0,0,IF(COUNTIF($J$1:J48,J49)>0,I48,I48+1)) -> 3 | J49: =N49 | K49: 48 | L49: =IF(ISERROR(VLOOKUP(N49,seged!$A$2:$B$458,2,FALSE)),IF(ISERROR(VLOOKUP($K49,$B:$G,Y$2,FALSE)),0,VLOOKUP($K49,$B:$G,Y$2,FALSE)),VLOOKUP(N49,seged!$A$2:$B$458,2,FALSE)) -> 0 | N49: =IF(ISERROR(VLOOKUP($K49,$B:$G,AA$2,FALSE)),"",VLOOKUP($K49,$B:$G,AA$2,FALSE)) | O49: =IF(ISERROR(VLOOKUP($K49,$B:$G,AB$2,FALSE)),"",VLOOKUP($K49,$B:$G,AB$2,FALSE)) | P49: =IF(ISERROR(VLOOKUP($K49,$B:$G,AC$2,FALSE)),"",VLOOKUP($K49,$B:$G,AC$2,FALSE)) | Q49: =IF(L49=0,"",(ROUND(IF(ISERROR(VLOOKUP($K49,$B:$G,AD$2,FALSE)),"terület?",VLOOKUP($K49,$B:$G,AD$2,FALSE)),2))) | AE49: ULT26 | AF49: ULT26
A50: VP - Mezogazdasági biztosítás díjához nyújtott támogatás: Nem | B50: =IF(AND(LEFT(A50,6)="Blokk:",RIGHT(A50,10)<>"módosított",LEFT(A51,11)="Táblaadatok",H50>0),B49+1,B49) -> 3 | C50: =IF(B50=B49+1,MID(A50,8,8),"") | D50: =IF(B50=B49+1,IF(ISERROR(FIND("Állapot",A50)),RIGHT(A50,LEN(A50)-23)*1,MID(A50,24,FIND("Állapot",A50)-24)*1),"") | E50: =IF(B50=B49+1,VLOOKUP(MID(A51,40,5),AE:AF,2,0),"") | F50: =IF(B50=B49+1,RIGHT(A51,LEN(A51)-45),"") | G50: =IF(B50=B49+1,MID(A52,29,FIND("Kockázatkezelés",A52)-30)*1,"") | H50: =IF(ISNA(VLOOKUP(MID(A51,40,5),AE:AF,2,0)),0,1) -> 0 | I50: =IF(N50=0,0,IF(COUNTIF($J$1:J49,J50)>0,I49,I49+1)) -> 3 | J50: =N50 | K50: 49 | L50: =IF(ISERROR(VLOOKUP(N50,seged!$A$2:$B$458,2,FALSE)),IF(ISERROR(VLOOKUP($K50,$B:$G,Y$2,FALSE)),0,VLOOKUP($K50,$B:$G,Y$2,FALSE)),VLOOKUP(N50,seged!$A$2:$B$458,2,FALSE)) -> 0 | N50: =IF(ISERROR(VLOOKUP($K50,$B:$G,AA$2,FALSE)),"",VLOOKUP($K50,$B:$G,AA$2,FALSE)) | O50: =IF(ISERROR(VLOOKUP($K50,$B:$G,AB$2,FALSE)),"",VLOOKUP($K50,$B:$G,AB$2,FALSE)) | P50: =IF(ISERROR(VLOOKUP($K50,$B:$G,AC$2,FALSE)),"",VLOOKUP($K50,$B:$G,AC$2,FALSE)) | Q50: =IF(L50=0,"",(ROUND(IF(ISERROR(VLOOKUP($K50,$B:$G,AD$2,FALSE)),"terület?",VLOOKUP($K50,$B:$G,AD$2,FALSE)),2))) | AE50: PAZ14 | AF50: PAZ14
A51: Kárenyhítés | B51: =IF(AND(LEFT(A51,6)="Blokk:",RIGHT(A51,10)<>"módosított",LEFT(A52,11)="Táblaadatok",H51>0),B50+1,B50) -> 3 | C51: =IF(B51=B50+1,MID(A51,8,8),"") | D51: =IF(B51=B50+1,IF(ISERROR(FIND("Állapot",A51)),RIGHT(A51,LEN(A51)-23)*1,MID(A51,24,FIND("Állapot",A51)-24)*1),"") | E51: =IF(B51=B50+1,VLOOKUP(MID(A52,40,5),AE:AF,2,0),"") | F51: =IF(B51=B50+1,RIGHT(A52,LEN(A52)-45),"") | G51: =IF(B51=B50+1,MID(A53,29,FIND("Kockázatkezelés",A53)-30)*1,"") | H51: =IF(ISNA(VLOOKUP(MID(A52,40,5),AE:AF,2,0)),0,1) -> 0 | I51: =IF(N51=0,0,IF(COUNTIF($J$1:J50,J51)>0,I50,I50+1)) -> 3 | J51: =N51 | K51: 50 | L51: =IF(ISERROR(VLOOKUP(N51,seged!$A$2:$B$458,2,FALSE)),IF(ISERROR(VLOOKUP($K51,$B:$G,Y$2,FALSE)),0,VLOOKUP($K51,$B:$G,Y$2,FALSE)),VLOOKUP(N51,seged!$A$2:$B$458,2,FALSE)) -> 0 | N51: =IF(ISERROR(VLOOKUP($K51,$B:$G,AA$2,FALSE)),"",VLOOKUP($K51,$B:$G,AA$2,FALSE)) | O51: =IF(ISERROR(VLOOKUP($K51,$B:$G,AB$2,FALSE)),"",VLOOKUP($K51,$B:$G,AB$2,FALSE)) | P51: =IF(ISERROR(VLOOKUP($K51,$B:$G,AC$2,FALSE)),"",VLOOKUP($K51,$B:$G,AC$2,FALSE)) | Q51: =IF(L51=0,"",(ROUND(IF(ISERROR(VLOOKUP($K51,$B:$G,AD$2,FALSE)),"terület?",VLOOKUP($K51,$B:$G,AD$2,FALSE)),2))) | AE51: VEG42 | AF51: VEG42
A52: Ön önkéntes kockázatközösségi tagságot vállalhat. | B52: =IF(AND(LEFT(A52,6)="Blokk:",RIGHT(A52,10)<>"módosított",LEFT(A53,11)="Táblaadatok",H52>0),B51+1,B51) -> 3 | C52: =IF(B52=B51+1,MID(A52,8,8),"") | D52: =IF(B52=B51+1,IF(ISERROR(FIND("Állapot",A52)),RIGHT(A52,LEN(A52)-23)*1,MID(A52,24,FIND("Állapot",A52)-24)*1),"") | E52: =IF(B52=B51+1,VLOOKUP(MID(A53,40,5),AE:AF,2,0),"") | F52: =IF(B52=B51+1,RIGHT(A53,LEN(A53)-45),"") | G52: =IF(B52=B51+1,MID(A54,29,FIND("Kockázatkezelés",A54)-30)*1,"") | H52: =IF(ISNA(VLOOKUP(MID(A53,40,5),AE:AF,2,0)),0,1) -> 0 | I52: =IF(N52=0,0,IF(COUNTIF($J$1:J51,J52)>0,I51,I51+1)) -> 3 | J52: =N52 | K52: 51 | L52: =IF(ISERROR(VLOOKUP(N52,seged!$A$2:$B$458,2,FALSE)),IF(ISERROR(VLOOKUP($K52,$B:$G,Y$2,FALSE)),0,VLOOKUP($K52,$B:$G,Y$2,FALSE)),VLOOKUP(N52,seged!$A$2:$B$458,2,FALSE)) -> 0 | N52: =IF(ISERROR(VLOOKUP($K52,$B:$G,AA$2,FALSE)),"",VLOOKUP($K52,$B:$G,AA$2,FALSE)) | O52: =IF(ISERROR(VLOOKUP($K52,$B:$G,AB$2,FALSE)),"",VLOOKUP($K52,$B:$G,AB$2,FALSE)) | P52: =IF(ISERROR(VLOOKUP($K52,$B:$G,AC$2,FALSE)),"",VLOOKUP($K52,$B:$G,AC$2,FALSE)) | Q52: =IF(L52=0,"",(ROUND(IF(ISERROR(VLOOKUP($K52,$B:$G,AD$2,FALSE)),"terület?",VLOOKUP($K52,$B:$G,AD$2,FALSE)),2))) | AE52: PIL01 | AF52: PIL01
A53: A mezogazdasági kockázatkezelési rendszerben részt kívánok venni. (A nyilatkozatot három évre vonatkozóan teszem meg.) Nem | B53: =IF(AND(LEFT(A53,6)="Blokk:",RIGHT(A53,10)<>"módosított",LEFT(A54,11)="Táblaadatok",H53>0),B52+1,B52) -> 3 | C53: =IF(B53=B52+1,MID(A53,8,8),"") | D53: =IF(B53=B52+1,IF(ISERROR(FIND("Állapot",A53)),RIGHT(A53,LEN(A53)-23)*1,MID(A53,24,FIND("Állapot",A53)-24)*1),"") | E53: =IF(B53=B52+1,VLOOKUP(MID(A54,40,5),AE:AF,2,0),"") | F53: =IF(B53=B52+1,RIGHT(A54,LEN(A54)-45),"") | G53: =IF(B53=B52+1,MID(A55,29,FIND("Kockázatkezelés",A55)-30)*1,"") | H53: =IF(ISNA(VLOOKUP(MID(A54,40,5),AE:AF,2,0)),0,1) -> 0 | I53: =IF(N53=0,0,IF(COUNTIF($J$1:J52,J53)>0,I52,I52+1)) -> 3 | J53: =N53 | K53: 52 | L53: =IF(ISERROR(VLOOKUP(N53,seged!$A$2:$B$458,2,FALSE)),IF(ISERROR(VLOOKUP($K53,$B:$G,Y$2,FALSE)),0,VLOOKUP($K53,$B:$G,Y$2,FALSE)),VLOOKUP(N53,seged!$A$2:$B$458,2,FALSE)) -> 0 | N53: =IF(ISERROR(VLOOKUP($K53,$B:$G,AA$2,FALSE)),"",VLOOKUP($K53,$B:$G,AA$2,FALSE)) | O53: =IF(ISERROR(VLOOKUP($K53,$B:$G,AB$2,FALSE)),"",VLOOKUP($K53,$B:$G,AB$2,FALSE)) | P53: =IF(ISERROR(VLOOKUP($K53,$B:$G,AC$2,FALSE)),"",VLOOKUP($K53,$B:$G,AC$2,FALSE)) | Q53: =IF(L53=0,"",(ROUND(IF(ISERROR(VLOOKUP($K53,$B:$G,AD$2,FALSE)),"terület?",VLOOKUP($K53,$B:$G,AD$2,FALSE)),2))) | AE53: KAL30 | AF53: KAL30
A54: W0221 Egységes kérelem Iratazonosító: 3369367775 Kérelmezo ügyfél-azonosítója: 1003148743 Nyomtatás idopontja: 2022.05.03. 11:41:54 Oldal: 3 | B54: =IF(AND(LEFT(A54,6)="Blokk:",RIGHT(A54,10)<>"módosított",LEFT(A55,11)="Táblaadatok",H54>0),B53+1,B53) -> 3 | C54: =IF(B54=B53+1,MID(A54,8,8),"") | D54: =IF(B54=B53+1,IF(ISERROR(FIND("Állapot",A54)),RIGHT(A54,LEN(A54)-23)*1,MID(A54,24,FIND("Állapot",A54)-24)*1),"") | E54: =IF(B54=B53+1,VLOOKUP(MID(A55,40,5),AE:AF,2,0),"") | F54: =IF(B54=B53+1,RIGHT(A55,LEN(A55)-45),"") | G54: =IF(B54=B53+1,MID(A56,29,FIND("Kockázatkezelés",A56)-30)*1,"") | H54: =IF(ISNA(VLOOKUP(MID(A55,40,5),AE:AF,2,0)),0,1) -> 0 | I54: =IF(N54=0,0,IF(COUNTIF($J$1:J53,J54)>0,I53,I53+1)) -> 3 | J54: =N54 | K54: 53 | L54: =IF(ISERROR(VLOOKUP(N54,seged!$A$2:$B$458,2,FALSE)),IF(ISERROR(VLOOKUP($K54,$B:$G,Y$2,FALSE)),0,VLOOKUP($K54,$B:$G,Y$2,FALSE)),VLOOKUP(N54,seged!$A$2:$B$458,2,FALSE)) -> 0 | N54: =IF(ISERROR(VLOOKUP($K54,$B:$G,AA$2,FALSE)),"",VLOOKUP($K54,$B:$G,AA$2,FALSE)) | O54: =IF(ISERROR(VLOOKUP($K54,$B:$G,AB$2,FALSE)),"",VLOOKUP($K54,$B:$G,AB$2,FALSE)) | P54: =IF(ISERROR(VLOOKUP($K54,$B:$G,AC$2,FALSE)),"",VLOOKUP($K54,$B:$G,AC$2,FALSE)) | Q54: =IF(L54=0,"",(ROUND(IF(ISERROR(VLOOKUP($K54,$B:$G,AD$2,FALSE)),"terület?",VLOOKUP($K54,$B:$G,AD$2,FALSE)),2))) | AE54: CUK01 | AF54: CUK01
A55: 9 Területek összesítése támogatási jogcímek és AKG célprogramok szerint | B55: =IF(AND(LEFT(A55,6)="Blokk:",RIGHT(A55,10)<>"módosított",LEFT(A56,11)="Táblaadatok",H55>0),B54+1,B54) -> 3 | C55: =IF(B55=B54+1,MID(A55,8,8),"") | D55: =IF(B55=B54+1,IF(ISERROR(FIND("Állapot",A55)),RIGHT(A55,LEN(A55)-23)*1,MID(A55,24,FIND("Állapot",A55)-24)*1),"") | E55: =IF(B55=B54+1,VLOOKUP(MID(A56,40,5),AE:AF,2,0),"") | F55: =IF(B55=B54+1,RIGHT(A56,LEN(A56)-45),"") | G55: =IF(B55=B54+1,MID(A57,29,FIND("Kockázatkezelés",A57)-30)*1,"") | H55: =IF(ISNA(VLOOKUP(MID(A56,40,5),AE:AF,2,0)),0,1) -> 0 | I55: =IF(N55=0,0,IF(COUNTIF($J$1:J54,J55)>0,I54,I54+1)) -> 3 | J55: =N55 | K55: 54 | L55: =IF(ISERROR(VLOOKUP(N55,seged!$A$2:$B$458,2,FALSE)),IF(ISERROR(VLOOKUP($K55,$B:$G,Y$2,FALSE)),0,VLOOKUP($K55,$B:$G,Y$2,FALSE)),VLOOKUP(N55,seged!$A$2:$B$458,2,FALSE)) -> 0 | N55: =IF(ISERROR(VLOOKUP($K55,$B:$G,AA$2,FALSE)),"",VLOOKUP($K55,$B:$G,AA$2,FALSE)) | O55: =IF(ISERROR(VLOOKUP($K55,$B:$G,AB$2,FALSE)),"",VLOOKUP($K55,$B:$G,AB$2,FALSE)) | P55: =IF(ISERROR(VLOOKUP($K55,$B:$G,AC$2,FALSE)),"",VLOOKUP($K55,$B:$G,AC$2,FALSE)) | Q55: =IF(L55=0,"",(ROUND(IF(ISERROR(VLOOKUP($K55,$B:$G,AD$2,FALSE)),"terület?",VLOOKUP($K55,$B:$G,AD$2,FALSE)),2))) | AE55: AGF05 | AF55: AGF05
... A321: rendeletben eloírtakat (növényvédoszer, mutrágya és csávázott vetomag mentesség), abban az esetben a terület nem fogadható el | B321: =IF(AND(LEFT(A321,6)="Blokk:",RIGHT(A321,10)<>"módosított",LEFT(A322,11)="Táblaadatok",H321>0),B320+1,B320) -> 3 | C321: =IF(B321=B320+1,MID(A321,8,8),"") | D321: =IF(B321=B320+1,IF(ISERROR(FIND("Állapot",A321)),RIGHT(A321,LEN(A321)-23)*1,MID(A321,24,FIND("Állapot",A321)-24)*1),"") | E321: =IF(B321=B320+1,VLOOKUP(MID(A322,40,5),AE:AF,2,0),"") | F321: =IF(B321=B320+1,RIGHT(A322,LEN(A322)-45),"") | G321: =IF(B321=B320+1,MID(A323,29,FIND("Kockázatkezelés",A323)-30)*1,"") | H321: =IF(ISNA(VLOOKUP(MID(A322,40,5),AE:AF,2,0)),0,1) -> 0 | I321: =IF(N321=0,0,IF(COUNTIF($J$1:J320,J321)>0,I320,I320+1)) -> 3 | J321: =N321 | K321: 320 | L321: =IF(ISERROR(VLOOKUP(N321,seged!$A$2:$B$458,2,FALSE)),IF(ISERROR(VLOOKUP($K321,$B:$G,Y$2,FALSE)),0,VLOOKUP($K321,$B:$G,Y$2,FALSE)),VLOOKUP(N321,seged!$A$2:$B$458,2,FALSE)) -> 0 | N321: =IF(ISERROR(VLOOKUP($K321,$B:$G,AA$2,FALSE)),"",VLOOKUP($K321,$B:$G,AA$2,FALSE)) | O321: =IF(ISERROR(VLOOKUP($K321,$B:$G,AB$2,FALSE)),"",VLOOKUP($K321,$B:$G,AB$2,FALSE)) | P321: =IF(ISERROR(VLOOKUP($K321,$B:$G,AC$2,FALSE)),"",VLOOKUP($K321,$B:$G,AC$2,FALSE)) | Q321: =IF(L321=0,"",(ROUND(IF(ISERROR(VLOOKUP($K321,$B:$G,AD$2,FALSE)),"terület?",VLOOKUP($K321,$B:$G,AD$2,FALSE)),2))) | AE321: ULT12 | AF321: ULT12
A322: ökológiai jelentoségu területként, | B322: =IF(AND(LEFT(A322,6)="Blokk:",RIGHT(A322,10)<>"módosított",LEFT(A323,11)="Táblaadatok",H322>0),B321+1,B321) -> 3 | C322: =IF(B322=B321+1,MID(A322,8,8),"") | D322: =IF(B322=B321+1,IF(ISERROR(FIND("Állapot",A322)),RIGHT(A322,LEN(A322)-23)*1,MID(A322,24,FIND("Állapot",A322)-24)*1),"") | E322: =IF(B322=B321+1,VLOOKUP(MID(A323,40,5),AE:AF,2,0),"") | F322: =IF(B322=B321+1,RIGHT(A323,LEN(A323)-45),"") | G322: =IF(B322=B321+1,MID(A324,29,FIND("Kockázatkezelés",A324)-30)*1,"") | H322: =IF(ISNA(VLOOKUP(MID(A323,40,5),AE:AF,2,0)),0,1) -> 0 | I322: =IF(N322=0,0,IF(COUNTIF($J$1:J321,J322)>0,I321,I321+1)) -> 3 | J322: =N322 | N322: =IF(ISERROR(VLOOKUP($K322,$B:$G,AA$2,FALSE)),"",VLOOKUP($K322,$B:$G,AA$2,FALSE)) | O322: =IF(ISERROR(VLOOKUP($K322,$B:$G,AB$2,FALSE)),"",VLOOKUP($K322,$B:$G,AB$2,FALSE)) | P322: =IF(ISERROR(VLOOKUP($K322,$B:$G,AC$2,FALSE)),"",VLOOKUP($K322,$B:$G,AC$2,FALSE)) | Q322: =IF(L322=0,"",(ROUND(IF(ISERROR(VLOOKUP($K322,$B:$G,AD$2,FALSE)),"terület?",VLOOKUP($K322,$B:$G,AD$2,FALSE)),2))) | AE322: PAZ21 | AF322: PAZ21
A323: i) ha a mezogazdasági termelo a vetés idopontját közvetlenül megelozo, illetve a betakarítást, beforgatást követo idoszakban, vagy a | B323: =IF(AND(LEFT(A323,6)="Blokk:",RIGHT(A323,10)<>"módosított",LEFT(A324,11)="Táblaadatok",H323>0),B322+1,B322) -> 3 | C323: =IF(B323=B322+1,MID(A323,8,8),"") | D323: =IF(B323=B322+1,IF(ISERROR(FIND("Állapot",A323)),RIGHT(A323,LEN(A323)-23)*1,MID(A323,24,FIND("Állapot",A323)-24)*1),"") | E323: =IF(B323=B322+1,VLOOKUP(MID(A324,40,5),AE:AF,2,0),"") | F323: =IF(B323=B322+1,RIGHT(A324,LEN(A324)-45),"") | G323: =IF(B323=B322+1,MID(A325,29,FIND("Kockázatkezelés",A325)-30)*1,"") | H323: =IF(ISNA(VLOOKUP(MID(A324,40,5),AE:AF,2,0)),0,1) -> 0 | I323: =IF(N323=0,0,IF(COUNTIF($J$1:J322,J323)>0,I322,I322+1)) -> 3 | J323: =N323 | N323: =IF(ISERROR(VLOOKUP($K323,$B:$G,AA$2,FALSE)),"",VLOOKUP($K323,$B:$G,AA$2,FALSE)) | O323: =IF(ISERROR(VLOOKUP($K323,$B:$G,AB$2,FALSE)),"",VLOOKUP($K323,$B:$G,AB$2,FALSE)) | P323: =IF(ISERROR(VLOOKUP($K323,$B:$G,AC$2,FALSE)),"",VLOOKUP($K323,$B:$G,AC$2,FALSE)) | Q323: =IF(L323=0,"",(ROUND(IF(ISERROR(VLOOKUP($K323,$B:$G,AD$2,FALSE)),"terület?",VLOOKUP($K323,$B:$G,AD$2,FALSE)),2))) | AE323: PAZ18 | AF323: PAZ18
A324: kötelezo fenntartást követo idoszakban, de még tárgyévben használ növényvédo szert, vagy fennáll annak a veszélye, hogy a talajból a | B324: =IF(AND(LEFT(A324,6)="Blokk:",RIGHT(A324,10)<>"módosított",LEFT(A325,11)="Táblaadatok",H324>0),B323+1,B323) -> 3 | C324: =IF(B324=B323+1,MID(A324,8,8),"") | D324: =IF(B324=B323+1,IF(ISERROR(FIND("Állapot",A324)),RIGHT(A324,LEN(A324)-23)*1,MID(A324,24,FIND("Állapot",A324)-24)*1),"") | E324: =IF(B324=B323+1,VLOOKUP(MID(A325,40,5),AE:AF,2,0),"") | F324: =IF(B324=B323+1,RIGHT(A325,LEN(A325)-45),"") | G324: =IF(B324=B323+1,MID(A326,29,FIND("Kockázatkezelés",A326)-30)*1,"") | H324: =IF(ISNA(VLOOKUP(MID(A325,40,5),AE:AF,2,0)),0,1) -> 0 | N324: =IF(ISERROR(VLOOKUP($K324,$B:$G,AA$2,FALSE)),"",VLOOKUP($K324,$B:$G,AA$2,FALSE)) | O324: =IF(ISERROR(VLOOKUP($K324,$B:$G,AB$2,FALSE)),"",VLOOKUP($K324,$B:$G,AB$2,FALSE)) | P324: =IF(ISERROR(VLOOKUP($K324,$B:$G,AC$2,FALSE)),"",VLOOKUP($K324,$B:$G,AC$2,FALSE)) | Q324: =IF(L324=0,"",(ROUND(IF(ISERROR(VLOOKUP($K324,$B:$G,AD$2,FALSE)),"terület?",VLOOKUP($K324,$B:$G,AD$2,FALSE)),2))) | AE324: FOR09 | AF324: FOR09
A325: vetést megelozoen növényvédoszer-használat miatt szermaradvány mutatható ki, akkor a tárgyév vagy a növényvédoszer-használat évére | B325: =IF(AND(LEFT(A325,6)="Blokk:",RIGHT(A325,10)<>"módosított",LEFT(A326,11)="Táblaadatok",H325>0),B324+1,B324) -> 3 | C325: =IF(B325=B324+1,MID(A325,8,8),"") | D325: =IF(B325=B324+1,IF(ISERROR(FIND("Állapot",A325)),RIGHT(A325,LEN(A325)-23)*1,MID(A325,24,FIND("Állapot",A325)-24)*1),"") | E325: =IF(B325=B324+1,VLOOKUP(MID(A326,40,5),AE:AF,2,0),"") | F325: =IF(B325=B324+1,RIGHT(A326,LEN(A326)-45),"") | G325: =IF(B325=B324+1,MID(A327,29,FIND("Kockázatkezelés",A327)-30)*1,"") | H325: =IF(ISNA(VLOOKUP(MID(A326,40,5),AE:AF,2,0)),0,1) -> 0 | N325: =IF(ISERROR(VLOOKUP($K325,$B:$G,AA$2,FALSE)),"",VLOOKUP($K325,$B:$G,AA$2,FALSE)) | O325: =IF(ISERROR(VLOOKUP($K325,$B:$G,AB$2,FALSE)),"",VLOOKUP($K325,$B:$G,AB$2,FALSE)) | P325: =IF(ISERROR(VLOOKUP($K325,$B:$G,AC$2,FALSE)),"",VLOOKUP($K325,$B:$G,AC$2,FALSE)) | Q325: =IF(L325=0,"",(ROUND(IF(ISERROR(VLOOKUP($K325,$B:$G,AD$2,FALSE)),"terület?",VLOOKUP($K325,$B:$G,AD$2,FALSE)),2))) | AE325: VEG06 | AF325: VEG06
A326: vonatkozóan azt a gazdálkodási napló GN10 betétlapjával kell igazolnia, | B326: =IF(AND(LEFT(A326,6)="Blokk:",RIGHT(A326,10)<>"módosított",LEFT(A327,11)="Táblaadatok",H326>0),B325+1,B325) -> 3 | C326: =IF(B326=B325+1,MID(A326,8,8),"") | D326: =IF(B326=B325+1,IF(ISERROR(FIND("Állapot",A326)),RIGHT(A326,LEN(A326)-23)*1,MID(A326,24,FIND("Állapot",A326)-24)*1),"") | E326: =IF(B326=B325+1,VLOOKUP(MID(A327,40,5),AE:AF,2,0),"") | F326: =IF(B326=B325+1,RIGHT(A327,LEN(A327)-45),"") | G326: =IF(B326=B325+1,MID(A328,29,FIND("Kockázatkezelés",A328)-30)*1,"") | H326: =IF(ISNA(VLOOKUP(MID(A327,40,5),AE:AF,2,0)),0,1) -> 0 | N326: =IF(ISERROR(VLOOKUP($K326,$B:$G,AA$2,FALSE)),"",VLOOKUP($K326,$B:$G,AA$2,FALSE)) | O326: =IF(ISERROR(VLOOKUP($K326,$B:$G,AB$2,FALSE)),"",VLOOKUP($K326,$B:$G,AB$2,FALSE)) | P326: =IF(ISERROR(VLOOKUP($K326,$B:$G,AC$2,FALSE)),"",VLOOKUP($K326,$B:$G,AC$2,FALSE)) | Q326: =IF(L326=0,"",(ROUND(IF(ISERROR(VLOOKUP($K326,$B:$G,AD$2,FALSE)),"terület?",VLOOKUP($K326,$B:$G,AD$2,FALSE)),2))) | AE326: FRU13 | AF326: FRU13
A327: j) a 10/2015. (III.13.) FM rendelet 3. § (7) bekezdése szerint a mezogazdasági termelo támogatási kérelmében ökológiai gazdálkodásban | B327: =IF(AND(LEFT(A327,6)="Blokk:",RIGHT(A327,10)<>"módosított",LEFT(A328,11)="Táblaadatok",H327>0),B326+1,B326) -> 3 | C327: =IF(B327=B326+1,MID(A327,8,8),"") | D327: =IF(B327=B326+1,IF(ISERROR(FIND("Állapot",A327)),RIGHT(A327,LEN(A327)-23)*1,MID(A327,24,FIND("Állapot",A327)-24)*1),"") | E327: =IF(B327=B326+1,VLOOKUP(MID(A328,40,5),AE:AF,2,0),"") | F327: =IF(B327=B326+1,RIGHT(A328,LEN(A328)-45),"") | G327: =IF(B327=B326+1,MID(A329,29,FIND("Kockázatkezelés",A329)-30)*1,"") | H327: =IF(ISNA(VLOOKUP(MID(A328,40,5),AE:AF,2,0)),0,1) -> 0 | N327: =IF(ISERROR(VLOOKUP($K327,$B:$G,AA$2,FALSE)),"",VLOOKUP($K327,$B:$G,AA$2,FALSE)) | O327: =IF(ISERROR(VLOOKUP($K327,$B:$G,AB$2,FALSE)),"",VLOOKUP($K327,$B:$G,AB$2,FALSE)) | P327: =IF(ISERROR(VLOOKUP($K327,$B:$G,AC$2,FALSE)),"",VLOOKUP($K327,$B:$G,AC$2,FALSE)) | Q327: =IF(L327=0,"",(ROUND(IF(ISERROR(VLOOKUP($K327,$B:$G,AD$2,FALSE)),"terület?",VLOOKUP($K327,$B:$G,AD$2,FALSE)),2))) | AE327: VEG10 | AF327: VEG10
A328: részt vevo szántóterületekhez kapcsolódóan kizárólag a tájelem számolható el ökológiai jelentoségu területként, | B328: =IF(AND(LEFT(A328,6)="Blokk:",RIGHT(A328,10)<>"módosított",LEFT(A329,11)="Táblaadatok",H328>0),B327+1,B327) -> 3 | C328: =IF(B328=B327+1,MID(A328,8,8),"") | D328: =IF(B328=B327+1,IF(ISERROR(FIND("Állapot",A328)),RIGHT(A328,LEN(A328)-23)*1,MID(A328,24,FIND("Állapot",A328)-24)*1),"") | E328: =IF(B328=B327+1,VLOOKUP(MID(A329,40,5),AE:AF,2,0),"") | F328: =IF(B328=B327+1,RIGHT(A329,LEN(A329)-45),"") | G328: =IF(B328=B327+1,MID(A330,29,FIND("Kockázatkezelés",A330)-30)*1,"") | H328: =IF(ISNA(VLOOKUP(MID(A329,40,5),AE:AF,2,0)),0,1) -> 0 | N328: =IF(ISERROR(VLOOKUP($K328,$B:$G,AA$2,FALSE)),"",VLOOKUP($K328,$B:$G,AA$2,FALSE)) | O328: =IF(ISERROR(VLOOKUP($K328,$B:$G,AB$2,FALSE)),"",VLOOKUP($K328,$B:$G,AB$2,FALSE)) | P328: =IF(ISERROR(VLOOKUP($K328,$B:$G,AC$2,FALSE)),"",VLOOKUP($K328,$B:$G,AC$2,FALSE)) | Q328: =IF(L328=0,"",(ROUND(IF(ISERROR(VLOOKUP($K328,$B:$G,AD$2,FALSE)),"terület?",VLOOKUP($K328,$B:$G,AD$2,FALSE)),2))) | AE328: PAZ23 | AF328: PAZ23
A329: k) a jelen kérelemben igényelt fonövény betakarítási idopontjának bejelentése minden esetben a növény valóságban történo lekerülésének | B329: =IF(AND(LEFT(A329,6)="Blokk:",RIGHT(A329,10)<>"módosított",LEFT(A330,11)="Táblaadatok",H329>0),B328+1,B328) -> 3 | C329: =IF(B329=B328+1,MID(A329,8,8),"") | D329: =IF(B329=B328+1,IF(ISERROR(FIND("Állapot",A329)),RIGHT(A329,LEN(A329)-23)*1,MID(A329,24,FIND("Állapot",A329)-24)*1),"") | E329: =IF(B329=B328+1,VLOOKUP(MID(A330,40,5),AE:AF,2,0),"") | F329: =IF(B329=B328+1,RIGHT(A330,LEN(A330)-45),"") | G329: =IF(B329=B328+1,MID(A331,29,FIND("Kockázatkezelés",A331)-30)*1,"") | H329: =IF(ISNA(VLOOKUP(MID(A330,40,5),AE:AF,2,0)),0,1) -> 0 | N329: =IF(ISERROR(VLOOKUP($K329,$B:$G,AA$2,FALSE)),"",VLOOKUP($K329,$B:$G,AA$2,FALSE)) | O329: =IF(ISERROR(VLOOKUP($K329,$B:$G,AB$2,FALSE)),"",VLOOKUP($K329,$B:$G,AB$2,FALSE)) | P329: =IF(ISERROR(VLOOKUP($K329,$B:$G,AC$2,FALSE)),"",VLOOKUP($K329,$B:$G,AC$2,FALSE)) | Q329: =IF(L329=0,"",(ROUND(IF(ISERROR(VLOOKUP($K329,$B:$G,AD$2,FALSE)),"terület?",VLOOKUP($K329,$B:$G,AD$2,FALSE)),2))) | AE329: PIL13 | AF329: PIL13
A330: idopontját jelenti az adott területrol, továbbá, hogy a 10/2015. (III.13.) FM rendeletben meghatározott termesztési és diverzifikációs idoszak | B330: =IF(AND(LEFT(A330,6)="Blokk:",RIGHT(A330,10)<>"módosított",LEFT(A331,11)="Táblaadatok",H330>0),B329+1,B329) -> 3 | C330: =IF(B330=B329+1,MID(A330,8,8),"") | D330: =IF(B330=B329+1,IF(ISERROR(FIND("Állapot",A330)),RIGHT(A330,LEN(A330)-23)*1,MID(A330,24,FIND("Állapot",A330)-24)*1),"") | E330: =IF(B330=B329+1,VLOOKUP(MID(A331,40,5),AE:AF,2,0),"") | F330: =IF(B330=B329+1,RIGHT(A331,LEN(A331)-45),"") | G330: =IF(B330=B329+1,MID(A332,29,FIND("Kockázatkezelés",A332)-30)*1,"") | H330: =IF(ISNA(VLOOKUP(MID(A331,40,5),AE:AF,2,0)),0,1) -> 0 | N330: =IF(ISERROR(VLOOKUP($K330,$B:$G,AA$2,FALSE)),"",VLOOKUP($K330,$B:$G,AA$2,FALSE)) | O330: =IF(ISERROR(VLOOKUP($K330,$B:$G,AB$2,FALSE)),"",VLOOKUP($K330,$B:$G,AB$2,FALSE)) | P330: =IF(ISERROR(VLOOKUP($K330,$B:$G,AC$2,FALSE)),"",VLOOKUP($K330,$B:$G,AC$2,FALSE)) | Q330: =IF(L330=0,"",(ROUND(IF(ISERROR(VLOOKUP($K330,$B:$G,AD$2,FALSE)),"terület?",VLOOKUP($K330,$B:$G,AD$2,FALSE)),2))) | AE330: VEG32 | AF330: VEG32
A331: a jelen kérelemben bejelentett fonövény tényleges vetési és betakarítási idopontja alapján kerül kiszámításra, | B331: =IF(AND(LEFT(A331,6)="Blokk:",RIGHT(A331,10)<>"módosított",LEFT(A332,11)="Táblaadatok",H331>0),B330+1,B330) -> 3 | C331: =IF(B331=B330+1,MID(A331,8,8),"") | D331: =IF(B331=B330+1,IF(ISERROR(FIND("Állapot",A331)),RIGHT(A331,LEN(A331)-23)*1,MID(A331,24,FIND("Állapot",A331)-24)*1),"") | E331: =IF(B331=B330+1,VLOOKUP(MID(A332,40,5),AE:AF,2,0),"") | F331: =IF(B331=B330+1,RIGHT(A332,LEN(A332)-45),"") | G331: =IF(B331=B330+1,MID(A333,29,FIND("Kockázatkezelés",A333)-30)*1,"") | H331: =IF(ISNA(VLOOKUP(MID(A332,40,5),AE:AF,2,0)),0,1) -> 0 | N331: =IF(ISERROR(VLOOKUP($K331,$B:$G,AA$2,FALSE)),"",VLOOKUP($K331,$B:$G,AA$2,FALSE)) | O331: =IF(ISERROR(VLOOKUP($K331,$B:$G,AB$2,FALSE)),"",VLOOKUP($K331,$B:$G,AB$2,FALSE)) | P331: =IF(ISERROR(VLOOKUP($K331,$B:$G,AC$2,FALSE)),"",VLOOKUP($K331,$B:$G,AC$2,FALSE)) | Q331: =IF(L331=0,"",(ROUND(IF(ISERROR(VLOOKUP($K331,$B:$G,AD$2,FALSE)),"terület?",VLOOKUP($K331,$B:$G,AD$2,FALSE)),2)))
A332: l) az általam benyújtott, jelen kérelmemben megadott adatok alapján a Kincstár a Magyarországon elismert ökológiai ellenorzo és tanúsító | B332: =IF(AND(LEFT(A332,6)="Blokk:",RIGHT(A332,10)<>"módosított",LEFT(A333,11)="Táblaadatok",H332>0),B331+1,B331) -> 3 | C332: =IF(B332=B331+1,MID(A332,8,8),"") | D332: =IF(B332=B331+1,IF(ISERROR(FIND("Állapot",A332)),RIGHT(A332,LEN(A332)-23)*1,MID(A332,24,FIND("Állapot",A332)-24)*1),"") | E332: =IF(B332=B331+1,VLOOKUP(MID(A333,40,5),AE:AF,2,0),"") | F332: =IF(B332=B331+1,RIGHT(A333,LEN(A333)-45),"") | G332: =IF(B332=B331+1,MID(A334,29,FIND("Kockázatkezelés",A334)-30)*1,"") | H332: =IF(ISNA(VLOOKUP(MID(A333,40,5),AE:AF,2,0)),0,1) -> 0 | N332: =IF(ISERROR(VLOOKUP($K332,$B:$G,AA$2,FALSE)),"",VLOOKUP($K332,$B:$G,AA$2,FALSE)) | O332: =IF(ISERROR(VLOOKUP($K332,$B:$G,AB$2,FALSE)),"",VLOOKUP($K332,$B:$G,AB$2,FALSE)) | P332: =IF(ISERROR(VLOOKUP($K332,$B:$G,AC$2,FALSE)),"",VLOOKUP($K332,$B:$G,AC$2,FALSE)) | Q332: =IF(L332=0,"",(ROUND(IF(ISERROR(VLOOKUP($K332,$B:$G,AD$2,FALSE)),"terület?",VLOOKUP($K332,$B:$G,AD$2,FALSE)),2)))
A333: szervezetnek ellenorzési célból adatot szolgáltat. | B333: =IF(AND(LEFT(A333,6)="Blokk:",RIGHT(A333,10)<>"módosított",LEFT(A334,11)="Táblaadatok",H333>0),B332+1,B332) -> 3 | C333: =IF(B333=B332+1,MID(A333,8,8),"") | D333: =IF(B333=B332+1,IF(ISERROR(FIND("Állapot",A333)),RIGHT(A333,LEN(A333)-23)*1,MID(A333,24,FIND("Állapot",A333)-24)*1),"") | E333: =IF(B333=B332+1,VLOOKUP(MID(A334,40,5),AE:AF,2,0),"") | F333: =IF(B333=B332+1,RIGHT(A334,LEN(A334)-45),"") | G333: =IF(B333=B332+1,MID(A335,29,FIND("Kockázatkezelés",A335)-30)*1,"") | H333: =IF(ISNA(VLOOKUP(MID(A334,40,5),AE:AF,2,0)),0,1) -> 0 | N333: =IF(ISERROR(VLOOKUP($K333,$B:$G,AA$2,FALSE)),"",VLOOKUP($K333,$B:$G,AA$2,FALSE)) | O333: =IF(ISERROR(VLOOKUP($K333,$B:$G,AB$2,FALSE)),"",VLOOKUP($K333,$B:$G,AB$2,FALSE)) | P333: =IF(ISERROR(VLOOKUP($K333,$B:$G,AC$2,FALSE)),"",VLOOKUP($K333,$B:$G,AC$2,FALSE)) | Q333: =IF(L333=0,"",(ROUND(IF(ISERROR(VLOOKUP($K333,$B:$G,AD$2,FALSE)),"terület?",VLOOKUP($K333,$B:$G,AD$2,FALSE)),2)))
A334: VIII. MePAR változásvezetési bejelentés beadásával kapcsolatos nyilatkozat: | B334: =IF(AND(LEFT(A334,6)="Blokk:",RIGHT(A334,10)<>"módosított",LEFT(A335,11)="Táblaadatok",H334>0),B333+1,B333) -> 3 | C334: =IF(B334=B333+1,MID(A334,8,8),"") | D334: =IF(B334=B333+1,IF(ISERROR(FIND("Állapot",A334)),RIGHT(A334,LEN(A334)-23)*1,MID(A334,24,FIND("Állapot",A334)-24)*1),"") | E334: =IF(B334=B333+1,VLOOKUP(MID(A335,40,5),AE:AF,2,0),"") | F334: =IF(B334=B333+1,RIGHT(A335,LEN(A335)-45),"") | G334: =IF(B334=B333+1,MID(A336,29,FIND("Kockázatkezelés",A336)-30)*1,"") | H334: =IF(ISNA(VLOOKUP(MID(A335,40,5),AE:AF,2,0)),0,1) -> 0 | N334: =IF(ISERROR(VLOOKUP($K334,$B:$G,AA$2,FALSE)),"",VLOOKUP($K334,$B:$G,AA$2,FALSE)) | O334: =IF(ISERROR(VLOOKUP($K334,$B:$G,AB$2,FALSE)),"",VLOOKUP($K334,$B:$G,AB$2,FALSE)) | P334: =IF(ISERROR(VLOOKUP($K334,$B:$G,AC$2,FALSE)),"",VLOOKUP($K334,$B:$G,AC$2,FALSE)) | Q334: =IF(L334=0,"",(ROUND(IF(ISERROR(VLOOKUP($K334,$B:$G,AD$2,FALSE)),"terület?",VLOOKUP($K334,$B:$G,AD$2,FALSE)),2)))
A335: 1. Kijelentem, hogy | B335: =IF(AND(LEFT(A335,6)="Blokk:",RIGHT(A335,10)<>"módosított",LEFT(A336,11)="Táblaadatok",H335>0),B334+1,B334) -> 3 | C335: =IF(B335=B334+1,MID(A335,8,8),"") | D335: =IF(B335=B334+1,IF(ISERROR(FIND("Állapot",A335)),RIGHT(A335,LEN(A335)-23)*1,MID(A335,24,FIND("Állapot",A335)-24)*1),"") | E335: =IF(B335=B334+1,VLOOKUP(MID(A336,40,5),AE:AF,2,0),"") | F335: =IF(B335=B334+1,RIGHT(A336,LEN(A336)-45),"") | G335: =IF(B335=B334+1,MID(A337,29,FIND("Kockázatkezelés",A337)-30)*1,"") | H335: =IF(ISNA(VLOOKUP(MID(A336,40,5),AE:AF,2,0)),0,1) -> 0 | N335: =IF(ISERROR(VLOOKUP($K335,$B:$G,AA$2,FALSE)),"",VLOOKUP($K335,$B:$G,AA$2,FALSE)) | O335: =IF(ISERROR(VLOOKUP($K335,$B:$G,AB$2,FALSE)),"",VLOOKUP($K335,$B:$G,AB$2,FALSE)) | P335: =IF(ISERROR(VLOOKUP($K335,$B:$G,AC$2,FALSE)),"",VLOOKUP($K335,$B:$G,AC$2,FALSE)) | Q335: =IF(L335=0,"",(ROUND(IF(ISERROR(VLOOKUP($K335,$B:$G,AD$2,FALSE)),"terület?",VLOOKUP($K335,$B:$G,AD$2,FALSE)),2)))
A336: a MePAR változásvezetési bejelentés során megadott adatok a valóságnak és a tényleges muvelésnek megfelelnek, valamint a változásvezetési | B336: =IF(AND(LEFT(A336,6)="Blokk:",RIGHT(A336,10)<>"módosított",LEFT(A337,11)="Táblaadatok",H336>0),B335+1,B335) -> 3 | C336: =IF(B336=B335+1,MID(A336,8,8),"") | D336: =IF(B336=B335+1,IF(ISERROR(FIND("Állapot",A336)),RIGHT(A336,LEN(A336)-23)*1,MID(A336,24,FIND("Állapot",A336)-24)*1),"") | E336: =IF(B336=B335+1,VLOOKUP(MID(A337,40,5),AE:AF,2,0),"") | F336: =IF(B336=B335+1,RIGHT(A337,LEN(A337)-45),"") | G336: =IF(B336=B335+1,MID(A338,29,FIND("Kockázatkezelés",A338)-30)*1,"") | H336: =IF(ISNA(VLOOKUP(MID(A337,40,5),AE:AF,2,0)),0,1) -> 0 | N336: =IF(ISERROR(VLOOKUP($K336,$B:$G,AA$2,FALSE)),"",VLOOKUP($K336,$B:$G,AA$2,FALSE)) | O336: =IF(ISERROR(VLOOKUP($K336,$B:$G,AB$2,FALSE)),"",VLOOKUP($K336,$B:$G,AB$2,FALSE)) | P336: =IF(ISERROR(VLOOKUP($K336,$B:$G,AC$2,FALSE)),"",VLOOKUP($K336,$B:$G,AC$2,FALSE)) | Q336: =IF(L336=0,"",(ROUND(IF(ISERROR(VLOOKUP($K336,$B:$G,AD$2,FALSE)),"terület?",VLOOKUP($K336,$B:$G,AD$2,FALSE)),2)))
A337: bejelentésben az engem érinto adatokkal kapcsolatos, illetve az általam végrehajtott összes változásról a Kincstárt tájékoztattam. | B337: =IF(AND(LEFT(A337,6)="Blokk:",RIGHT(A337,10)<>"módosított",LEFT(A338,11)="Táblaadatok",H337>0),B336+1,B336) -> 3 | C337: =IF(B337=B336+1,MID(A337,8,8),"") | D337: =IF(B337=B336+1,IF(ISERROR(FIND("Állapot",A337)),RIGHT(A337,LEN(A337)-23)*1,MID(A337,24,FIND("Állapot",A337)-24)*1),"") | E337: =IF(B337=B336+1,VLOOKUP(MID(A338,40,5),AE:AF,2,0),"") | F337: =IF(B337=B336+1,RIGHT(A338,LEN(A338)-45),"") | G337: =IF(B337=B336+1,MID(A339,29,FIND("Kockázatkezelés",A339)-30)*1,"") | H337: =IF(ISNA(VLOOKUP(MID(A338,40,5),AE:AF,2,0)),0,1) -> 0 | N337: =IF(ISERROR(VLOOKUP($K337,$B:$G,AA$2,FALSE)),"",VLOOKUP($K337,$B:$G,AA$2,FALSE)) | O337: =IF(ISERROR(VLOOKUP($K337,$B:$G,AB$2,FALSE)),"",VLOOKUP($K337,$B:$G,AB$2,FALSE)) | P337: =IF(ISERROR(VLOOKUP($K337,$B:$G,AC$2,FALSE)),"",VLOOKUP($K337,$B:$G,AC$2,FALSE)) | Q337: =IF(L337=0,"",(ROUND(IF(ISERROR(VLOOKUP($K337,$B:$G,AD$2,FALSE)),"terület?",VLOOKUP($K337,$B:$G,AD$2,FALSE)),2)))
A338: 2. Nyilatkozom, hogy | B338: =IF(AND(LEFT(A338,6)="Blokk:",RIGHT(A338,10)<>"módosított",LEFT(A339,11)="Táblaadatok",H338>0),B337+1,B337) -> 3 | C338: =IF(B338=B337+1,MID(A338,8,8),"") | D338: =IF(B338=B337+1,IF(ISERROR(FIND("Állapot",A338)),RIGHT(A338,LEN(A338)-23)*1,MID(A338,24,FIND("Állapot",A338)-24)*1),"") | E338: =IF(B338=B337+1,VLOOKUP(MID(A339,40,5),AE:AF,2,0),"") | F338: =IF(B338=B337+1,RIGHT(A339,LEN(A339)-45),"") | G338: =IF(B338=B337+1,MID(A340,29,FIND("Kockázatkezelés",A340)-30)*1,"") | H338: =IF(ISNA(VLOOKUP(MID(A339,40,5),AE:AF,2,0)),0,1) -> 0 | N338: =IF(ISERROR(VLOOKUP($K338,$B:$G,AA$2,FALSE)),"",VLOOKUP($K338,$B:$G,AA$2,FALSE)) | O338: =IF(ISERROR(VLOOKUP($K338,$B:$G,AB$2,FALSE)),"",VLOOKUP($K338,$B:$G,AB$2,FALSE)) | P338: =IF(ISERROR(VLOOKUP($K338,$B:$G,AC$2,FALSE)),"",VLOOKUP($K338,$B:$G,AC$2,FALSE)) | Q338: =IF(L338=0,"",(ROUND(IF(ISERROR(VLOOKUP($K338,$B:$G,AD$2,FALSE)),"terület?",VLOOKUP($K338,$B:$G,AD$2,FALSE)),2)))
A339: az általam újonnan bejelölt védett tájképi elem(ek) megfelel(nek) az egységes területalapú támogatások és egyes vidékfejlesztési támogatások | B339: =IF(AND(LEFT(A339,6)="Blokk:",RIGHT(A339,10)<>"módosított",LEFT(A340,11)="Táblaadatok",H339>0),B338+1,B338) -> 3 | C339: =IF(B339=B338+1,MID(A339,8,8),"") | D339: =IF(B339=B338+1,IF(ISERROR(FIND("Állapot",A339)),RIGHT(A339,LEN(A339)-23)*1,MID(A339,24,FIND("Állapot",A339)-24)*1),"") | E339: =IF(B339=B338+1,VLOOKUP(MID(A340,40,5),AE:AF,2,0),"") | F339: =IF(B339=B338+1,RIGHT(A340,LEN(A340)-45),"") | G339: =IF(B339=B338+1,MID(A341,29,FIND("Kockázatkezelés",A341)-30)*1,"") | H339: =IF(ISNA(VLOOKUP(MID(A340,40,5),AE:AF,2,0)),0,1) -> 0 | N339: =IF(ISERROR(VLOOKUP($K339,$B:$G,AA$2,FALSE)),"",VLOOKUP($K339,$B:$G,AA$2,FALSE)) | O339: =IF(ISERROR(VLOOKUP($K339,$B:$G,AB$2,FALSE)),"",VLOOKUP($K339,$B:$G,AB$2,FALSE)) | P339: =IF(ISERROR(VLOOKUP($K339,$B:$G,AC$2,FALSE)),"",VLOOKUP($K339,$B:$G,AC$2,FALSE)) | Q339: =IF(L339=0,"",(ROUND(IF(ISERROR(VLOOKUP($K339,$B:$G,AD$2,FALSE)),"terület?",VLOOKUP($K339,$B:$G,AD$2,FALSE)),2)))
A340: igényléséhez teljesítendo "Helyes Mezogazdasági és Környezeti Állapot" fenntartásához szükséges feltételrendszer, valamint az állatok | B340: =IF(AND(LEFT(A340,6)="Blokk:",RIGHT(A340,10)<>"módosított",LEFT(A341,11)="Táblaadatok",H340>0),B339+1,B339) -> 3 | C340: =IF(B340=B339+1,MID(A340,8,8),"") | D340: =IF(B340=B339+1,IF(ISERROR(FIND("Állapot",A340)),RIGHT(A340,LEN(A340)-23)*1,MID(A340,24,FIND("Állapot",A340)-24)*1),"") | E340: =IF(B340=B339+1,VLOOKUP(MID(A341,40,5),AE:AF,2,0),"") | F340: =IF(B340=B339+1,RIGHT(A341,LEN(A341)-45),"") | G340: =IF(B340=B339+1,MID(A342,29,FIND("Kockázatkezelés",A342)-30)*1,"") | H340: =IF(ISNA(VLOOKUP(MID(A341,40,5),AE:AF,2,0)),0,1) -> 0 | N340: =IF(ISERROR(VLOOKUP($K340,$B:$G,AA$2,FALSE)),"",VLOOKUP($K340,$B:$G,AA$2,FALSE)) | O340: =IF(ISERROR(VLOOKUP($K340,$B:$G,AB$2,FALSE)),"",VLOOKUP($K340,$B:$G,AB$2,FALSE)) | P340: =IF(ISERROR(VLOOKUP($K340,$B:$G,AC$2,FALSE)),"",VLOOKUP($K340,$B:$G,AC$2,FALSE)) | Q340: =IF(L340=0,"",(ROUND(IF(ISERROR(VLOOKUP($K340,$B:$G,AD$2,FALSE)),"terület?",VLOOKUP($K340,$B:$G,AD$2,FALSE)),2)))
A341: állategységre való átváltási arányának meghatározásáról szóló 50/2008. (IV. 24.) FVM rendeletben (HMKÁ rendelet) rögzített meghatározásnak. | B341: =IF(AND(LEFT(A341,6)="Blokk:",RIGHT(A341,10)<>"módosított",LEFT(A342,11)="Táblaadatok",H341>0),B340+1,B340) -> 3 | C341: =IF(B341=B340+1,MID(A341,8,8),"") | D341: =IF(B341=B340+1,IF(ISERROR(FIND("Állapot",A341)),RIGHT(A341,LEN(A341)-23)*1,MID(A341,24,FIND("Állapot",A341)-24)*1),"") | E341: =IF(B341=B340+1,VLOOKUP(MID(A342,40,5),AE:AF,2,0),"") | F341: =IF(B341=B340+1,RIGHT(A342,LEN(A342)-45),"") | G341: =IF(B341=B340+1,MID(A343,29,FIND("Kockázatkezelés",A343)-30)*1,"") | H341: =IF(ISNA(VLOOKUP(MID(A342,40,5),AE:AF,2,0)),0,1) -> 0 | N341: =IF(ISERROR(VLOOKUP($K341,$B:$G,AA$2,FALSE)),"",VLOOKUP($K341,$B:$G,AA$2,FALSE)) | O341: =IF(ISERROR(VLOOKUP($K341,$B:$G,AB$2,FALSE)),"",VLOOKUP($K341,$B:$G,AB$2,FALSE)) | P341: =IF(ISERROR(VLOOKUP($K341,$B:$G,AC$2,FALSE)),"",VLOOKUP($K341,$B:$G,AC$2,FALSE)) | Q341: =IF(L341=0,"",(ROUND(IF(ISERROR(VLOOKUP($K341,$B:$G,AD$2,FALSE)),"terület?",VLOOKUP($K341,$B:$G,AD$2,FALSE)),2)))
A342: 3. Tudomásul veszem, hogy | B342: =IF(AND(LEFT(A342,6)="Blokk:",RIGHT(A342,10)<>"módosított",LEFT(A343,11)="Táblaadatok",H342>0),B341+1,B341) -> 3 | C342: =IF(B342=B341+1,MID(A342,8,8),"") | D342: =IF(B342=B341+1,IF(ISERROR(FIND("Állapot",A342)),RIGHT(A342,LEN(A342)-23)*1,MID(A342,24,FIND("Állapot",A342)-24)*1),"") | E342: =IF(B342=B341+1,VLOOKUP(MID(A343,40,5),AE:AF,2,0),"") | F342: =IF(B342=B341+1,RIGHT(A343,LEN(A343)-45),"") | G342: =IF(B342=B341+1,MID(A344,29,FIND("Kockázatkezelés",A344)-30)*1,"") | H342: =IF(ISNA(VLOOKUP(MID(A343,40,5),AE:AF,2,0)),0,1) -> 0 | N342: =IF(ISERROR(VLOOKUP($K342,$B:$G,AA$2,FALSE)),"",VLOOKUP($K342,$B:$G,AA$2,FALSE)) | O342: =IF(ISERROR(VLOOKUP($K342,$B:$G,AB$2,FALSE)),"",VLOOKUP($K342,$B:$G,AB$2,FALSE)) | P342: =IF(ISERROR(VLOOKUP($K342,$B:$G,AC$2,FALSE)),"",VLOOKUP($K342,$B:$G,AC$2,FALSE)) | Q342: =IF(L342=0,"",(ROUND(IF(ISERROR(VLOOKUP($K342,$B:$G,AD$2,FALSE)),"terület?",VLOOKUP($K342,$B:$G,AD$2,FALSE)),2)))
... A672: 12%-nál nagyobb lejtésu terület: 0,6567 ha | B672: =IF(AND(LEFT(A672,6)="Blokk:",RIGHT(A672,10)<>"módosított",LEFT(A673,11)="Táblaadatok",H672>0),B671+1,B671) -> 3 | C672: =IF(B672=B671+1,MID(A672,8,8),"") | D672: =IF(B672=B671+1,IF(ISERROR(FIND("Állapot",A672)),RIGHT(A672,LEN(A672)-23)*1,MID(A672,24,FIND("Állapot",A672)-24)*1),"") | E672: =IF(B672=B671+1,VLOOKUP(MID(A673,40,5),AE:AF,2,0),"") | F672: =IF(B672=B671+1,RIGHT(A673,LEN(A673)-45),"") | G672: =IF(B672=B671+1,MID(A674,29,FIND("Kockázatkezelés",A674)-30)*1,"") | H672: =IF(ISNA(VLOOKUP(MID(A673,40,5),AE:AF,2,0)),0,1) -> 0 | N672: =IF(ISERROR(VLOOKUP($K672,$B:$G,AA$2,FALSE)),"",VLOOKUP($K672,$B:$G,AA$2,FALSE)) | O672: =IF(ISERROR(VLOOKUP($K672,$B:$G,AB$2,FALSE)),"",VLOOKUP($K672,$B:$G,AB$2,FALSE)) | P672: =IF(ISERROR(VLOOKUP($K672,$B:$G,AC$2,FALSE)),"",VLOOKUP($K672,$B:$G,AC$2,FALSE)) | Q672: =IF(L672=0,"",(ROUND(IF(ISERROR(VLOOKUP($K672,$B:$G,AD$2,FALSE)),"terület?",VLOOKUP($K672,$B:$G,AD$2,FALSE)),2)))
A673: 1 | B673: =IF(AND(LEFT(A673,6)="Blokk:",RIGHT(A673,10)<>"módosított",LEFT(A674,11)="Táblaadatok",H673>0),B672+1,B672) -> 3 | C673: =IF(B673=B672+1,MID(A673,8,8),"") | D673: =IF(B673=B672+1,IF(ISERROR(FIND("Állapot",A673)),RIGHT(A673,LEN(A673)-23)*1,MID(A673,24,FIND("Állapot",A673)-24)*1),"") | E673: =IF(B673=B672+1,VLOOKUP(MID(A674,40,5),AE:AF,2,0),"") | F673: =IF(B673=B672+1,RIGHT(A674,LEN(A674)-45),"") | G673: =IF(B673=B672+1,MID(A675,29,FIND("Kockázatkezelés",A675)-30)*1,"") | H673: =IF(ISNA(VLOOKUP(MID(A674,40,5),AE:AF,2,0)),0,1) -> 0 | N673: =IF(ISERROR(VLOOKUP($K673,$B:$G,AA$2,FALSE)),"",VLOOKUP($K673,$B:$G,AA$2,FALSE)) | O673: =IF(ISERROR(VLOOKUP($K673,$B:$G,AB$2,FALSE)),"",VLOOKUP($K673,$B:$G,AB$2,FALSE)) | P673: =IF(ISERROR(VLOOKUP($K673,$B:$G,AC$2,FALSE)),"",VLOOKUP($K673,$B:$G,AC$2,FALSE)) | Q673: =IF(L673=0,"",(ROUND(IF(ISERROR(VLOOKUP($K673,$B:$G,AD$2,FALSE)),"terület?",VLOOKUP($K673,$B:$G,AD$2,FALSE)),2)))
A674: 2 | B674: =IF(AND(LEFT(A674,6)="Blokk:",RIGHT(A674,10)<>"módosított",LEFT(A675,11)="Táblaadatok",H674>0),B673+1,B673) -> 3 | C674: =IF(B674=B673+1,MID(A674,8,8),"") | D674: =IF(B674=B673+1,IF(ISERROR(FIND("Állapot",A674)),RIGHT(A674,LEN(A674)-23)*1,MID(A674,24,FIND("Állapot",A674)-24)*1),"") | E674: =IF(B674=B673+1,VLOOKUP(MID(A675,40,5),AE:AF,2,0),"") | F674: =IF(B674=B673+1,RIGHT(A675,LEN(A675)-45),"") | G674: =IF(B674=B673+1,MID(A676,29,FIND("Kockázatkezelés",A676)-30)*1,"") | H674: =IF(ISNA(VLOOKUP(MID(A675,40,5),AE:AF,2,0)),0,1) -> 0 | N674: =IF(ISERROR(VLOOKUP($K674,$B:$G,AA$2,FALSE)),"",VLOOKUP($K674,$B:$G,AA$2,FALSE)) | O674: =IF(ISERROR(VLOOKUP($K674,$B:$G,AB$2,FALSE)),"",VLOOKUP($K674,$B:$G,AB$2,FALSE)) | P674: =IF(ISERROR(VLOOKUP($K674,$B:$G,AC$2,FALSE)),"",VLOOKUP($K674,$B:$G,AC$2,FALSE)) | Q674: =IF(L674=0,"",(ROUND(IF(ISERROR(VLOOKUP($K674,$B:$G,AD$2,FALSE)),"terület?",VLOOKUP($K674,$B:$G,AD$2,FALSE)),2)))
A675: 3 | B675: =IF(AND(LEFT(A675,6)="Blokk:",RIGHT(A675,10)<>"módosított",LEFT(A676,11)="Táblaadatok",H675>0),B674+1,B674) -> 3 | C675: =IF(B675=B674+1,MID(A675,8,8),"") | D675: =IF(B675=B674+1,IF(ISERROR(FIND("Állapot",A675)),RIGHT(A675,LEN(A675)-23)*1,MID(A675,24,FIND("Állapot",A675)-24)*1),"") | E675: =IF(B675=B674+1,VLOOKUP(MID(A676,40,5),AE:AF,2,0),"") | F675: =IF(B675=B674+1,RIGHT(A676,LEN(A676)-45),"") | G675: =IF(B675=B674+1,MID(A677,29,FIND("Kockázatkezelés",A677)-30)*1,"") | H675: =IF(ISNA(VLOOKUP(MID(A676,40,5),AE:AF,2,0)),0,1) -> 0 | N675: =IF(ISERROR(VLOOKUP($K675,$B:$G,AA$2,FALSE)),"",VLOOKUP($K675,$B:$G,AA$2,FALSE)) | O675: =IF(ISERROR(VLOOKUP($K675,$B:$G,AB$2,FALSE)),"",VLOOKUP($K675,$B:$G,AB$2,FALSE)) | P675: =IF(ISERROR(VLOOKUP($K675,$B:$G,AC$2,FALSE)),"",VLOOKUP($K675,$B:$G,AC$2,FALSE)) | Q675: =IF(L675=0,"",(ROUND(IF(ISERROR(VLOOKUP($K675,$B:$G,AD$2,FALSE)),"terület?",VLOOKUP($K675,$B:$G,AD$2,FALSE)),2)))
A676: Blokk: H53TD320 | B676: =IF(AND(LEFT(A676,6)="Blokk:",RIGHT(A676,10)<>"módosított",LEFT(A677,11)="Táblaadatok",H676>0),B675+1,B675) -> 3 | C676: =IF(B676=B675+1,MID(A676,8,8),"") | D676: =IF(B676=B675+1,IF(ISERROR(FIND("Állapot",A676)),RIGHT(A676,LEN(A676)-23)*1,MID(A676,24,FIND("Állapot",A676)-24)*1),"") | E676: =IF(B676=B675+1,VLOOKUP(MID(A677,40,5),AE:AF,2,0),"") | F676: =IF(B676=B675+1,RIGHT(A677,LEN(A677)-45),"") | G676: =IF(B676=B675+1,MID(A678,29,FIND("Kockázatkezelés",A678)-30)*1,"") | H676: =IF(ISNA(VLOOKUP(MID(A677,40,5),AE:AF,2,0)),0,1) -> 0 | N676: =IF(ISERROR(VLOOKUP($K676,$B:$G,AA$2,FALSE)),"",VLOOKUP($K676,$B:$G,AA$2,FALSE)) | O676: =IF(ISERROR(VLOOKUP($K676,$B:$G,AB$2,FALSE)),"",VLOOKUP($K676,$B:$G,AB$2,FALSE)) | P676: =IF(ISERROR(VLOOKUP($K676,$B:$G,AC$2,FALSE)),"",VLOOKUP($K676,$B:$G,AC$2,FALSE)) | Q676: =IF(L676=0,"",(ROUND(IF(ISERROR(VLOOKUP($K676,$B:$G,AD$2,FALSE)),"terület?",VLOOKUP($K676,$B:$G,AD$2,FALSE)),2)))
A677: blokkhatár | B677: =IF(AND(LEFT(A677,6)="Blokk:",RIGHT(A677,10)<>"módosított",LEFT(A678,11)="Táblaadatok",H677>0),B676+1,B676) -> 3 | C677: =IF(B677=B676+1,MID(A677,8,8),"") | D677: =IF(B677=B676+1,IF(ISERROR(FIND("Állapot",A677)),RIGHT(A677,LEN(A677)-23)*1,MID(A677,24,FIND("Állapot",A677)-24)*1),"") | E677: =IF(B677=B676+1,VLOOKUP(MID(A678,40,5),AE:AF,2,0),"") | F677: =IF(B677=B676+1,RIGHT(A678,LEN(A678)-45),"") | G677: =IF(B677=B676+1,MID(A679,29,FIND("Kockázatkezelés",A679)-30)*1,"") | H677: =IF(ISNA(VLOOKUP(MID(A678,40,5),AE:AF,2,0)),0,1) -> 0 | N677: =IF(ISERROR(VLOOKUP($K677,$B:$G,AA$2,FALSE)),"",VLOOKUP($K677,$B:$G,AA$2,FALSE)) | O677: =IF(ISERROR(VLOOKUP($K677,$B:$G,AB$2,FALSE)),"",VLOOKUP($K677,$B:$G,AB$2,FALSE)) | P677: =IF(ISERROR(VLOOKUP($K677,$B:$G,AC$2,FALSE)),"",VLOOKUP($K677,$B:$G,AC$2,FALSE)) | Q677: =IF(L677=0,"",(ROUND(IF(ISERROR(VLOOKUP($K677,$B:$G,AD$2,FALSE)),"terület?",VLOOKUP($K677,$B:$G,AD$2,FALSE)),2)))
A678: igényelt támogatható | B678: =IF(AND(LEFT(A678,6)="Blokk:",RIGHT(A678,10)<>"módosított",LEFT(A679,11)="Táblaadatok",H678>0),B677+1,B677) -> 3 | C678: =IF(B678=B677+1,MID(A678,8,8),"") | D678: =IF(B678=B677+1,IF(ISERROR(FIND("Állapot",A678)),RIGHT(A678,LEN(A678)-23)*1,MID(A678,24,FIND("Állapot",A678)-24)*1),"") | E678: =IF(B678=B677+1,VLOOKUP(MID(A679,40,5),AE:AF,2,0),"") | F678: =IF(B678=B677+1,RIGHT(A679,LEN(A679)-45),"") | G678: =IF(B678=B677+1,MID(A680,29,FIND("Kockázatkezelés",A680)-30)*1,"") | H678: =IF(ISNA(VLOOKUP(MID(A679,40,5),AE:AF,2,0)),0,1) -> 0 | N678: =IF(ISERROR(VLOOKUP($K678,$B:$G,AA$2,FALSE)),"",VLOOKUP($K678,$B:$G,AA$2,FALSE)) | O678: =IF(ISERROR(VLOOKUP($K678,$B:$G,AB$2,FALSE)),"",VLOOKUP($K678,$B:$G,AB$2,FALSE)) | P678: =IF(ISERROR(VLOOKUP($K678,$B:$G,AC$2,FALSE)),"",VLOOKUP($K678,$B:$G,AC$2,FALSE)) | Q678: =IF(L678=0,"",(ROUND(IF(ISERROR(VLOOKUP($K678,$B:$G,AD$2,FALSE)),"terület?",VLOOKUP($K678,$B:$G,AD$2,FALSE)),2)))
A679: NYILATKOZAT | B679: =IF(AND(LEFT(A679,6)="Blokk:",RIGHT(A679,10)<>"módosított",LEFT(A680,11)="Táblaadatok",H679>0),B678+1,B678) -> 3 | C679: =IF(B679=B678+1,MID(A679,8,8),"") | D679: =IF(B679=B678+1,IF(ISERROR(FIND("Állapot",A679)),RIGHT(A679,LEN(A679)-23)*1,MID(A679,24,FIND("Állapot",A679)-24)*1),"") | E679: =IF(B679=B678+1,VLOOKUP(MID(A680,40,5),AE:AF,2,0),"") | F679: =IF(B679=B678+1,RIGHT(A680,LEN(A680)-45),"") | G679: =IF(B679=B678+1,MID(A681,29,FIND("Kockázatkezelés",A681)-30)*1,"") | H679: =IF(ISNA(VLOOKUP(MID(A680,40,5),AE:AF,2,0)),0,1) -> 0 | N679: =IF(ISERROR(VLOOKUP($K679,$B:$G,AA$2,FALSE)),"",VLOOKUP($K679,$B:$G,AA$2,FALSE)) | O679: =IF(ISERROR(VLOOKUP($K679,$B:$G,AB$2,FALSE)),"",VLOOKUP($K679,$B:$G,AB$2,FALSE)) | P679: =IF(ISERROR(VLOOKUP($K679,$B:$G,AC$2,FALSE)),"",VLOOKUP($K679,$B:$G,AC$2,FALSE)) | Q679: =IF(L679=0,"",(ROUND(IF(ISERROR(VLOOKUP($K679,$B:$G,AD$2,FALSE)),"terület?",VLOOKUP($K679,$B:$G,AD$2,FALSE)),2)))
A680: Ügyfél neve: Jó Attila | B680: =IF(AND(LEFT(A680,6)="Blokk:",RIGHT(A680,10)<>"módosított",LEFT(A681,11)="Táblaadatok",H680>0),B679+1,B679) -> 3 | C680: =IF(B680=B679+1,MID(A680,8,8),"") | D680: =IF(B680=B679+1,IF(ISERROR(FIND("Állapot",A680)),RIGHT(A680,LEN(A680)-23)*1,MID(A680,24,FIND("Állapot",A680)-24)*1),"") | E680: =IF(B680=B679+1,VLOOKUP(MID(A681,40,5),AE:AF,2,0),"") | F680: =IF(B680=B679+1,RIGHT(A681,LEN(A681)-45),"") | G680: =IF(B680=B679+1,MID(A682,29,FIND("Kockázatkezelés",A682)-30)*1,"") | H680: =IF(ISNA(VLOOKUP(MID(A681,40,5),AE:AF,2,0)),0,1) -> 0 | N680: =IF(ISERROR(VLOOKUP($K680,$B:$G,AA$2,FALSE)),"",VLOOKUP($K680,$B:$G,AA$2,FALSE)) | O680: =IF(ISERROR(VLOOKUP($K680,$B:$G,AB$2,FALSE)),"",VLOOKUP($K680,$B:$G,AB$2,FALSE)) | P680: =IF(ISERROR(VLOOKUP($K680,$B:$G,AC$2,FALSE)),"",VLOOKUP($K680,$B:$G,AC$2,FALSE)) | Q680: =IF(L680=0,"",(ROUND(IF(ISERROR(VLOOKUP($K680,$B:$G,AD$2,FALSE)),"terület?",VLOOKUP($K680,$B:$G,AD$2,FALSE)),2)))
A681: Ügyfél-azonosító száma: 1003148743 | B681: =IF(AND(LEFT(A681,6)="Blokk:",RIGHT(A681,10)<>"módosított",LEFT(A682,11)="Táblaadatok",H681>0),B680+1,B680) -> 3 | C681: =IF(B681=B680+1,MID(A681,8,8),"") | D681: =IF(B681=B680+1,IF(ISERROR(FIND("Állapot",A681)),RIGHT(A681,LEN(A681)-23)*1,MID(A681,24,FIND("Állapot",A681)-24)*1),"") | E681: =IF(B681=B680+1,VLOOKUP(MID(A682,40,5),AE:AF,2,0),"") | F681: =IF(B681=B680+1,RIGHT(A682,LEN(A682)-45),"") | G681: =IF(B681=B680+1,MID(A683,29,FIND("Kockázatkezelés",A683)-30)*1,"") | H681: =IF(ISNA(VLOOKUP(MID(A682,40,5),AE:AF,2,0)),0,1) -> 0 | N681: =IF(ISERROR(VLOOKUP($K681,$B:$G,AA$2,FALSE)),"",VLOOKUP($K681,$B:$G,AA$2,FALSE)) | O681: =IF(ISERROR(VLOOKUP($K681,$B:$G,AB$2,FALSE)),"",VLOOKUP($K681,$B:$G,AB$2,FALSE)) | P681: =IF(ISERROR(VLOOKUP($K681,$B:$G,AC$2,FALSE)),"",VLOOKUP($K681,$B:$G,AC$2,FALSE)) | Q681: =IF(L681=0,"",(ROUND(IF(ISERROR(VLOOKUP($K681,$B:$G,AD$2,FALSE)),"terület?",VLOOKUP($K681,$B:$G,AD$2,FALSE)),2)))
A682: Kérelem azonosítója: 3369367775 | B682: =IF(AND(LEFT(A682,6)="Blokk:",RIGHT(A682,10)<>"módosított",LEFT(A683,11)="Táblaadatok",H682>0),B681+1,B681) -> 3 | C682: =IF(B682=B681+1,MID(A682,8,8),"") | D682: =IF(B682=B681+1,IF(ISERROR(FIND("Állapot",A682)),RIGHT(A682,LEN(A682)-23)*1,MID(A682,24,FIND("Állapot",A682)-24)*1),"") | E682: =IF(B682=B681+1,VLOOKUP(MID(A683,40,5),AE:AF,2,0),"") | F682: =IF(B682=B681+1,RIGHT(A683,LEN(A683)-45),"") | G682: =IF(B682=B681+1,MID(A684,29,FIND("Kockázatkezelés",A684)-30)*1,"") | H682: =IF(ISNA(VLOOKUP(MID(A683,40,5),AE:AF,2,0)),0,1) -> 0 | N682: =IF(ISERROR(VLOOKUP($K682,$B:$G,AA$2,FALSE)),"",VLOOKUP($K682,$B:$G,AA$2,FALSE)) | O682: =IF(ISERROR(VLOOKUP($K682,$B:$G,AB$2,FALSE)),"",VLOOKUP($K682,$B:$G,AB$2,FALSE)) | P682: =IF(ISERROR(VLOOKUP($K682,$B:$G,AC$2,FALSE)),"",VLOOKUP($K682,$B:$G,AC$2,FALSE)) | Q682: =IF(L682=0,"",(ROUND(IF(ISERROR(VLOOKUP($K682,$B:$G,AD$2,FALSE)),"terület?",VLOOKUP($K682,$B:$G,AD$2,FALSE)),2)))
A683: A kérelem ügyfélkapun keresztüli benyújtásának KR érkeztetési száma: Érk sz:__________ | B683: =IF(AND(LEFT(A683,6)="Blokk:",RIGHT(A683,10)<>"módosított",LEFT(A684,11)="Táblaadatok",H683>0),B682+1,B682) -> 3 | C683: =IF(B683=B682+1,MID(A683,8,8),"") | D683: =IF(B683=B682+1,IF(ISERROR(FIND("Állapot",A683)),RIGHT(A683,LEN(A683)-23)*1,MID(A683,24,FIND("Állapot",A683)-24)*1),"") | E683: =IF(B683=B682+1,VLOOKUP(MID(A684,40,5),AE:AF,2,0),"") | F683: =IF(B683=B682+1,RIGHT(A684,LEN(A684)-45),"") | G683: =IF(B683=B682+1,MID(A685,29,FIND("Kockázatkezelés",A685)-30)*1,"") | H683: =IF(ISNA(VLOOKUP(MID(A684,40,5),AE:AF,2,0)),0,1) -> 0 | N683: =IF(ISERROR(VLOOKUP($K683,$B:$G,AA$2,FALSE)),"",VLOOKUP($K683,$B:$G,AA$2,FALSE)) | O683: =IF(ISERROR(VLOOKUP($K683,$B:$G,AB$2,FALSE)),"",VLOOKUP($K683,$B:$G,AB$2,FALSE)) | P683: =IF(ISERROR(VLOOKUP($K683,$B:$G,AC$2,FALSE)),"",VLOOKUP($K683,$B:$G,AC$2,FALSE)) | Q683: =IF(L683=0,"",(ROUND(IF(ISERROR(VLOOKUP($K683,$B:$G,AD$2,FALSE)),"terület?",VLOOKUP($K683,$B:$G,AD$2,FALSE)),2)))
A684: Meghatalmazott/technikai közremuködo neve: Ruzsity Emil | B684: =IF(AND(LEFT(A684,6)="Blokk:",RIGHT(A684,10)<>"módosított",LEFT(A685,11)="Táblaadatok",H684>0),B683+1,B683) -> 3 | C684: =IF(B684=B683+1,MID(A684,8,8),"") | D684: =IF(B684=B683+1,IF(ISERROR(FIND("Állapot",A684)),RIGHT(A684,LEN(A684)-23)*1,MID(A684,24,FIND("Állapot",A684)-24)*1),"") | E684: =IF(B684=B683+1,VLOOKUP(MID(A685,40,5),AE:AF,2,0),"") | F684: =IF(B684=B683+1,RIGHT(A685,LEN(A685)-45),"") | G684: =IF(B684=B683+1,MID(A686,29,FIND("Kockázatkezelés",A686)-30)*1,"") | H684: =IF(ISNA(VLOOKUP(MID(A685,40,5),AE:AF,2,0)),0,1) -> 0 | N684: =IF(ISERROR(VLOOKUP($K684,$B:$G,AA$2,FALSE)),"",VLOOKUP($K684,$B:$G,AA$2,FALSE)) | O684: =IF(ISERROR(VLOOKUP($K684,$B:$G,AB$2,FALSE)),"",VLOOKUP($K684,$B:$G,AB$2,FALSE)) | P684: =IF(ISERROR(VLOOKUP($K684,$B:$G,AC$2,FALSE)),"",VLOOKUP($K684,$B:$G,AC$2,FALSE)) | Q684: =IF(L684=0,"",(ROUND(IF(ISERROR(VLOOKUP($K684,$B:$G,AD$2,FALSE)),"terület?",VLOOKUP($K684,$B:$G,AD$2,FALSE)),2)))
A685: Meghatalmazott/technikai közremuködo ügyfél-azonosító száma: 1004165143 | B685: =IF(AND(LEFT(A685,6)="Blokk:",RIGHT(A685,10)<>"módosított",LEFT(A686,11)="Táblaadatok",H685>0),B684+1,B684) -> 3 | C685: =IF(B685=B684+1,MID(A685,8,8),"") | D685: =IF(B685=B684+1,IF(ISERROR(FIND("Állapot",A685)),RIGHT(A685,LEN(A685)-23)*1,MID(A685,24,FIND("Állapot",A685)-24)*1),"") | E685: =IF(B685=B684+1,VLOOKUP(MID(A686,40,5),AE:AF,2,0),"") | F685: =IF(B685=B684+1,RIGHT(A686,LEN(A686)-45),"") | G685: =IF(B685=B684+1,MID(A687,29,FIND("Kockázatkezelés",A687)-30)*1,"") | H685: =IF(ISNA(VLOOKUP(MID(A686,40,5),AE:AF,2,0)),0,1) -> 0 | N685: =IF(ISERROR(VLOOKUP($K685,$B:$G,AA$2,FALSE)),"",VLOOKUP($K685,$B:$G,AA$2,FALSE)) | O685: =IF(ISERROR(VLOOKUP($K685,$B:$G,AB$2,FALSE)),"",VLOOKUP($K685,$B:$G,AB$2,FALSE)) | P685: =IF(ISERROR(VLOOKUP($K685,$B:$G,AC$2,FALSE)),"",VLOOKUP($K685,$B:$G,AC$2,FALSE)) | Q685: =IF(L685=0,"",(ROUND(IF(ISERROR(VLOOKUP($K685,$B:$G,AD$2,FALSE)),"terület?",VLOOKUP($K685,$B:$G,AD$2,FALSE)),2)))
A686: Alulírott nyilatkozom, hogy az elektronikus úton beadott 2022. évi Egységes Kérelem (EK) KR dokumentumának | B686: =IF(AND(LEFT(A686,6)="Blokk:",RIGHT(A686,10)<>"módosított",LEFT(A687,11)="Táblaadatok",H686>0),B685+1,B685) -> 3 | C686: =IF(B686=B685+1,MID(A686,8,8),"") | D686: =IF(B686=B685+1,IF(ISERROR(FIND("Állapot",A686)),RIGHT(A686,LEN(A686)-23)*1,MID(A686,24,FIND("Állapot",A686)-24)*1),"") | E686: =IF(B686=B685+1,VLOOKUP(MID(A687,40,5),AE:AF,2,0),"") | F686: =IF(B686=B685+1,RIGHT(A687,LEN(A687)-45),"") | G686: =IF(B686=B685+1,MID(A688,29,FIND("Kockázatkezelés",A688)-30)*1,"") | H686: =IF(ISNA(VLOOKUP(MID(A687,40,5),AE:AF,2,0)),0,1) -> 0 | N686: =IF(ISERROR(VLOOKUP($K686,$B:$G,AA$2,FALSE)),"",VLOOKUP($K686,$B:$G,AA$2,FALSE)) | O686: =IF(ISERROR(VLOOKUP($K686,$B:$G,AB$2,FALSE)),"",VLOOKUP($K686,$B:$G,AB$2,FALSE)) | P686: =IF(ISERROR(VLOOKUP($K686,$B:$G,AC$2,FALSE)),"",VLOOKUP($K686,$B:$G,AC$2,FALSE)) | Q686: =IF(L686=0,"",(ROUND(IF(ISERROR(VLOOKUP($K686,$B:$G,AD$2,FALSE)),"terület?",VLOOKUP($K686,$B:$G,AD$2,FALSE)),2)))
A687: adattartalmát megismertem, az az általam megadott adatokat tartalmazza, és az Egységes Kérelem (EK) az én | B687: =IF(AND(LEFT(A687,6)="Blokk:",RIGHT(A687,10)<>"módosított",LEFT(A688,11)="Táblaadatok",H687>0),B686+1,B686) -> 3 | C687: =IF(B687=B686+1,MID(A687,8,8),"") | D687: =IF(B687=B686+1,IF(ISERROR(FIND("Állapot",A687)),RIGHT(A687,LEN(A687)-23)*1,MID(A687,24,FIND("Állapot",A687)-24)*1),"") | E687: =IF(B687=B686+1,VLOOKUP(MID(A688,40,5),AE:AF,2,0),"") | F687: =IF(B687=B686+1,RIGHT(A688,LEN(A688)-45),"") | G687: =IF(B687=B686+1,MID(A689,29,FIND("Kockázatkezelés",A689)-30)*1,"") | H687: =IF(ISNA(VLOOKUP(MID(A688,40,5),AE:AF,2,0)),0,1) -> 0 | N687: =IF(ISERROR(VLOOKUP($K687,$B:$G,AA$2,FALSE)),"",VLOOKUP($K687,$B:$G,AA$2,FALSE)) | O687: =IF(ISERROR(VLOOKUP($K687,$B:$G,AB$2,FALSE)),"",VLOOKUP($K687,$B:$G,AB$2,FALSE)) | P687: =IF(ISERROR(VLOOKUP($K687,$B:$G,AC$2,FALSE)),"",VLOOKUP($K687,$B:$G,AC$2,FALSE)) | Q687: =IF(L687=0,"",(ROUND(IF(ISERROR(VLOOKUP($K687,$B:$G,AD$2,FALSE)),"terület?",VLOOKUP($K687,$B:$G,AD$2,FALSE)),2)))
... A704: Meghatalmazó (ügyfél) aláírása | B704: =IF(AND(LEFT(A704,6)="Blokk:",RIGHT(A704,10)<>"módosított",LEFT(A705,11)="Táblaadatok",H704>0),B703+1,B703) -> 3 | C704: =IF(B704=B703+1,MID(A704,8,8),"") | D704: =IF(B704=B703+1,IF(ISERROR(FIND("Állapot",A704)),RIGHT(A704,LEN(A704)-23)*1,MID(A704,24,FIND("Állapot",A704)-24)*1),"") | E704: =IF(B704=B703+1,VLOOKUP(MID(A705,40,5),AE:AF,2,0),"") | F704: =IF(B704=B703+1,RIGHT(A705,LEN(A705)-45),"") | G704: =IF(B704=B703+1,MID(A706,29,FIND("Kockázatkezelés",A706)-30)*1,"") | H704: =IF(ISNA(VLOOKUP(MID(A705,40,5),AE:AF,2,0)),0,1) -> 0 | N704: =IF(ISERROR(VLOOKUP($K704,$B:$G,AA$2,FALSE)),"",VLOOKUP($K704,$B:$G,AA$2,FALSE)) | O704: =IF(ISERROR(VLOOKUP($K704,$B:$G,AB$2,FALSE)),"",VLOOKUP($K704,$B:$G,AB$2,FALSE)) | P704: =IF(ISERROR(VLOOKUP($K704,$B:$G,AC$2,FALSE)),"",VLOOKUP($K704,$B:$G,AC$2,FALSE)) | Q704: =IF(L704=0,"",(ROUND(IF(ISERROR(VLOOKUP($K704,$B:$G,AD$2,FALSE)),"terület?",VLOOKUP($K704,$B:$G,AD$2,FALSE)),2)))
B705: =IF(AND(LEFT(A705,6)="Blokk:",RIGHT(A705,10)<>"módosított",LEFT(A706,11)="Táblaadatok",H705>0),B704+1,B704) -> 3 | C705: =IF(B705=B704+1,MID(A705,8,8),"") | D705: =IF(B705=B704+1,IF(ISERROR(FIND("Állapot",A705)),RIGHT(A705,LEN(A705)-23)*1,MID(A705,24,FIND("Állapot",A705)-24)*1),"") | E705: =IF(B705=B704+1,VLOOKUP(MID(A706,40,5),AE:AF,2,0),"") | F705: =IF(B705=B704+1,RIGHT(A706,LEN(A706)-45),"") | G705: =IF(B705=B704+1,MID(A707,29,FIND("Kockázatkezelés",A707)-30)*1,"") | H705: =IF(ISNA(VLOOKUP(MID(A706,40,5),AE:AF,2,0)),0,1) -> 0 | N705: =IF(ISERROR(VLOOKUP($K705,$B:$G,AA$2,FALSE)),"",VLOOKUP($K705,$B:$G,AA$2,FALSE)) | O705: =IF(ISERROR(VLOOKUP($K705,$B:$G,AB$2,FALSE)),"",VLOOKUP($K705,$B:$G,AB$2,FALSE)) | P705: =IF(ISERROR(VLOOKUP($K705,$B:$G,AC$2,FALSE)),"",VLOOKUP($K705,$B:$G,AC$2,FALSE)) | Q705: =IF(L705=0,"",(ROUND(IF(ISERROR(VLOOKUP($K705,$B:$G,AD$2,FALSE)),"terület?",VLOOKUP($K705,$B:$G,AD$2,FALSE)),2)))
B706: =IF(AND(LEFT(A706,6)="Blokk:",RIGHT(A706,10)<>"módosított",LEFT(A707,11)="Táblaadatok",H706>0),B705+1,B705) -> 3 | C706: =IF(B706=B705+1,MID(A706,8,8),"") | D706: =IF(B706=B705+1,IF(ISERROR(FIND("Állapot",A706)),RIGHT(A706,LEN(A706)-23)*1,MID(A706,24,FIND("Állapot",A706)-24)*1),"") | E706: =IF(B706=B705+1,VLOOKUP(MID(A707,40,5),AE:AF,2,0),"") | F706: =IF(B706=B705+1,RIGHT(A707,LEN(A707)-45),"") | G706: =IF(B706=B705+1,MID(A708,29,FIND("Kockázatkezelés",A708)-30)*1,"") | H706: =IF(ISNA(VLOOKUP(MID(A707,40,5),AE:AF,2,0)),0,1) -> 0 | N706: =IF(ISERROR(VLOOKUP($K706,$B:$G,AA$2,FALSE)),"",VLOOKUP($K706,$B:$G,AA$2,FALSE)) | O706: =IF(ISERROR(VLOOKUP($K706,$B:$G,AB$2,FALSE)),"",VLOOKUP($K706,$B:$G,AB$2,FALSE)) | P706: =IF(ISERROR(VLOOKUP($K706,$B:$G,AC$2,FALSE)),"",VLOOKUP($K706,$B:$G,AC$2,FALSE)) | Q706: =IF(L706=0,"",(ROUND(IF(ISERROR(VLOOKUP($K706,$B:$G,AD$2,FALSE)),"terület?",VLOOKUP($K706,$B:$G,AD$2,FALSE)),2)))
B707: =IF(AND(LEFT(A707,6)="Blokk:",RIGHT(A707,10)<>"módosított",LEFT(A708,11)="Táblaadatok",H707>0),B706+1,B706) -> 3 | C707: =IF(B707=B706+1,MID(A707,8,8),"") | D707: =IF(B707=B706+1,IF(ISERROR(FIND("Állapot",A707)),RIGHT(A707,LEN(A707)-23)*1,MID(A707,24,FIND("Állapot",A707)-24)*1),"") | E707: =IF(B707=B706+1,VLOOKUP(MID(A708,40,5),AE:AF,2,0),"") | F707: =IF(B707=B706+1,RIGHT(A708,LEN(A708)-45),"") | G707: =IF(B707=B706+1,MID(A709,29,FIND("Kockázatkezelés",A709)-30)*1,"") | H707: =IF(ISNA(VLOOKUP(MID(A708,40,5),AE:AF,2,0)),0,1) -> 0 | N707: =IF(ISERROR(VLOOKUP($K707,$B:$G,AA$2,FALSE)),"",VLOOKUP($K707,$B:$G,AA$2,FALSE)) | O707: =IF(ISERROR(VLOOKUP($K707,$B:$G,AB$2,FALSE)),"",VLOOKUP($K707,$B:$G,AB$2,FALSE)) | P707: =IF(ISERROR(VLOOKUP($K707,$B:$G,AC$2,FALSE)),"",VLOOKUP($K707,$B:$G,AC$2,FALSE)) | Q707: =IF(L707=0,"",(ROUND(IF(ISERROR(VLOOKUP($K707,$B:$G,AD$2,FALSE)),"terület?",VLOOKUP($K707,$B:$G,AD$2,FALSE)),2)))
B708: =IF(AND(LEFT(A708,6)="Blokk:",RIGHT(A708,10)<>"módosított",LEFT(A709,11)="Táblaadatok",H708>0),B707+1,B707) -> 3 | C708: =IF(B708=B707+1,MID(A708,8,8),"") | D708: =IF(B708=B707+1,IF(ISERROR(FIND("Állapot",A708)),RIGHT(A708,LEN(A708)-23)*1,MID(A708,24,FIND("Állapot",A708)-24)*1),"") | E708: =IF(B708=B707+1,VLOOKUP(MID(A709,40,5),AE:AF,2,0),"") | F708: =IF(B708=B707+1,RIGHT(A709,LEN(A709)-45),"") | G708: =IF(B708=B707+1,MID(A710,29,FIND("Kockázatkezelés",A710)-30)*1,"") | H708: =IF(ISNA(VLOOKUP(MID(A709,40,5),AE:AF,2,0)),0,1) -> 0 | N708: =IF(ISERROR(VLOOKUP($K708,$B:$G,AA$2,FALSE)),"",VLOOKUP($K708,$B:$G,AA$2,FALSE)) | O708: =IF(ISERROR(VLOOKUP($K708,$B:$G,AB$2,FALSE)),"",VLOOKUP($K708,$B:$G,AB$2,FALSE)) | P708: =IF(ISERROR(VLOOKUP($K708,$B:$G,AC$2,FALSE)),"",VLOOKUP($K708,$B:$G,AC$2,FALSE)) | Q708: =IF(L708=0,"",(ROUND(IF(ISERROR(VLOOKUP($K708,$B:$G,AD$2,FALSE)),"terület?",VLOOKUP($K708,$B:$G,AD$2,FALSE)),2)))
B709: =IF(AND(LEFT(A709,6)="Blokk:",RIGHT(A709,10)<>"módosított",LEFT(A710,11)="Táblaadatok",H709>0),B708+1,B708) -> 3 | C709: =IF(B709=B708+1,MID(A709,8,8),"") | D709: =IF(B709=B708+1,IF(ISERROR(FIND("Állapot",A709)),RIGHT(A709,LEN(A709)-23)*1,MID(A709,24,FIND("Állapot",A709)-24)*1),"") | E709: =IF(B709=B708+1,VLOOKUP(MID(A710,40,5),AE:AF,2,0),"") | F709: =IF(B709=B708+1,RIGHT(A710,LEN(A710)-45),"") | G709: =IF(B709=B708+1,MID(A711,29,FIND("Kockázatkezelés",A711)-30)*1,"") | H709: =IF(ISNA(VLOOKUP(MID(A710,40,5),AE:AF,2,0)),0,1) -> 0 | N709: =IF(ISERROR(VLOOKUP($K709,$B:$G,AA$2,FALSE)),"",VLOOKUP($K709,$B:$G,AA$2,FALSE)) | O709: =IF(ISERROR(VLOOKUP($K709,$B:$G,AB$2,FALSE)),"",VLOOKUP($K709,$B:$G,AB$2,FALSE)) | P709: =IF(ISERROR(VLOOKUP($K709,$B:$G,AC$2,FALSE)),"",VLOOKUP($K709,$B:$G,AC$2,FALSE)) | Q709: =IF(L709=0,"",(ROUND(IF(ISERROR(VLOOKUP($K709,$B:$G,AD$2,FALSE)),"terület?",VLOOKUP($K709,$B:$G,AD$2,FALSE)),2)))
B710: =IF(AND(LEFT(A710,6)="Blokk:",RIGHT(A710,10)<>"módosított",LEFT(A711,11)="Táblaadatok",H710>0),B709+1,B709) -> 3 | C710: =IF(B710=B709+1,MID(A710,8,8),"") | D710: =IF(B710=B709+1,IF(ISERROR(FIND("Állapot",A710)),RIGHT(A710,LEN(A710)-23)*1,MID(A710,24,FIND("Állapot",A710)-24)*1),"") | E710: =IF(B710=B709+1,VLOOKUP(MID(A711,40,5),AE:AF,2,0),"") | F710: =IF(B710=B709+1,RIGHT(A711,LEN(A711)-45),"") | G710: =IF(B710=B709+1,MID(A712,29,FIND("Kockázatkezelés",A712)-30)*1,"") | H710: =IF(ISNA(VLOOKUP(MID(A711,40,5),AE:AF,2,0)),0,1) -> 0 | N710: =IF(ISERROR(VLOOKUP($K710,$B:$G,AA$2,FALSE)),"",VLOOKUP($K710,$B:$G,AA$2,FALSE)) | O710: =IF(ISERROR(VLOOKUP($K710,$B:$G,AB$2,FALSE)),"",VLOOKUP($K710,$B:$G,AB$2,FALSE)) | P710: =IF(ISERROR(VLOOKUP($K710,$B:$G,AC$2,FALSE)),"",VLOOKUP($K710,$B:$G,AC$2,FALSE)) | Q710: =IF(L710=0,"",(ROUND(IF(ISERROR(VLOOKUP($K710,$B:$G,AD$2,FALSE)),"terület?",VLOOKUP($K710,$B:$G,AD$2,FALSE)),2)))
B711: =IF(AND(LEFT(A711,6)="Blokk:",RIGHT(A711,10)<>"módosított",LEFT(A712,11)="Táblaadatok",H711>0),B710+1,B710) -> 3 | C711: =IF(B711=B710+1,MID(A711,8,8),"") | D711: =IF(B711=B710+1,IF(ISERROR(FIND("Állapot",A711)),RIGHT(A711,LEN(A711)-23)*1,MID(A711,24,FIND("Állapot",A711)-24)*1),"") | E711: =IF(B711=B710+1,VLOOKUP(MID(A712,40,5),AE:AF,2,0),"") | F711: =IF(B711=B710+1,RIGHT(A712,LEN(A712)-45),"") | G711: =IF(B711=B710+1,MID(A713,29,FIND("Kockázatkezelés",A713)-30)*1,"") | H711: =IF(ISNA(VLOOKUP(MID(A712,40,5),AE:AF,2,0)),0,1) -> 0 | N711: =IF(ISERROR(VLOOKUP($K711,$B:$G,AA$2,FALSE)),"",VLOOKUP($K711,$B:$G,AA$2,FALSE)) | O711: =IF(ISERROR(VLOOKUP($K711,$B:$G,AB$2,FALSE)),"",VLOOKUP($K711,$B:$G,AB$2,FALSE)) | P711: =IF(ISERROR(VLOOKUP($K711,$B:$G,AC$2,FALSE)),"",VLOOKUP($K711,$B:$G,AC$2,FALSE)) | Q711: =IF(L711=0,"",(ROUND(IF(ISERROR(VLOOKUP($K711,$B:$G,AD$2,FALSE)),"terület?",VLOOKUP($K711,$B:$G,AD$2,FALSE)),2)))
B712: =IF(AND(LEFT(A712,6)="Blokk:",RIGHT(A712,10)<>"módosított",LEFT(A713,11)="Táblaadatok",H712>0),B711+1,B711) -> 3 | C712: =IF(B712=B711+1,MID(A712,8,8),"") | D712: =IF(B712=B711+1,IF(ISERROR(FIND("Állapot",A712)),RIGHT(A712,LEN(A712)-23)*1,MID(A712,24,FIND("Állapot",A712)-24)*1),"") | E712: =IF(B712=B711+1,VLOOKUP(MID(A713,40,5),AE:AF,2,0),"") | F712: =IF(B712=B711+1,RIGHT(A713,LEN(A713)-45),"") | G712: =IF(B712=B711+1,MID(A714,29,FIND("Kockázatkezelés",A714)-30)*1,"") | H712: =IF(ISNA(VLOOKUP(MID(A713,40,5),AE:AF,2,0)),0,1) -> 0 | N712: =IF(ISERROR(VLOOKUP($K712,$B:$G,AA$2,FALSE)),"",VLOOKUP($K712,$B:$G,AA$2,FALSE)) | O712: =IF(ISERROR(VLOOKUP($K712,$B:$G,AB$2,FALSE)),"",VLOOKUP($K712,$B:$G,AB$2,FALSE)) | P712: =IF(ISERROR(VLOOKUP($K712,$B:$G,AC$2,FALSE)),"",VLOOKUP($K712,$B:$G,AC$2,FALSE)) | Q712: =IF(L712=0,"",(ROUND(IF(ISERROR(VLOOKUP($K712,$B:$G,AD$2,FALSE)),"terület?",VLOOKUP($K712,$B:$G,AD$2,FALSE)),2)))
B713: =IF(AND(LEFT(A713,6)="Blokk:",RIGHT(A713,10)<>"módosított",LEFT(A714,11)="Táblaadatok",H713>0),B712+1,B712) -> 3 | C713: =IF(B713=B712+1,MID(A713,8,8),"") | D713: =IF(B713=B712+1,IF(ISERROR(FIND("Állapot",A713)),RIGHT(A713,LEN(A713)-23)*1,MID(A713,24,FIND("Állapot",A713)-24)*1),"") | E713: =IF(B713=B712+1,VLOOKUP(MID(A714,40,5),AE:AF,2,0),"") | F713: =IF(B713=B712+1,RIGHT(A714,LEN(A714)-45),"") | G713: =IF(B713=B712+1,MID(A715,29,FIND("Kockázatkezelés",A715)-30)*1,"") | H713: =IF(ISNA(VLOOKUP(MID(A714,40,5),AE:AF,2,0)),0,1) -> 0 | N713: =IF(ISERROR(VLOOKUP($K713,$B:$G,AA$2,FALSE)),"",VLOOKUP($K713,$B:$G,AA$2,FALSE)) | O713: =IF(ISERROR(VLOOKUP($K713,$B:$G,AB$2,FALSE)),"",VLOOKUP($K713,$B:$G,AB$2,FALSE)) | P713: =IF(ISERROR(VLOOKUP($K713,$B:$G,AC$2,FALSE)),"",VLOOKUP($K713,$B:$G,AC$2,FALSE)) | Q713: =IF(L713=0,"",(ROUND(IF(ISERROR(VLOOKUP($K713,$B:$G,AD$2,FALSE)),"terület?",VLOOKUP($K713,$B:$G,AD$2,FALSE)),2)))
B714: =IF(AND(LEFT(A714,6)="Blokk:",RIGHT(A714,10)<>"módosított",LEFT(A715,11)="Táblaadatok",H714>0),B713+1,B713) -> 3 | C714: =IF(B714=B713+1,MID(A714,8,8),"") | D714: =IF(B714=B713+1,IF(ISERROR(FIND("Állapot",A714)),RIGHT(A714,LEN(A714)-23)*1,MID(A714,24,FIND("Állapot",A714)-24)*1),"") | E714: =IF(B714=B713+1,VLOOKUP(MID(A715,40,5),AE:AF,2,0),"") | F714: =IF(B714=B713+1,RIGHT(A715,LEN(A715)-45),"") | G714: =IF(B714=B713+1,MID(A716,29,FIND("Kockázatkezelés",A716)-30)*1,"") | H714: =IF(ISNA(VLOOKUP(MID(A715,40,5),AE:AF,2,0)),0,1) -> 0 | N714: =IF(ISERROR(VLOOKUP($K714,$B:$G,AA$2,FALSE)),"",VLOOKUP($K714,$B:$G,AA$2,FALSE)) | O714: =IF(ISERROR(VLOOKUP($K714,$B:$G,AB$2,FALSE)),"",VLOOKUP($K714,$B:$G,AB$2,FALSE)) | P714: =IF(ISERROR(VLOOKUP($K714,$B:$G,AC$2,FALSE)),"",VLOOKUP($K714,$B:$G,AC$2,FALSE)) | Q714: =IF(L714=0,"",(ROUND(IF(ISERROR(VLOOKUP($K714,$B:$G,AD$2,FALSE)),"terület?",VLOOKUP($K714,$B:$G,AD$2,FALSE)),2)))
B715: =IF(AND(LEFT(A715,6)="Blokk:",RIGHT(A715,10)<>"módosított",LEFT(A716,11)="Táblaadatok",H715>0),B714+1,B714) -> 3 | C715: =IF(B715=B714+1,MID(A715,8,8),"") | D715: =IF(B715=B714+1,IF(ISERROR(FIND("Állapot",A715)),RIGHT(A715,LEN(A715)-23)*1,MID(A715,24,FIND("Állapot",A715)-24)*1),"") | E715: =IF(B715=B714+1,VLOOKUP(MID(A716,40,5),AE:AF,2,0),"") | F715: =IF(B715=B714+1,RIGHT(A716,LEN(A716)-45),"") | G715: =IF(B715=B714+1,MID(A717,29,FIND("Kockázatkezelés",A717)-30)*1,"") | H715: =IF(ISNA(VLOOKUP(MID(A716,40,5),AE:AF,2,0)),0,1) -> 0 | N715: =IF(ISERROR(VLOOKUP($K715,$B:$G,AA$2,FALSE)),"",VLOOKUP($K715,$B:$G,AA$2,FALSE)) | O715: =IF(ISERROR(VLOOKUP($K715,$B:$G,AB$2,FALSE)),"",VLOOKUP($K715,$B:$G,AB$2,FALSE)) | P715: =IF(ISERROR(VLOOKUP($K715,$B:$G,AC$2,FALSE)),"",VLOOKUP($K715,$B:$G,AC$2,FALSE)) | Q715: =IF(L715=0,"",(ROUND(IF(ISERROR(VLOOKUP($K715,$B:$G,AD$2,FALSE)),"terület?",VLOOKUP($K715,$B:$G,AD$2,FALSE)),2)))
B716: =IF(AND(LEFT(A716,6)="Blokk:",RIGHT(A716,10)<>"módosított",LEFT(A717,11)="Táblaadatok",H716>0),B715+1,B715) -> 3 | C716: =IF(B716=B715+1,MID(A716,8,8),"") | D716: =IF(B716=B715+1,IF(ISERROR(FIND("Állapot",A716)),RIGHT(A716,LEN(A716)-23)*1,MID(A716,24,FIND("Állapot",A716)-24)*1),"") | E716: =IF(B716=B715+1,VLOOKUP(MID(A717,40,5),AE:AF,2,0),"") | F716: =IF(B716=B715+1,RIGHT(A717,LEN(A717)-45),"") | G716: =IF(B716=B715+1,MID(A718,29,FIND("Kockázatkezelés",A718)-30)*1,"") | H716: =IF(ISNA(VLOOKUP(MID(A717,40,5),AE:AF,2,0)),0,1) -> 0 | N716: =IF(ISERROR(VLOOKUP($K716,$B:$G,AA$2,FALSE)),"",VLOOKUP($K716,$B:$G,AA$2,FALSE)) | O716: =IF(ISERROR(VLOOKUP($K716,$B:$G,AB$2,FALSE)),"",VLOOKUP($K716,$B:$G,AB$2,FALSE)) | P716: =IF(ISERROR(VLOOKUP($K716,$B:$G,AC$2,FALSE)),"",VLOOKUP($K716,$B:$G,AC$2,FALSE)) | Q716: =IF(L716=0,"",(ROUND(IF(ISERROR(VLOOKUP($K716,$B:$G,AD$2,FALSE)),"terület?",VLOOKUP($K716,$B:$G,AD$2,FALSE)),2)))
... B2015: =IF(AND(LEFT(A2015,6)="Blokk:",RIGHT(A2015,10)<>"módosított",LEFT(A2016,11)="Táblaadatok",H2015>0),B2014+1,B2014) -> 3 | C2015: =IF(B2015=B2014+1,MID(A2015,8,8),"") | D2015: =IF(B2015=B2014+1,IF(ISERROR(FIND("Állapot",A2015)),RIGHT(A2015,LEN(A2015)-23)*1,MID(A2015,24,FIND("Állapot",A2015)-24)*1),"") | E2015: =IF(B2015=B2014+1,VLOOKUP(MID(A2016,40,5),AE:AF,2,0),"") | F2015: =IF(B2015=B2014+1,RIGHT(A2016,LEN(A2016)-45),"") | G2015: =IF(B2015=B2014+1,MID(A2017,29,FIND("Kockázatkezelés",A2017)-30)*1,"") | H2015: =IF(ISNA(VLOOKUP(MID(A2016,40,5),AE:AF,2,0)),0,1) -> 0 | N2015: =IF(ISERROR(VLOOKUP($K2015,$B:$G,AA$2,FALSE)),"",VLOOKUP($K2015,$B:$G,AA$2,FALSE)) | O2015: =IF(ISERROR(VLOOKUP($K2015,$B:$G,AB$2,FALSE)),"",VLOOKUP($K2015,$B:$G,AB$2,FALSE)) | P2015: =IF(ISERROR(VLOOKUP($K2015,$B:$G,AC$2,FALSE)),"",VLOOKUP($K2015,$B:$G,AC$2,FALSE)) | Q2015: =IF(L2015=0,"",(ROUND(IF(ISERROR(VLOOKUP($K2015,$B:$G,AD$2,FALSE)),"terület?",VLOOKUP($K2015,$B:$G,AD$2,FALSE)),2)))
B2016: =IF(AND(LEFT(A2016,6)="Blokk:",RIGHT(A2016,10)<>"módosított",LEFT(A2017,11)="Táblaadatok",H2016>0),B2015+1,B2015) -> 3 | G2016: =IF(B2016=B2015+1,MID(A2018,29,FIND("Kockázatkezelés",A2018)-30)*1,"") | H2016: =IF(ISNA(VLOOKUP(MID(A2017,40,5),AE:AF,2,0)),0,1) -> 0 | N2016: =IF(ISERROR(VLOOKUP($K2016,$B:$G,AA$2,FALSE)),"",VLOOKUP($K2016,$B:$G,AA$2,FALSE)) | O2016: =IF(ISERROR(VLOOKUP($K2016,$B:$G,AB$2,FALSE)),"",VLOOKUP($K2016,$B:$G,AB$2,FALSE)) | P2016: =IF(ISERROR(VLOOKUP($K2016,$B:$G,AC$2,FALSE)),"",VLOOKUP($K2016,$B:$G,AC$2,FALSE)) | Q2016: =IF(L2016=0,"",(ROUND(IF(ISERROR(VLOOKUP($K2016,$B:$G,AD$2,FALSE)),"terület?",VLOOKUP($K2016,$B:$G,AD$2,FALSE)),2)))
B2017: =IF(AND(LEFT(A2017,6)="Blokk:",RIGHT(A2017,10)<>"módosított",LEFT(A2018,11)="Táblaadatok",H2017>0),B2016+1,B2016) -> 3 | G2017: =IF(B2017=B2016+1,MID(A2019,29,FIND("Kockázatkezelés",A2019)-30)*1,"") | H2017: =IF(ISNA(VLOOKUP(MID(A2018,40,5),AE:AF,2,0)),0,1) -> 0 | N2017: =IF(ISERROR(VLOOKUP($K2017,$B:$G,AA$2,FALSE)),"",VLOOKUP($K2017,$B:$G,AA$2,FALSE)) | O2017: =IF(ISERROR(VLOOKUP($K2017,$B:$G,AB$2,FALSE)),"",VLOOKUP($K2017,$B:$G,AB$2,FALSE)) | P2017: =IF(ISERROR(VLOOKUP($K2017,$B:$G,AC$2,FALSE)),"",VLOOKUP($K2017,$B:$G,AC$2,FALSE)) | Q2017: =IF(L2017=0,"",(ROUND(IF(ISERROR(VLOOKUP($K2017,$B:$G,AD$2,FALSE)),"terület?",VLOOKUP($K2017,$B:$G,AD$2,FALSE)),2)))
B2018: =IF(AND(LEFT(A2018,6)="Blokk:",RIGHT(A2018,10)<>"módosított",LEFT(A2019,11)="Táblaadatok",H2018>0),B2017+1,B2017) -> 3 | G2018: =IF(B2018=B2017+1,MID(A2020,29,FIND("Kockázatkezelés",A2020)-30)*1,"") | H2018: =IF(ISNA(VLOOKUP(MID(A2019,40,5),AE:AF,2,0)),0,1) -> 0 | N2018: =IF(ISERROR(VLOOKUP($K2018,$B:$G,AA$2,FALSE)),"",VLOOKUP($K2018,$B:$G,AA$2,FALSE)) | O2018: =IF(ISERROR(VLOOKUP($K2018,$B:$G,AB$2,FALSE)),"",VLOOKUP($K2018,$B:$G,AB$2,FALSE)) | P2018: =IF(ISERROR(VLOOKUP($K2018,$B:$G,AC$2,FALSE)),"",VLOOKUP($K2018,$B:$G,AC$2,FALSE)) | Q2018: =IF(L2018=0,"",(ROUND(IF(ISERROR(VLOOKUP($K2018,$B:$G,AD$2,FALSE)),"terület?",VLOOKUP($K2018,$B:$G,AD$2,FALSE)),2)))
B2019: =IF(AND(LEFT(A2019,6)="Blokk:",RIGHT(A2019,10)<>"módosított",LEFT(A2020,11)="Táblaadatok",H2019>0),B2018+1,B2018) -> 3 | G2019: =IF(B2019=B2018+1,MID(A2021,29,FIND("Kockázatkezelés",A2021)-30)*1,"") | H2019: =IF(ISNA(VLOOKUP(MID(A2020,40,5),AE:AF,2,0)),0,1) -> 0 | N2019: =IF(ISERROR(VLOOKUP($K2019,$B:$G,AA$2,FALSE)),"",VLOOKUP($K2019,$B:$G,AA$2,FALSE)) | O2019: =IF(ISERROR(VLOOKUP($K2019,$B:$G,AB$2,FALSE)),"",VLOOKUP($K2019,$B:$G,AB$2,FALSE)) | P2019: =IF(ISERROR(VLOOKUP($K2019,$B:$G,AC$2,FALSE)),"",VLOOKUP($K2019,$B:$G,AC$2,FALSE)) | Q2019: =IF(L2019=0,"",(ROUND(IF(ISERROR(VLOOKUP($K2019,$B:$G,AD$2,FALSE)),"terület?",VLOOKUP($K2019,$B:$G,AD$2,FALSE)),2)))
B2020: =IF(AND(LEFT(A2020,6)="Blokk:",RIGHT(A2020,10)<>"módosított",LEFT(A2021,11)="Táblaadatok",H2020>0),B2019+1,B2019) -> 3 | G2020: =IF(B2020=B2019+1,MID(A2022,29,FIND("Kockázatkezelés",A2022)-30)*1,"") | H2020: =IF(ISNA(VLOOKUP(MID(A2021,40,5),AE:AF,2,0)),0,1) -> 0 | N2020: =IF(ISERROR(VLOOKUP($K2020,$B:$G,AA$2,FALSE)),"",VLOOKUP($K2020,$B:$G,AA$2,FALSE)) | O2020: =IF(ISERROR(VLOOKUP($K2020,$B:$G,AB$2,FALSE)),"",VLOOKUP($K2020,$B:$G,AB$2,FALSE)) | P2020: =IF(ISERROR(VLOOKUP($K2020,$B:$G,AC$2,FALSE)),"",VLOOKUP($K2020,$B:$G,AC$2,FALSE)) | Q2020: =IF(L2020=0,"",(ROUND(IF(ISERROR(VLOOKUP($K2020,$B:$G,AD$2,FALSE)),"terület?",VLOOKUP($K2020,$B:$G,AD$2,FALSE)),2)))
B2021: =IF(AND(LEFT(A2021,6)="Blokk:",RIGHT(A2021,10)<>"módosított",LEFT(A2022,11)="Táblaadatok",H2021>0),B2020+1,B2020) -> 3 | G2021: =IF(B2021=B2020+1,MID(A2023,29,FIND("Kockázatkezelés",A2023)-30)*1,"") | H2021: =IF(ISNA(VLOOKUP(MID(A2022,40,5),AE:AF,2,0)),0,1) -> 0 | N2021: =IF(ISERROR(VLOOKUP($K2021,$B:$G,AA$2,FALSE)),"",VLOOKUP($K2021,$B:$G,AA$2,FALSE)) | O2021: =IF(ISERROR(VLOOKUP($K2021,$B:$G,AB$2,FALSE)),"",VLOOKUP($K2021,$B:$G,AB$2,FALSE)) | P2021: =IF(ISERROR(VLOOKUP($K2021,$B:$G,AC$2,FALSE)),"",VLOOKUP($K2021,$B:$G,AC$2,FALSE)) | Q2021: =IF(L2021=0,"",(ROUND(IF(ISERROR(VLOOKUP($K2021,$B:$G,AD$2,FALSE)),"terület?",VLOOKUP($K2021,$B:$G,AD$2,FALSE)),2)))
B2022: =IF(AND(LEFT(A2022,6)="Blokk:",RIGHT(A2022,10)<>"módosított",LEFT(A2023,11)="Táblaadatok",H2022>0),B2021+1,B2021) -> 3 | G2022: =IF(B2022=B2021+1,MID(A2024,29,FIND("Kockázatkezelés",A2024)-30)*1,"") | H2022: =IF(ISNA(VLOOKUP(MID(A2023,40,5),AE:AF,2,0)),0,1) -> 0 | N2022: =IF(ISERROR(VLOOKUP($K2022,$B:$G,AA$2,FALSE)),"",VLOOKUP($K2022,$B:$G,AA$2,FALSE)) | O2022: =IF(ISERROR(VLOOKUP($K2022,$B:$G,AB$2,FALSE)),"",VLOOKUP($K2022,$B:$G,AB$2,FALSE)) | P2022: =IF(ISERROR(VLOOKUP($K2022,$B:$G,AC$2,FALSE)),"",VLOOKUP($K2022,$B:$G,AC$2,FALSE)) | Q2022: =IF(L2022=0,"",(ROUND(IF(ISERROR(VLOOKUP($K2022,$B:$G,AD$2,FALSE)),"terület?",VLOOKUP($K2022,$B:$G,AD$2,FALSE)),2)))
B2023: =IF(AND(LEFT(A2023,6)="Blokk:",RIGHT(A2023,10)<>"módosított",LEFT(A2024,11)="Táblaadatok",H2023>0),B2022+1,B2022) -> 3 | G2023: =IF(B2023=B2022+1,MID(A2025,29,FIND("Kockázatkezelés",A2025)-30)*1,"") | H2023: =IF(ISNA(VLOOKUP(MID(A2024,40,5),AE:AF,2,0)),0,1) -> 0 | N2023: =IF(ISERROR(VLOOKUP($K2023,$B:$G,AA$2,FALSE)),"",VLOOKUP($K2023,$B:$G,AA$2,FALSE)) | O2023: =IF(ISERROR(VLOOKUP($K2023,$B:$G,AB$2,FALSE)),"",VLOOKUP($K2023,$B:$G,AB$2,FALSE)) | P2023: =IF(ISERROR(VLOOKUP($K2023,$B:$G,AC$2,FALSE)),"",VLOOKUP($K2023,$B:$G,AC$2,FALSE)) | Q2023: =IF(L2023=0,"",(ROUND(IF(ISERROR(VLOOKUP($K2023,$B:$G,AD$2,FALSE)),"terület?",VLOOKUP($K2023,$B:$G,AD$2,FALSE)),2)))
B2024: =IF(AND(LEFT(A2024,6)="Blokk:",RIGHT(A2024,10)<>"módosított",LEFT(A2025,11)="Táblaadatok",H2024>0),B2023+1,B2023) -> 3 | G2024: =IF(B2024=B2023+1,MID(A2026,29,FIND("Kockázatkezelés",A2026)-30)*1,"") | H2024: =IF(ISNA(VLOOKUP(MID(A2025,40,5),AE:AF,2,0)),0,1) -> 0 | N2024: =IF(ISERROR(VLOOKUP($K2024,$B:$G,AA$2,FALSE)),"",VLOOKUP($K2024,$B:$G,AA$2,FALSE)) | O2024: =IF(ISERROR(VLOOKUP($K2024,$B:$G,AB$2,FALSE)),"",VLOOKUP($K2024,$B:$G,AB$2,FALSE)) | P2024: =IF(ISERROR(VLOOKUP($K2024,$B:$G,AC$2,FALSE)),"",VLOOKUP($K2024,$B:$G,AC$2,FALSE)) | Q2024: =IF(L2024=0,"",(ROUND(IF(ISERROR(VLOOKUP($K2024,$B:$G,AD$2,FALSE)),"terület?",VLOOKUP($K2024,$B:$G,AD$2,FALSE)),2)))
B2025: =IF(AND(LEFT(A2025,6)="Blokk:",RIGHT(A2025,10)<>"módosított",LEFT(A2026,11)="Táblaadatok",H2025>0),B2024+1,B2024) -> 3 | G2025: =IF(B2025=B2024+1,MID(A2027,29,FIND("Kockázatkezelés",A2027)-30)*1,"") | H2025: =IF(ISNA(VLOOKUP(MID(A2026,40,5),AE:AF,2,0)),0,1) -> 0 | N2025: =IF(ISERROR(VLOOKUP($K2025,$B:$G,AA$2,FALSE)),"",VLOOKUP($K2025,$B:$G,AA$2,FALSE)) | O2025: =IF(ISERROR(VLOOKUP($K2025,$B:$G,AB$2,FALSE)),"",VLOOKUP($K2025,$B:$G,AB$2,FALSE)) | P2025: =IF(ISERROR(VLOOKUP($K2025,$B:$G,AC$2,FALSE)),"",VLOOKUP($K2025,$B:$G,AC$2,FALSE)) | Q2025: =IF(L2025=0,"",(ROUND(IF(ISERROR(VLOOKUP($K2025,$B:$G,AD$2,FALSE)),"terület?",VLOOKUP($K2025,$B:$G,AD$2,FALSE)),2)))
B2026: =IF(AND(LEFT(A2026,6)="Blokk:",RIGHT(A2026,10)<>"módosított",LEFT(A2027,11)="Táblaadatok",H2026>0),B2025+1,B2025) -> 3 | G2026: =IF(B2026=B2025+1,MID(A2028,29,FIND("Kockázatkezelés",A2028)-30)*1,"") | H2026: =IF(ISNA(VLOOKUP(MID(A2027,40,5),AE:AF,2,0)),0,1) -> 0 | N2026: =IF(ISERROR(VLOOKUP($K2026,$B:$G,AA$2,FALSE)),"",VLOOKUP($K2026,$B:$G,AA$2,FALSE)) | O2026: =IF(ISERROR(VLOOKUP($K2026,$B:$G,AB$2,FALSE)),"",VLOOKUP($K2026,$B:$G,AB$2,FALSE)) | P2026: =IF(ISERROR(VLOOKUP($K2026,$B:$G,AC$2,FALSE)),"",VLOOKUP($K2026,$B:$G,AC$2,FALSE)) | Q2026: =IF(L2026=0,"",(ROUND(IF(ISERROR(VLOOKUP($K2026,$B:$G,AD$2,FALSE)),"terület?",VLOOKUP($K2026,$B:$G,AD$2,FALSE)),2)))
B2027: =IF(AND(LEFT(A2027,6)="Blokk:",RIGHT(A2027,10)<>"módosított",LEFT(A2028,11)="Táblaadatok",H2027>0),B2026+1,B2026) -> 3 | G2027: =IF(B2027=B2026+1,MID(A2029,29,FIND("Kockázatkezelés",A2029)-30)*1,"") | H2027: =IF(ISNA(VLOOKUP(MID(A2028,40,5),AE:AF,2,0)),0,1) -> 0 | N2027: =IF(ISERROR(VLOOKUP($K2027,$B:$G,AA$2,FALSE)),"",VLOOKUP($K2027,$B:$G,AA$2,FALSE)) | O2027: =IF(ISERROR(VLOOKUP($K2027,$B:$G,AB$2,FALSE)),"",VLOOKUP($K2027,$B:$G,AB$2,FALSE)) | P2027: =IF(ISERROR(VLOOKUP($K2027,$B:$G,AC$2,FALSE)),"",VLOOKUP($K2027,$B:$G,AC$2,FALSE)) | Q2027: =IF(L2027=0,"",(ROUND(IF(ISERROR(VLOOKUP($K2027,$B:$G,AD$2,FALSE)),"terület?",VLOOKUP($K2027,$B:$G,AD$2,FALSE)),2)))
... B12023: =IF(AND(LEFT(A12023,6)="Blokk:",RIGHT(A12023,10)<>"módosított",LEFT(A12024,11)="Táblaadatok",H12023>0),B12022+1,B12022) -> 3 | G12023: =IF(B12023=B12022+1,MID(A12025,29,FIND("Kockázatkezelés",A12025)-30)*1,"") | H12023: =IF(ISNA(VLOOKUP(MID(A12024,40,5),AE:AF,2,0)),0,1) -> 0 | N12023: =IF(ISERROR(VLOOKUP($K12023,$B:$G,AA$2,FALSE)),"",VLOOKUP($K12023,$B:$G,AA$2,FALSE)) | O12023: =IF(ISERROR(VLOOKUP($K12023,$B:$G,AB$2,FALSE)),"",VLOOKUP($K12023,$B:$G,AB$2,FALSE)) | P12023: =IF(ISERROR(VLOOKUP($K12023,$B:$G,AC$2,FALSE)),"",VLOOKUP($K12023,$B:$G,AC$2,FALSE)) | Q12023: =IF(L12023=0,"",(ROUND(IF(ISERROR(VLOOKUP($K12023,$B:$G,AD$2,FALSE)),"terület?",VLOOKUP($K12023,$B:$G,AD$2,FALSE)),2)))

Sheet seged
A1: Haszn.kód | B1: Növény | C1: Haszn.kód
A2: KAL01 | B2: Őszi búza | C2: KAL01
A3: KAL17 | B3: Őszi árpa | C3: KAL17
A4: KAL27 | B4: Őszi tritikálé | C4: KAL27
A5: KAL21 | B5: Kukorica | C5: KAL21
A6: IND23 | B6: Napraforgó | C6: IND23
A7: IND03 | B7: Őszi káposztarepce | C7: IND03
A8: IND01 | B8: Szójabab | C8: IND01
A9: -------------- | B9: -------------- | C9: --------------
A10: FRU17 | B10: Áfonya | C10: FRU17
A11: FOR14 | B11: Alexandriai here | C11: FOR14
A12: ULT01 | B12: Alma | C12: ULT01
... A466: FE101 | B466: Lomb elegyes-egyéb fenyves | C466: FE101
