Workbook
Name ABASonresz: [1]seged!$AV$26:$AV$27
Name abcdtermek2: [2]seged!$AV$19:$AX$24
Name abcdtermek3: [2]seged!$AV$22:$AX$24
Name ajanlatkeresmod: [2]lista!$V$3:$V$10
Name alap: [2]seged!$CZ$45:$CZ$48
Name atlhozam: [2]seged!$DH$4:$DO$2083
Name átlhozam: [1]seged!$CD$4:$CK$2084
Name bank: [3]seged!$BS$4:$BT$203
Name bank: [2]seged!$BY$4:$BZ$203
Name Begünstigte: [1]seged!$CS$33:$CS$35
Name bogen: [2]seged!$CZ$55:$CZ$56
Name cim_b: [1]seged!$BP$4:$BP$11
Name cim_b: [2]seged!$BV$4:$BV$11
Name cim_sz: [3]seged!$BN$4:$BN$11
Name cim_sz: [2]seged!$BT$4:$BT$11
Name dijtker: [1]seged!$AV$38
Name dtker: [2]seged!$AV$28
Name elsospecoszl: [2]seged!$CH$8
Name fekves: [2]seged!$CZ$20:$CZ$22
Name fizutem: [1]seged!$BV$4:$BV$19
Name fizutem: [2]seged!$CB$4:$CB$19
Name foliatipus: [2]seged!$CZ$32:$CZ$35
Name gyarto: [2]seged!$CZ$5:$CZ$17
Name GYonresz: [2]seged!$BB$31:$BB$33
Name gyumolcsonresz: [1]seged!$AV$31:$AV$33
Name gyümölcs_fás_rész: [1]seged!$AX$31:$AX$32
Name igenytipus: [2]lista!$U$3:$U$10
Name jelleg: [2]seged!$CR$30:$CU$30
Name JTonresz: [2]seged!$BB$26:$BB$27
Name karmeng: [1]seged!$AX$19:$AX$22
Name Klauseln: [1]seged!$CS$4:$CS$16
Name konstrukcio: [2]seged!$CZ$51:$CZ$52
Name KÖZV: '[1]1'!$C$30
Name Kulturliste: seged!$B$2:$B$329
Name levcim_b: [1]seged!$BQ$4:$BQ$11
Name levcim_b: [2]seged!$BW$4:$BW$11
Name levcim_sz: [3]seged!$BO$4:$BO$11
Name levcim_sz: [2]seged!$BU$4:$BU$11
Name Liste: [1]zaradek!$M$4:$M$33
Name Liste2: [1]zaradek!#REF!
Name meretmaxabcd: [1]seged!$AX$10
Name meretmaxspec: [1]seged!$AX$9
Name noveny: seged!$B$4:$B$337
Name noveny: [2]seged!$B$4:$B$323
Name noveny2: [1]seged!$B$4:$AU$331
Name noveny2: [2]seged!$B$4:$AT$323
Name pdfnyomt: [2]seged!$CP$4:$CP$15
Name regio: [1]seged!$BU$22:$BV$26
Name regiovezet: '[1]1'!$D$29
Name rogzites: [2]seged!$CZ$25:$CZ$29
Name specoszldb: [2]seged!$CH$6
Name specoszldb2: [2]seged!$CH$9
Name spectermek: [2]seged!$AV$4:$AZ$7
Name spectermek2: [2]seged!$AV$9:$AX$15
Name szellozes: [2]seged!$CZ$38:$CZ$42
Name TAMonresz: [1]seged!$AW$26:$AW$27
Name tamoszldb: [2]seged!$CH$7
Name tamoszldb2: [2]seged!$CH$10
Name termek: [1]seged!$CV$3:$CV$11
Name termek2: seged!$M$4:$M$11

Sheet Pos_Import
A1: KULTÚRA | B1: BLOKKAZONOSÍTÓ | C1: Tábla | D1: TERÜLET (HA) | E1: Hozam (t) | F1: Egységár (Ft/t) | G1: Vihar | H1: Téli fagy | I1: őszi fagy | J1: Tavaszi fagy | K1: Aszály | L1: Felhőszakadás | M1: Árvíz

Sheet reszletezo
D1: Növénybiztosítási ajánlatkérő 2025 | AE1: KULTÚRA | AF1: BLOKKAZONOSÍTÓ | AG1: Tábla | AH1: TERÜLET (HA) | AI1: Hozam (t) | AJ1: Egységár (Ft/t) | AK1: Vihar | AL1: Téli fagy | AM1: őszi fagy | AN1: Tavaszi fagy | AO1: Aszály | AP1: Felhőszakadás | AQ1: Árvíz | AR1: =SUM(AR2:AR321)+1 -> 1
AE2: =IF(ISNA(VLOOKUP(G16,BB:BC,2,0)),"",VLOOKUP(G16,BB:BC,2,0)) | AF2: =I16 -> 0 | AG2: =IF(J16=0,"",J16) | AH2: =K16 -> 0 | AI2: =L16 -> 0 | AJ2: =M16 -> 0 | AK2: =IF(VLOOKUP(G16,$O$16:$AB$30,14,0)="x","Igen",IF(VLOOKUP(G16,$O$16:$AB$30,7,0)="x","igen","nem")) -> #N/A | AL2: =IF(VLOOKUP(G16,$O$16:$AB$30,14,0)="x","Igen",IF(VLOOKUP(G16,$O$16:$AB$30,8,0)="x","igen","nem")) -> #N/A | AM2: =IF(VLOOKUP(G16,$O$16:$AB$30,14,0)="x","Igen",IF(VLOOKUP(G16,$O$16:$AB$30,9,0)="x","igen","nem")) -> #N/A | AN2: =IF(VLOOKUP(G16,$O$16:$AB$30,14,0)="x","Igen",IF(VLOOKUP(G16,$O$16:$AB$30,10,0)="x","igen","nem")) -> #N/A | AO2: =IF(VLOOKUP(G16,$O$16:$AB$30,14,0)="x","Igen",IF(VLOOKUP(G16,$O$16:$AB$30,11,0)="x","igen","nem")) -> #N/A | AP2: =IF(VLOOKUP(G16,$O$16:$AB$30,14,0)="x","Igen",IF(VLOOKUP(G16,$O$16:$AB$30,12,0)="x","igen","nem")) -> #N/A | AQ2: =IF(VLOOKUP(G16,$O$16:$AB$30,14,0)="x","Igen",IF(VLOOKUP(G16,$O$16:$AB$30,13,0)="x","igen","nem")) -> #N/A | AR2: =IF(AE2="",0,1) -> 0
E3: Szerződő neve | AE3: =IF(ISNA(VLOOKUP(G17,BB:BC,2,0)),"",VLOOKUP(G17,BB:BC,2,0)) | AF3: =I17 -> 0 | AG3: =IF(J17=0,"",J17) | AH3: =K17 -> 0 | AI3: =L17 -> 0 | AJ3: =M17 -> 0 | AK3: =IF(VLOOKUP(G17,$O$16:$AB$30,14,0)="x","Igen",IF(VLOOKUP(G17,$O$16:$AB$30,7,0)="x","igen","nem")) -> #N/A | AL3: =IF(VLOOKUP(G17,$O$16:$AB$30,14,0)="x","Igen",IF(VLOOKUP(G17,$O$16:$AB$30,8,0)="x","igen","nem")) -> #N/A | AM3: =IF(VLOOKUP(G17,$O$16:$AB$30,14,0)="x","Igen",IF(VLOOKUP(G17,$O$16:$AB$30,9,0)="x","igen","nem")) -> #N/A | AN3: =IF(VLOOKUP(G17,$O$16:$AB$30,14,0)="x","Igen",IF(VLOOKUP(G17,$O$16:$AB$30,10,0)="x","igen","nem")) -> #N/A | AO3: =IF(VLOOKUP(G17,$O$16:$AB$30,14,0)="x","Igen",IF(VLOOKUP(G17,$O$16:$AB$30,11,0)="x","igen","nem")) -> #N/A | AP3: =IF(VLOOKUP(G17,$O$16:$AB$30,14,0)="x","Igen",IF(VLOOKUP(G17,$O$16:$AB$30,12,0)="x","igen","nem")) -> #N/A | AQ3: =IF(VLOOKUP(G17,$O$16:$AB$30,14,0)="x","Igen",IF(VLOOKUP(G17,$O$16:$AB$30,13,0)="x","igen","nem")) -> #N/A | AR3: =IF(AE3="",0,1) -> 0 | BA3: KAL01 | BB3: Őszi búza | BC3: KAL01
E4: Ügyfél-azonosító | AE4: =IF(ISNA(VLOOKUP(G18,BB:BC,2,0)),"",VLOOKUP(G18,BB:BC,2,0)) | AF4: =I18 -> 0 | AG4: =IF(J18=0,"",J18) | AH4: =K18 -> 0 | AI4: =L18 -> 0 | AJ4: =M18 -> 0 | AK4: =IF(VLOOKUP(G18,$O$16:$AB$30,14,0)="x","Igen",IF(VLOOKUP(G18,$O$16:$AB$30,7,0)="x","igen","nem")) -> #N/A | AL4: =IF(VLOOKUP(G18,$O$16:$AB$30,14,0)="x","Igen",IF(VLOOKUP(G18,$O$16:$AB$30,8,0)="x","igen","nem")) -> #N/A | AM4: =IF(VLOOKUP(G18,$O$16:$AB$30,14,0)="x","Igen",IF(VLOOKUP(G18,$O$16:$AB$30,9,0)="x","igen","nem")) -> #N/A | AN4: =IF(VLOOKUP(G18,$O$16:$AB$30,14,0)="x","Igen",IF(VLOOKUP(G18,$O$16:$AB$30,10,0)="x","igen","nem")) -> #N/A | AO4: =IF(VLOOKUP(G18,$O$16:$AB$30,14,0)="x","Igen",IF(VLOOKUP(G18,$O$16:$AB$30,11,0)="x","igen","nem")) -> #N/A | AP4: =IF(VLOOKUP(G18,$O$16:$AB$30,14,0)="x","Igen",IF(VLOOKUP(G18,$O$16:$AB$30,12,0)="x","igen","nem")) -> #N/A | AQ4: =IF(VLOOKUP(G18,$O$16:$AB$30,14,0)="x","Igen",IF(VLOOKUP(G18,$O$16:$AB$30,13,0)="x","igen","nem")) -> #N/A | AR4: =IF(AE4="",0,1) -> 0 | BA4: KAL17 | BB4: Őszi árpa | BC4: KAL17
E5: Cím ir.sz., település | AE5: =IF(ISNA(VLOOKUP(G19,BB:BC,2,0)),"",VLOOKUP(G19,BB:BC,2,0)) | AF5: =I19 -> 0 | AG5: =IF(J19=0,"",J19) | AH5: =K19 -> 0 | AI5: =L19 -> 0 | AJ5: =M19 -> 0 | AK5: =IF(VLOOKUP(G19,$O$16:$AB$30,14,0)="x","Igen",IF(VLOOKUP(G19,$O$16:$AB$30,7,0)="x","igen","nem")) -> #N/A | AL5: =IF(VLOOKUP(G19,$O$16:$AB$30,14,0)="x","Igen",IF(VLOOKUP(G19,$O$16:$AB$30,8,0)="x","igen","nem")) -> #N/A | AM5: =IF(VLOOKUP(G19,$O$16:$AB$30,14,0)="x","Igen",IF(VLOOKUP(G19,$O$16:$AB$30,9,0)="x","igen","nem")) -> #N/A | AN5: =IF(VLOOKUP(G19,$O$16:$AB$30,14,0)="x","Igen",IF(VLOOKUP(G19,$O$16:$AB$30,10,0)="x","igen","nem")) -> #N/A | AO5: =IF(VLOOKUP(G19,$O$16:$AB$30,14,0)="x","Igen",IF(VLOOKUP(G19,$O$16:$AB$30,11,0)="x","igen","nem")) -> #N/A | AP5: =IF(VLOOKUP(G19,$O$16:$AB$30,14,0)="x","Igen",IF(VLOOKUP(G19,$O$16:$AB$30,12,0)="x","igen","nem")) -> #N/A | AQ5: =IF(VLOOKUP(G19,$O$16:$AB$30,14,0)="x","Igen",IF(VLOOKUP(G19,$O$16:$AB$30,13,0)="x","igen","nem")) -> #N/A | AR5: =IF(AE5="",0,1) -> 0 | BA5: KAL27 | BB5: Őszi tritikálé | BC5: KAL27
E6: utca, szám | AE6: =IF(ISNA(VLOOKUP(G20,BB:BC,2,0)),"",VLOOKUP(G20,BB:BC,2,0)) | AF6: =I20 -> 0 | AG6: =IF(J20=0,"",J20) | AH6: =K20 -> 0 | AI6: =L20 -> 0 | AJ6: =M20 -> 0 | AK6: =IF(VLOOKUP(G20,$O$16:$AB$30,14,0)="x","Igen",IF(VLOOKUP(G20,$O$16:$AB$30,7,0)="x","igen","nem")) -> #N/A | AL6: =IF(VLOOKUP(G20,$O$16:$AB$30,14,0)="x","Igen",IF(VLOOKUP(G20,$O$16:$AB$30,8,0)="x","igen","nem")) -> #N/A | AM6: =IF(VLOOKUP(G20,$O$16:$AB$30,14,0)="x","Igen",IF(VLOOKUP(G20,$O$16:$AB$30,9,0)="x","igen","nem")) -> #N/A | AN6: =IF(VLOOKUP(G20,$O$16:$AB$30,14,0)="x","Igen",IF(VLOOKUP(G20,$O$16:$AB$30,10,0)="x","igen","nem")) -> #N/A | AO6: =IF(VLOOKUP(G20,$O$16:$AB$30,14,0)="x","Igen",IF(VLOOKUP(G20,$O$16:$AB$30,11,0)="x","igen","nem")) -> #N/A | AP6: =IF(VLOOKUP(G20,$O$16:$AB$30,14,0)="x","Igen",IF(VLOOKUP(G20,$O$16:$AB$30,12,0)="x","igen","nem")) -> #N/A | AQ6: =IF(VLOOKUP(G20,$O$16:$AB$30,14,0)="x","Igen",IF(VLOOKUP(G20,$O$16:$AB$30,13,0)="x","igen","nem")) -> #N/A | AR6: =IF(AE6="",0,1) -> 0 | BA6: KAL21 | BB6: Kukorica | BC6: KAL21
E7: Levelezési cím ir.sz., település | AE7: =IF(ISNA(VLOOKUP(G21,BB:BC,2,0)),"",VLOOKUP(G21,BB:BC,2,0)) | AF7: =I21 -> 0 | AG7: =IF(J21=0,"",J21) | AH7: =K21 -> 0 | AI7: =L21 -> 0 | AJ7: =M21 -> 0 | AK7: =IF(VLOOKUP(G21,$O$16:$AB$30,14,0)="x","Igen",IF(VLOOKUP(G21,$O$16:$AB$30,7,0)="x","igen","nem")) -> #N/A | AL7: =IF(VLOOKUP(G21,$O$16:$AB$30,14,0)="x","Igen",IF(VLOOKUP(G21,$O$16:$AB$30,8,0)="x","igen","nem")) -> #N/A | AM7: =IF(VLOOKUP(G21,$O$16:$AB$30,14,0)="x","Igen",IF(VLOOKUP(G21,$O$16:$AB$30,9,0)="x","igen","nem")) -> #N/A | AN7: =IF(VLOOKUP(G21,$O$16:$AB$30,14,0)="x","Igen",IF(VLOOKUP(G21,$O$16:$AB$30,10,0)="x","igen","nem")) -> #N/A | AO7: =IF(VLOOKUP(G21,$O$16:$AB$30,14,0)="x","Igen",IF(VLOOKUP(G21,$O$16:$AB$30,11,0)="x","igen","nem")) -> #N/A | AP7: =IF(VLOOKUP(G21,$O$16:$AB$30,14,0)="x","Igen",IF(VLOOKUP(G21,$O$16:$AB$30,12,0)="x","igen","nem")) -> #N/A | AQ7: =IF(VLOOKUP(G21,$O$16:$AB$30,14,0)="x","Igen",IF(VLOOKUP(G21,$O$16:$AB$30,13,0)="x","igen","nem")) -> #N/A | AR7: =IF(AE7="",0,1) -> 0 | BA7: IND23 | BB7: Napraforgó | BC7: IND23
E8: utca, szám | AE8: =IF(ISNA(VLOOKUP(G22,BB:BC,2,0)),"",VLOOKUP(G22,BB:BC,2,0)) | AF8: =I22 -> 0 | AG8: =IF(J22=0,"",J22) | AH8: =K22 -> 0 | AI8: =L22 -> 0 | AJ8: =M22 -> 0 | AK8: =IF(VLOOKUP(G22,$O$16:$AB$30,14,0)="x","Igen",IF(VLOOKUP(G22,$O$16:$AB$30,7,0)="x","igen","nem")) -> #N/A | AL8: =IF(VLOOKUP(G22,$O$16:$AB$30,14,0)="x","Igen",IF(VLOOKUP(G22,$O$16:$AB$30,8,0)="x","igen","nem")) -> #N/A | AM8: =IF(VLOOKUP(G22,$O$16:$AB$30,14,0)="x","Igen",IF(VLOOKUP(G22,$O$16:$AB$30,9,0)="x","igen","nem")) -> #N/A | AN8: =IF(VLOOKUP(G22,$O$16:$AB$30,14,0)="x","Igen",IF(VLOOKUP(G22,$O$16:$AB$30,10,0)="x","igen","nem")) -> #N/A | AO8: =IF(VLOOKUP(G22,$O$16:$AB$30,14,0)="x","Igen",IF(VLOOKUP(G22,$O$16:$AB$30,11,0)="x","igen","nem")) -> #N/A | AP8: =IF(VLOOKUP(G22,$O$16:$AB$30,14,0)="x","Igen",IF(VLOOKUP(G22,$O$16:$AB$30,12,0)="x","igen","nem")) -> #N/A | AQ8: =IF(VLOOKUP(G22,$O$16:$AB$30,14,0)="x","Igen",IF(VLOOKUP(G22,$O$16:$AB$30,13,0)="x","igen","nem")) -> #N/A | AR8: =IF(AE8="",0,1) -> 0 | BA8: IND03 | BB8: Őszi káposztarepce | BC8: IND03
E9: Adószám / Adóazonosító jel | AE9: =IF(ISNA(VLOOKUP(G23,BB:BC,2,0)),"",VLOOKUP(G23,BB:BC,2,0)) | AF9: =I23 -> 0 | AG9: =IF(J23=0,"",J23) | AH9: =K23 -> 0 | AI9: =L23 -> 0 | AJ9: =M23 -> 0 | AK9: =IF(VLOOKUP(G23,$O$16:$AB$30,14,0)="x","Igen",IF(VLOOKUP(G23,$O$16:$AB$30,7,0)="x","igen","nem")) -> #N/A | AL9: =IF(VLOOKUP(G23,$O$16:$AB$30,14,0)="x","Igen",IF(VLOOKUP(G23,$O$16:$AB$30,8,0)="x","igen","nem")) -> #N/A | AM9: =IF(VLOOKUP(G23,$O$16:$AB$30,14,0)="x","Igen",IF(VLOOKUP(G23,$O$16:$AB$30,9,0)="x","igen","nem")) -> #N/A | AN9: =IF(VLOOKUP(G23,$O$16:$AB$30,14,0)="x","Igen",IF(VLOOKUP(G23,$O$16:$AB$30,10,0)="x","igen","nem")) -> #N/A | AO9: =IF(VLOOKUP(G23,$O$16:$AB$30,14,0)="x","Igen",IF(VLOOKUP(G23,$O$16:$AB$30,11,0)="x","igen","nem")) -> #N/A | AP9: =IF(VLOOKUP(G23,$O$16:$AB$30,14,0)="x","Igen",IF(VLOOKUP(G23,$O$16:$AB$30,12,0)="x","igen","nem")) -> #N/A | AQ9: =IF(VLOOKUP(G23,$O$16:$AB$30,14,0)="x","Igen",IF(VLOOKUP(G23,$O$16:$AB$30,13,0)="x","igen","nem")) -> #N/A | AR9: =IF(AE9="",0,1) -> 0 | BA9: IND01 | BB9: Szójabab | BC9: IND01
E10: Telefon | AE10: =IF(ISNA(VLOOKUP(G24,BB:BC,2,0)),"",VLOOKUP(G24,BB:BC,2,0)) | AF10: =I24 -> 0 | AG10: =IF(J24=0,"",J24) | AH10: =K24 -> 0 | AI10: =L24 -> 0 | AJ10: =M24 -> 0 | AK10: =IF(VLOOKUP(G24,$O$16:$AB$30,14,0)="x","Igen",IF(VLOOKUP(G24,$O$16:$AB$30,7,0)="x","igen","nem")) -> #N/A | AL10: =IF(VLOOKUP(G24,$O$16:$AB$30,14,0)="x","Igen",IF(VLOOKUP(G24,$O$16:$AB$30,8,0)="x","igen","nem")) -> #N/A | AM10: =IF(VLOOKUP(G24,$O$16:$AB$30,14,0)="x","Igen",IF(VLOOKUP(G24,$O$16:$AB$30,9,0)="x","igen","nem")) -> #N/A | AN10: =IF(VLOOKUP(G24,$O$16:$AB$30,14,0)="x","Igen",IF(VLOOKUP(G24,$O$16:$AB$30,10,0)="x","igen","nem")) -> #N/A | AO10: =IF(VLOOKUP(G24,$O$16:$AB$30,14,0)="x","Igen",IF(VLOOKUP(G24,$O$16:$AB$30,11,0)="x","igen","nem")) -> #N/A | AP10: =IF(VLOOKUP(G24,$O$16:$AB$30,14,0)="x","Igen",IF(VLOOKUP(G24,$O$16:$AB$30,12,0)="x","igen","nem")) -> #N/A | AQ10: =IF(VLOOKUP(G24,$O$16:$AB$30,14,0)="x","Igen",IF(VLOOKUP(G24,$O$16:$AB$30,13,0)="x","igen","nem")) -> #N/A | AR10: =IF(AE10="",0,1) -> 0 | BA10: -------------- | BB10: -------------- | BC10: --------------
E11: E-mail | AE11: =IF(ISNA(VLOOKUP(G25,BB:BC,2,0)),"",VLOOKUP(G25,BB:BC,2,0)) | AF11: =I25 -> 0 | AG11: =IF(J25=0,"",J25) | AH11: =K25 -> 0 | AI11: =L25 -> 0 | AJ11: =M25 -> 0 | AK11: =IF(VLOOKUP(G25,$O$16:$AB$30,14,0)="x","Igen",IF(VLOOKUP(G25,$O$16:$AB$30,7,0)="x","igen","nem")) -> #N/A | AL11: =IF(VLOOKUP(G25,$O$16:$AB$30,14,0)="x","Igen",IF(VLOOKUP(G25,$O$16:$AB$30,8,0)="x","igen","nem")) -> #N/A | AM11: =IF(VLOOKUP(G25,$O$16:$AB$30,14,0)="x","Igen",IF(VLOOKUP(G25,$O$16:$AB$30,9,0)="x","igen","nem")) -> #N/A | AN11: =IF(VLOOKUP(G25,$O$16:$AB$30,14,0)="x","Igen",IF(VLOOKUP(G25,$O$16:$AB$30,10,0)="x","igen","nem")) -> #N/A | AO11: =IF(VLOOKUP(G25,$O$16:$AB$30,14,0)="x","Igen",IF(VLOOKUP(G25,$O$16:$AB$30,11,0)="x","igen","nem")) -> #N/A | AP11: =IF(VLOOKUP(G25,$O$16:$AB$30,14,0)="x","Igen",IF(VLOOKUP(G25,$O$16:$AB$30,12,0)="x","igen","nem")) -> #N/A | AQ11: =IF(VLOOKUP(G25,$O$16:$AB$30,14,0)="x","Igen",IF(VLOOKUP(G25,$O$16:$AB$30,13,0)="x","igen","nem")) -> #N/A | AR11: =IF(AE11="",0,1) -> 0 | BA11: FRU17 | BB11: Áfonya | BC11: FRU17
E12: Bankszámlaszám | AE12: =IF(ISNA(VLOOKUP(G26,BB:BC,2,0)),"",VLOOKUP(G26,BB:BC,2,0)) | AF12: =I26 -> 0 | AG12: =IF(J26=0,"",J26) | AH12: =K26 -> 0 | AI12: =L26 -> 0 | AJ12: =M26 -> 0 | AK12: =IF(VLOOKUP(G26,$O$16:$AB$30,14,0)="x","Igen",IF(VLOOKUP(G26,$O$16:$AB$30,7,0)="x","igen","nem")) -> #N/A | AL12: =IF(VLOOKUP(G26,$O$16:$AB$30,14,0)="x","Igen",IF(VLOOKUP(G26,$O$16:$AB$30,8,0)="x","igen","nem")) -> #N/A | AM12: =IF(VLOOKUP(G26,$O$16:$AB$30,14,0)="x","Igen",IF(VLOOKUP(G26,$O$16:$AB$30,9,0)="x","igen","nem")) -> #N/A | AN12: =IF(VLOOKUP(G26,$O$16:$AB$30,14,0)="x","Igen",IF(VLOOKUP(G26,$O$16:$AB$30,10,0)="x","igen","nem")) -> #N/A | AO12: =IF(VLOOKUP(G26,$O$16:$AB$30,14,0)="x","Igen",IF(VLOOKUP(G26,$O$16:$AB$30,11,0)="x","igen","nem")) -> #N/A | AP12: =IF(VLOOKUP(G26,$O$16:$AB$30,14,0)="x","Igen",IF(VLOOKUP(G26,$O$16:$AB$30,12,0)="x","igen","nem")) -> #N/A | AQ12: =IF(VLOOKUP(G26,$O$16:$AB$30,14,0)="x","Igen",IF(VLOOKUP(G26,$O$16:$AB$30,13,0)="x","igen","nem")) -> #N/A | AR12: =IF(AE12="",0,1) -> 0 | BA12: FOR14 | BB12: Alexandriai here | BC12: FOR14
S13: Kockázat | AE13: =IF(ISNA(VLOOKUP(G27,BB:BC,2,0)),"",VLOOKUP(G27,BB:BC,2,0)) | AF13: =I27 -> 0 | AG13: =IF(J27=0,"",J27) | AH13: =K27 -> 0 | AI13: =L27 -> 0 | AJ13: =M27 -> 0 | AK13: =IF(VLOOKUP(G27,$O$16:$AB$30,14,0)="x","Igen",IF(VLOOKUP(G27,$O$16:$AB$30,7,0)="x","igen","nem")) -> #N/A | AL13: =IF(VLOOKUP(G27,$O$16:$AB$30,14,0)="x","Igen",IF(VLOOKUP(G27,$O$16:$AB$30,8,0)="x","igen","nem")) -> #N/A | AM13: =IF(VLOOKUP(G27,$O$16:$AB$30,14,0)="x","Igen",IF(VLOOKUP(G27,$O$16:$AB$30,9,0)="x","igen","nem")) -> #N/A | AN13: =IF(VLOOKUP(G27,$O$16:$AB$30,14,0)="x","Igen",IF(VLOOKUP(G27,$O$16:$AB$30,10,0)="x","igen","nem")) -> #N/A | AO13: =IF(VLOOKUP(G27,$O$16:$AB$30,14,0)="x","Igen",IF(VLOOKUP(G27,$O$16:$AB$30,11,0)="x","igen","nem")) -> #N/A | AP13: =IF(VLOOKUP(G27,$O$16:$AB$30,14,0)="x","Igen",IF(VLOOKUP(G27,$O$16:$AB$30,12,0)="x","igen","nem")) -> #N/A | AQ13: =IF(VLOOKUP(G27,$O$16:$AB$30,14,0)="x","Igen",IF(VLOOKUP(G27,$O$16:$AB$30,13,0)="x","igen","nem")) -> #N/A | AR13: =IF(AE13="",0,1) -> 0 | BA13: ULT01 | BB13: Alma | BC13: ULT01
O14: ÖSSZESÍTŐ | P14: =SUM(P16:P30) -> 0 | S14: jég + tűz | T14: tűz | U14: vihar | V14: télifagy | W14: őszi fagy | X14: tavaszi fagy | Y14: aszály | Z14: felhő-szakadás | AA14: mg-i árvízkár | AB14: "A" típus | AE14: =IF(ISNA(VLOOKUP(G28,BB:BC,2,0)),"",VLOOKUP(G28,BB:BC,2,0)) | AF14: =I28 -> 0 | AG14: =IF(J28=0,"",J28) | AH14: =K28 -> 0 | AI14: =L28 -> 0 | AJ14: =M28 -> 0 | AK14: =IF(VLOOKUP(G28,$O$16:$AB$30,14,0)="x","Igen",IF(VLOOKUP(G28,$O$16:$AB$30,7,0)="x","igen","nem")) -> #N/A | AL14: =IF(VLOOKUP(G28,$O$16:$AB$30,14,0)="x","Igen",IF(VLOOKUP(G28,$O$16:$AB$30,8,0)="x","igen","nem")) -> #N/A | AM14: =IF(VLOOKUP(G28,$O$16:$AB$30,14,0)="x","Igen",IF(VLOOKUP(G28,$O$16:$AB$30,9,0)="x","igen","nem")) -> #N/A | AN14: =IF(VLOOKUP(G28,$O$16:$AB$30,14,0)="x","Igen",IF(VLOOKUP(G28,$O$16:$AB$30,10,0)="x","igen","nem")) -> #N/A | AO14: =IF(VLOOKUP(G28,$O$16:$AB$30,14,0)="x","Igen",IF(VLOOKUP(G28,$O$16:$AB$30,11,0)="x","igen","nem")) -> #N/A | AP14: =IF(VLOOKUP(G28,$O$16:$AB$30,14,0)="x","Igen",IF(VLOOKUP(G28,$O$16:$AB$30,12,0)="x","igen","nem")) -> #N/A | AQ14: =IF(VLOOKUP(G28,$O$16:$AB$30,14,0)="x","Igen",IF(VLOOKUP(G28,$O$16:$AB$30,13,0)="x","igen","nem")) -> #N/A | AR14: =IF(AE14="",0,1) -> 0 | BA14: PAZ08 | BB14: Angol perje | BC14: PAZ08
D15: Ssz | E15: Ügyfél-azonosító | F15: Haszn. Kód | G15: Növény | I15: Blokk azonosító | J15: Tábla sorszám | K15: Terület (ha) | L15: Hozam (t/ha) | M15: Egységár (Ft/t) | O15: Növény | P15: Terület (ha) | Q15: Hozam (t/ha) | R15: Egységár (Ft/t) | AE15: =IF(ISNA(VLOOKUP(G29,BB:BC,2,0)),"",VLOOKUP(G29,BB:BC,2,0)) | AF15: =I29 -> 0 | AG15: =IF(J29=0,"",J29) | AH15: =K29 -> 0 | AI15: =L29 -> 0 | AJ15: =M29 -> 0 | AK15: =IF(VLOOKUP(G29,$O$16:$AB$30,14,0)="x","Igen",IF(VLOOKUP(G29,$O$16:$AB$30,7,0)="x","igen","nem")) -> #N/A | AL15: =IF(VLOOKUP(G29,$O$16:$AB$30,14,0)="x","Igen",IF(VLOOKUP(G29,$O$16:$AB$30,8,0)="x","igen","nem")) -> #N/A | AM15: =IF(VLOOKUP(G29,$O$16:$AB$30,14,0)="x","Igen",IF(VLOOKUP(G29,$O$16:$AB$30,9,0)="x","igen","nem")) -> #N/A | AN15: =IF(VLOOKUP(G29,$O$16:$AB$30,14,0)="x","Igen",IF(VLOOKUP(G29,$O$16:$AB$30,10,0)="x","igen","nem")) -> #N/A | AO15: =IF(VLOOKUP(G29,$O$16:$AB$30,14,0)="x","Igen",IF(VLOOKUP(G29,$O$16:$AB$30,11,0)="x","igen","nem")) -> #N/A | AP15: =IF(VLOOKUP(G29,$O$16:$AB$30,14,0)="x","Igen",IF(VLOOKUP(G29,$O$16:$AB$30,12,0)="x","igen","nem")) -> #N/A | AQ15: =IF(VLOOKUP(G29,$O$16:$AB$30,14,0)="x","Igen",IF(VLOOKUP(G29,$O$16:$AB$30,13,0)="x","igen","nem")) -> #N/A | AR15: =IF(AE15="",0,1) -> 0 | BA15: AGF02 | BB15: Angyalgyökér | BC15: AGF02
B16: =IF(F16=0,0,IF(ISERROR(VLOOKUP(C16,C15:C$15,1,FALSE)),1,0))+B15 -> 0 | C16: =G16&"_"&L16&"_"&M16 -> __ | D16: 1 | F16: =IF(ISERROR(VLOOKUP(G16,seged!$B$2:$C$330,2,FALSE)),0,VLOOKUP(G16,seged!$B$2:$C$330,2,FALSE)) -> 0 | N16: 1 | O16: =IF(ISERROR(VLOOKUP($N16,$B$16:$B$335,1,FALSE)),"",VLOOKUP($N16,$B$16:$M$335,6,FALSE)) | P16: =SUMIF($C$16:$C$335,O16&"_"&IF(Q16=0,"",Q16)&"_"&IF(R16=0,"",R16),$K$16:$K$335) -> 0 | Q16: =IF(ISERROR(VLOOKUP($N16,$B$16:$B$335,1,FALSE)),"",VLOOKUP($N16,$B$16:$M$335,11,FALSE)) | R16: =IF(ISERROR(VLOOKUP($N16,$B$16:$B$335,1,FALSE)),"",VLOOKUP($N16,$B$16:$M$335,12,FALSE)) | AE16: =IF(ISNA(VLOOKUP(G30,BB:BC,2,0)),"",VLOOKUP(G30,BB:BC,2,0)) | AF16: =I30 -> 0 | AG16: =IF(J30=0,"",J30) | AH16: =K30 -> 0 | AI16: =L30 -> 0 | AJ16: =M30 -> 0 | AK16: =IF(VLOOKUP(G30,$O$16:$AB$30,14,0)="x","Igen",IF(VLOOKUP(G30,$O$16:$AB$30,7,0)="x","igen","nem")) -> #N/A | AL16: =IF(VLOOKUP(G30,$O$16:$AB$30,14,0)="x","Igen",IF(VLOOKUP(G30,$O$16:$AB$30,8,0)="x","igen","nem")) -> #N/A | AM16: =IF(VLOOKUP(G30,$O$16:$AB$30,14,0)="x","Igen",IF(VLOOKUP(G30,$O$16:$AB$30,9,0)="x","igen","nem")) -> #N/A | AN16: =IF(VLOOKUP(G30,$O$16:$AB$30,14,0)="x","Igen",IF(VLOOKUP(G30,$O$16:$AB$30,10,0)="x","igen","nem")) -> #N/A | AO16: =IF(VLOOKUP(G30,$O$16:$AB$30,14,0)="x","Igen",IF(VLOOKUP(G30,$O$16:$AB$30,11,0)="x","igen","nem")) -> #N/A | AP16: =IF(VLOOKUP(G30,$O$16:$AB$30,14,0)="x","Igen",IF(VLOOKUP(G30,$O$16:$AB$30,12,0)="x","igen","nem")) -> #N/A | AQ16: =IF(VLOOKUP(G30,$O$16:$AB$30,14,0)="x","Igen",IF(VLOOKUP(G30,$O$16:$AB$30,13,0)="x","igen","nem")) -> #N/A | AR16: =IF(AE16="",0,1) -> 0 | BA16: AGF28 | BB16: Ánizs | BC16: AGF28
B17: =IF(F17=0,0,IF(ISERROR(VLOOKUP(C17,C$15:C16,1,FALSE)),1,0))+B16 -> 0 | C17: =G17&"_"&L17&"_"&M17 -> __ | D17: 2 | F17: =IF(ISERROR(VLOOKUP(G17,seged!$B$2:$C$330,2,FALSE)),0,VLOOKUP(G17,seged!$B$2:$C$330,2,FALSE)) -> 0 | N17: 2 | O17: =IF(ISERROR(VLOOKUP($N17,$B$16:$B$335,1,FALSE)),"",VLOOKUP($N17,$B$16:$M$335,6,FALSE)) | P17: =SUMIF($C$16:$C$335,O17&"_"&IF(Q17=0,"",Q17)&"_"&IF(R17=0,"",R17),$K$16:$K$335) -> 0 | Q17: =IF(ISERROR(VLOOKUP($N17,$B$16:$B$335,1,FALSE)),"",VLOOKUP($N17,$B$16:$M$335,11,FALSE)) | R17: =IF(ISERROR(VLOOKUP($N17,$B$16:$B$335,1,FALSE)),"",VLOOKUP($N17,$B$16:$M$335,12,FALSE)) | AE17: =IF(ISNA(VLOOKUP(G31,BB:BC,2,0)),"",VLOOKUP(G31,BB:BC,2,0)) | AF17: =I31 -> 0 | AG17: =IF(J31=0,"",J31) | AH17: =K31 -> 0 | AI17: =L31 -> 0 | AJ17: =M31 -> 0 | AK17: =IF(VLOOKUP(G31,$O$16:$AB$30,14,0)="x","Igen",IF(VLOOKUP(G31,$O$16:$AB$30,7,0)="x","igen","nem")) -> #N/A | AL17: =IF(VLOOKUP(G31,$O$16:$AB$30,14,0)="x","Igen",IF(VLOOKUP(G31,$O$16:$AB$30,8,0)="x","igen","nem")) -> #N/A | AM17: =IF(VLOOKUP(G31,$O$16:$AB$30,14,0)="x","Igen",IF(VLOOKUP(G31,$O$16:$AB$30,9,0)="x","igen","nem")) -> #N/A | AN17: =IF(VLOOKUP(G31,$O$16:$AB$30,14,0)="x","Igen",IF(VLOOKUP(G31,$O$16:$AB$30,10,0)="x","igen","nem")) -> #N/A | AO17: =IF(VLOOKUP(G31,$O$16:$AB$30,14,0)="x","Igen",IF(VLOOKUP(G31,$O$16:$AB$30,11,0)="x","igen","nem")) -> #N/A | AP17: =IF(VLOOKUP(G31,$O$16:$AB$30,14,0)="x","Igen",IF(VLOOKUP(G31,$O$16:$AB$30,12,0)="x","igen","nem")) -> #N/A | AQ17: =IF(VLOOKUP(G31,$O$16:$AB$30,14,0)="x","Igen",IF(VLOOKUP(G31,$O$16:$AB$30,13,0)="x","igen","nem")) -> #N/A | AR17: =IF(AE17="",0,1) -> 0 | BA17: AGF37 | BB17: Ánizsizsóp | BC17: AGF37
B18: =IF(F18=0,0,IF(ISERROR(VLOOKUP(C18,C$15:C17,1,FALSE)),1,0))+B17 -> 0 | C18: =G18&"_"&L18&"_"&M18 -> __ | D18: 3 | F18: =IF(ISERROR(VLOOKUP(G18,seged!$B$2:$C$330,2,FALSE)),0,VLOOKUP(G18,seged!$B$2:$C$330,2,FALSE)) -> 0 | N18: 3 | O18: =IF(ISERROR(VLOOKUP($N18,$B$16:$B$335,1,FALSE)),"",VLOOKUP($N18,$B$16:$M$335,6,FALSE)) | P18: =SUMIF($C$16:$C$335,O18&"_"&IF(Q18=0,"",Q18)&"_"&IF(R18=0,"",R18),$K$16:$K$335) -> 0 | Q18: =IF(ISERROR(VLOOKUP($N18,$B$16:$B$335,1,FALSE)),"",VLOOKUP($N18,$B$16:$M$335,11,FALSE)) | R18: =IF(ISERROR(VLOOKUP($N18,$B$16:$B$335,1,FALSE)),"",VLOOKUP($N18,$B$16:$M$335,12,FALSE)) | AE18: =IF(ISNA(VLOOKUP(G32,BB:BC,2,0)),"",VLOOKUP(G32,BB:BC,2,0)) | AF18: =I32 -> 0 | AG18: =IF(J32=0,"",J32) | AH18: =K32 -> 0 | AI18: =L32 -> 0 | AJ18: =M32 -> 0 | AK18: =IF(VLOOKUP(G32,$O$16:$AB$30,14,0)="x","Igen",IF(VLOOKUP(G32,$O$16:$AB$30,7,0)="x","igen","nem")) -> #N/A | AL18: =IF(VLOOKUP(G32,$O$16:$AB$30,14,0)="x","Igen",IF(VLOOKUP(G32,$O$16:$AB$30,8,0)="x","igen","nem")) -> #N/A | AM18: =IF(VLOOKUP(G32,$O$16:$AB$30,14,0)="x","Igen",IF(VLOOKUP(G32,$O$16:$AB$30,9,0)="x","igen","nem")) -> #N/A | AN18: =IF(VLOOKUP(G32,$O$16:$AB$30,14,0)="x","Igen",IF(VLOOKUP(G32,$O$16:$AB$30,10,0)="x","igen","nem")) -> #N/A | AO18: =IF(VLOOKUP(G32,$O$16:$AB$30,14,0)="x","Igen",IF(VLOOKUP(G32,$O$16:$AB$30,11,0)="x","igen","nem")) -> #N/A | AP18: =IF(VLOOKUP(G32,$O$16:$AB$30,14,0)="x","Igen",IF(VLOOKUP(G32,$O$16:$AB$30,12,0)="x","igen","nem")) -> #N/A | AQ18: =IF(VLOOKUP(G32,$O$16:$AB$30,14,0)="x","Igen",IF(VLOOKUP(G32,$O$16:$AB$30,13,0)="x","igen","nem")) -> #N/A | AR18: =IF(AE18="",0,1) -> 0 | BA18: AGF38 | BB18: Ánizsmenta | BC18: AGF38
B19: =IF(F19=0,0,IF(ISERROR(VLOOKUP(C19,C$15:C18,1,FALSE)),1,0))+B18 -> 0 | C19: =G19&"_"&L19&"_"&M19 -> __ | D19: 4 | F19: =IF(ISERROR(VLOOKUP(G19,seged!$B$2:$C$330,2,FALSE)),0,VLOOKUP(G19,seged!$B$2:$C$330,2,FALSE)) -> 0 | N19: 4 | O19: =IF(ISERROR(VLOOKUP($N19,$B$16:$B$335,1,FALSE)),"",VLOOKUP($N19,$B$16:$M$335,6,FALSE)) | P19: =SUMIF($C$16:$C$335,O19&"_"&IF(Q19=0,"",Q19)&"_"&IF(R19=0,"",R19),$K$16:$K$335) -> 0 | Q19: =IF(ISERROR(VLOOKUP($N19,$B$16:$B$335,1,FALSE)),"",VLOOKUP($N19,$B$16:$M$335,11,FALSE)) | R19: =IF(ISERROR(VLOOKUP($N19,$B$16:$B$335,1,FALSE)),"",VLOOKUP($N19,$B$16:$M$335,12,FALSE)) | AE19: =IF(ISNA(VLOOKUP(G33,BB:BC,2,0)),"",VLOOKUP(G33,BB:BC,2,0)) | AF19: =I33 -> 0 | AG19: =IF(J33=0,"",J33) | AH19: =K33 -> 0 | AI19: =L33 -> 0 | AJ19: =M33 -> 0 | AK19: =IF(VLOOKUP(G33,$O$16:$AB$30,14,0)="x","Igen",IF(VLOOKUP(G33,$O$16:$AB$30,7,0)="x","igen","nem")) -> #N/A | AL19: =IF(VLOOKUP(G33,$O$16:$AB$30,14,0)="x","Igen",IF(VLOOKUP(G33,$O$16:$AB$30,8,0)="x","igen","nem")) -> #N/A | AM19: =IF(VLOOKUP(G33,$O$16:$AB$30,14,0)="x","Igen",IF(VLOOKUP(G33,$O$16:$AB$30,9,0)="x","igen","nem")) -> #N/A | AN19: =IF(VLOOKUP(G33,$O$16:$AB$30,14,0)="x","Igen",IF(VLOOKUP(G33,$O$16:$AB$30,10,0)="x","igen","nem")) -> #N/A | AO19: =IF(VLOOKUP(G33,$O$16:$AB$30,14,0)="x","Igen",IF(VLOOKUP(G33,$O$16:$AB$30,11,0)="x","igen","nem")) -> #N/A | AP19: =IF(VLOOKUP(G33,$O$16:$AB$30,14,0)="x","Igen",IF(VLOOKUP(G33,$O$16:$AB$30,12,0)="x","igen","nem")) -> #N/A | AQ19: =IF(VLOOKUP(G33,$O$16:$AB$30,14,0)="x","Igen",IF(VLOOKUP(G33,$O$16:$AB$30,13,0)="x","igen","nem")) -> #N/A | AR19: =IF(AE19="",0,1) -> 0 | BA19: AGF25 | BB19: Anyarozs | BC19: AGF25
B20: =IF(F20=0,0,IF(ISERROR(VLOOKUP(C20,C$15:C19,1,FALSE)),1,0))+B19 -> 0 | C20: =G20&"_"&L20&"_"&M20 -> __ | D20: 5 | F20: =IF(ISERROR(VLOOKUP(G20,seged!$B$2:$C$330,2,FALSE)),0,VLOOKUP(G20,seged!$B$2:$C$330,2,FALSE)) -> 0 | N20: 5 | O20: =IF(ISERROR(VLOOKUP($N20,$B$16:$B$335,1,FALSE)),"",VLOOKUP($N20,$B$16:$M$335,6,FALSE)) | P20: =SUMIF($C$16:$C$335,O20&"_"&IF(Q20=0,"",Q20)&"_"&IF(R20=0,"",R20),$K$16:$K$335) -> 0 | Q20: =IF(ISERROR(VLOOKUP($N20,$B$16:$B$335,1,FALSE)),"",VLOOKUP($N20,$B$16:$M$335,11,FALSE)) | R20: =IF(ISERROR(VLOOKUP($N20,$B$16:$B$335,1,FALSE)),"",VLOOKUP($N20,$B$16:$M$335,12,FALSE)) | AE20: =IF(ISNA(VLOOKUP(G34,BB:BC,2,0)),"",VLOOKUP(G34,BB:BC,2,0)) | AF20: =I34 -> 0 | AG20: =IF(J34=0,"",J34) | AH20: =K34 -> 0 | AI20: =L34 -> 0 | AJ20: =M34 -> 0 | AK20: =IF(VLOOKUP(G34,$O$16:$AB$30,14,0)="x","Igen",IF(VLOOKUP(G34,$O$16:$AB$30,7,0)="x","igen","nem")) -> #N/A | AL20: =IF(VLOOKUP(G34,$O$16:$AB$30,14,0)="x","Igen",IF(VLOOKUP(G34,$O$16:$AB$30,8,0)="x","igen","nem")) -> #N/A | AM20: =IF(VLOOKUP(G34,$O$16:$AB$30,14,0)="x","Igen",IF(VLOOKUP(G34,$O$16:$AB$30,9,0)="x","igen","nem")) -> #N/A | AN20: =IF(VLOOKUP(G34,$O$16:$AB$30,14,0)="x","Igen",IF(VLOOKUP(G34,$O$16:$AB$30,10,0)="x","igen","nem")) -> #N/A | AO20: =IF(VLOOKUP(G34,$O$16:$AB$30,14,0)="x","Igen",IF(VLOOKUP(G34,$O$16:$AB$30,11,0)="x","igen","nem")) -> #N/A | AP20: =IF(VLOOKUP(G34,$O$16:$AB$30,14,0)="x","Igen",IF(VLOOKUP(G34,$O$16:$AB$30,12,0)="x","igen","nem")) -> #N/A | AQ20: =IF(VLOOKUP(G34,$O$16:$AB$30,14,0)="x","Igen",IF(VLOOKUP(G34,$O$16:$AB$30,13,0)="x","igen","nem")) -> #N/A | AR20: =IF(AE20="",0,1) -> 0 | BA20: VEG24 | BB20: Articsóka | BC20: VEG24
B21: =IF(F21=0,0,IF(ISERROR(VLOOKUP(C21,C$15:C20,1,FALSE)),1,0))+B20 -> 0 | C21: =G21&"_"&L21&"_"&M21 -> __ | D21: 6 | F21: =IF(ISERROR(VLOOKUP(G21,seged!$B$2:$C$330,2,FALSE)),0,VLOOKUP(G21,seged!$B$2:$C$330,2,FALSE)) -> 0 | N21: 6 | O21: =IF(ISERROR(VLOOKUP($N21,$B$16:$B$335,1,FALSE)),"",VLOOKUP($N21,$B$16:$M$335,6,FALSE)) | P21: =SUMIF($C$16:$C$335,O21&"_"&IF(Q21=0,"",Q21)&"_"&IF(R21=0,"",R21),$K$16:$K$335) -> 0 | Q21: =IF(ISERROR(VLOOKUP($N21,$B$16:$B$335,1,FALSE)),"",VLOOKUP($N21,$B$16:$M$335,11,FALSE)) | R21: =IF(ISERROR(VLOOKUP($N21,$B$16:$B$335,1,FALSE)),"",VLOOKUP($N21,$B$16:$M$335,12,FALSE)) | AE21: =IF(ISNA(VLOOKUP(G35,BB:BC,2,0)),"",VLOOKUP(G35,BB:BC,2,0)) | AF21: =I35 -> 0 | AG21: =IF(J35=0,"",J35) | AH21: =K35 -> 0 | AI21: =L35 -> 0 | AJ21: =M35 -> 0 | AK21: =IF(VLOOKUP(G35,$O$16:$AB$30,14,0)="x","Igen",IF(VLOOKUP(G35,$O$16:$AB$30,7,0)="x","igen","nem")) -> #N/A | AL21: =IF(VLOOKUP(G35,$O$16:$AB$30,14,0)="x","Igen",IF(VLOOKUP(G35,$O$16:$AB$30,8,0)="x","igen","nem")) -> #N/A | AM21: =IF(VLOOKUP(G35,$O$16:$AB$30,14,0)="x","Igen",IF(VLOOKUP(G35,$O$16:$AB$30,9,0)="x","igen","nem")) -> #N/A | AN21: =IF(VLOOKUP(G35,$O$16:$AB$30,14,0)="x","Igen",IF(VLOOKUP(G35,$O$16:$AB$30,10,0)="x","igen","nem")) -> #N/A | AO21: =IF(VLOOKUP(G35,$O$16:$AB$30,14,0)="x","Igen",IF(VLOOKUP(G35,$O$16:$AB$30,11,0)="x","igen","nem")) -> #N/A | AP21: =IF(VLOOKUP(G35,$O$16:$AB$30,14,0)="x","Igen",IF(VLOOKUP(G35,$O$16:$AB$30,12,0)="x","igen","nem")) -> #N/A | AQ21: =IF(VLOOKUP(G35,$O$16:$AB$30,14,0)="x","Igen",IF(VLOOKUP(G35,$O$16:$AB$30,13,0)="x","igen","nem")) -> #N/A | AR21: =IF(AE21="",0,1) -> 0 | BA21: VEG54 | BB21: Batáta (édesburgonya) | BC21: VEG54
B22: =IF(F22=0,0,IF(ISERROR(VLOOKUP(C22,C$15:C21,1,FALSE)),1,0))+B21 -> 0 | C22: =G22&"_"&L22&"_"&M22 -> __ | D22: 7 | F22: =IF(ISERROR(VLOOKUP(G22,seged!$B$2:$C$330,2,FALSE)),0,VLOOKUP(G22,seged!$B$2:$C$330,2,FALSE)) -> 0 | N22: 7 | O22: =IF(ISERROR(VLOOKUP($N22,$B$16:$B$335,1,FALSE)),"",VLOOKUP($N22,$B$16:$M$335,6,FALSE)) | P22: =SUMIF($C$16:$C$335,O22&"_"&IF(Q22=0,"",Q22)&"_"&IF(R22=0,"",R22),$K$16:$K$335) -> 0 | Q22: =IF(ISERROR(VLOOKUP($N22,$B$16:$B$335,1,FALSE)),"",VLOOKUP($N22,$B$16:$M$335,11,FALSE)) | R22: =IF(ISERROR(VLOOKUP($N22,$B$16:$B$335,1,FALSE)),"",VLOOKUP($N22,$B$16:$M$335,12,FALSE)) | AE22: =IF(ISNA(VLOOKUP(G36,BB:BC,2,0)),"",VLOOKUP(G36,BB:BC,2,0)) | AF22: =I36 -> 0 | AG22: =IF(J36=0,"",J36) | AH22: =K36 -> 0 | AI22: =L36 -> 0 | AJ22: =M36 -> 0 | AK22: =IF(VLOOKUP(G36,$O$16:$AB$30,14,0)="x","Igen",IF(VLOOKUP(G36,$O$16:$AB$30,7,0)="x","igen","nem")) -> #N/A | AL22: =IF(VLOOKUP(G36,$O$16:$AB$30,14,0)="x","Igen",IF(VLOOKUP(G36,$O$16:$AB$30,8,0)="x","igen","nem")) -> #N/A | AM22: =IF(VLOOKUP(G36,$O$16:$AB$30,14,0)="x","Igen",IF(VLOOKUP(G36,$O$16:$AB$30,9,0)="x","igen","nem")) -> #N/A | AN22: =IF(VLOOKUP(G36,$O$16:$AB$30,14,0)="x","Igen",IF(VLOOKUP(G36,$O$16:$AB$30,10,0)="x","igen","nem")) -> #N/A | AO22: =IF(VLOOKUP(G36,$O$16:$AB$30,14,0)="x","Igen",IF(VLOOKUP(G36,$O$16:$AB$30,11,0)="x","igen","nem")) -> #N/A | AP22: =IF(VLOOKUP(G36,$O$16:$AB$30,14,0)="x","Igen",IF(VLOOKUP(G36,$O$16:$AB$30,12,0)="x","igen","nem")) -> #N/A | AQ22: =IF(VLOOKUP(G36,$O$16:$AB$30,14,0)="x","Igen",IF(VLOOKUP(G36,$O$16:$AB$30,13,0)="x","igen","nem")) -> #N/A | AR22: =IF(AE22="",0,1) -> 0 | BA22: AGF21 | BB22: Bazsalikom | BC22: AGF21
B23: =IF(F23=0,0,IF(ISERROR(VLOOKUP(C23,C$15:C22,1,FALSE)),1,0))+B22 -> 0 | C23: =G23&"_"&L23&"_"&M23 -> __ | D23: 8 | F23: =IF(ISERROR(VLOOKUP(G23,seged!$B$2:$C$330,2,FALSE)),0,VLOOKUP(G23,seged!$B$2:$C$330,2,FALSE)) -> 0 | N23: 8 | O23: =IF(ISERROR(VLOOKUP($N23,$B$16:$B$335,1,FALSE)),"",VLOOKUP($N23,$B$16:$M$335,6,FALSE)) | P23: =SUMIF($C$16:$C$335,O23&"_"&IF(Q23=0,"",Q23)&"_"&IF(R23=0,"",R23),$K$16:$K$335) -> 0 | Q23: =IF(ISERROR(VLOOKUP($N23,$B$16:$B$335,1,FALSE)),"",VLOOKUP($N23,$B$16:$M$335,11,FALSE)) | R23: =IF(ISERROR(VLOOKUP($N23,$B$16:$B$335,1,FALSE)),"",VLOOKUP($N23,$B$16:$M$335,12,FALSE)) | AE23: =IF(ISNA(VLOOKUP(G37,BB:BC,2,0)),"",VLOOKUP(G37,BB:BC,2,0)) | AF23: =I37 -> 0 | AG23: =IF(J37=0,"",J37) | AH23: =K37 -> 0 | AI23: =L37 -> 0 | AJ23: =M37 -> 0 | AK23: =IF(VLOOKUP(G37,$O$16:$AB$30,14,0)="x","Igen",IF(VLOOKUP(G37,$O$16:$AB$30,7,0)="x","igen","nem")) -> #N/A | AL23: =IF(VLOOKUP(G37,$O$16:$AB$30,14,0)="x","Igen",IF(VLOOKUP(G37,$O$16:$AB$30,8,0)="x","igen","nem")) -> #N/A | AM23: =IF(VLOOKUP(G37,$O$16:$AB$30,14,0)="x","Igen",IF(VLOOKUP(G37,$O$16:$AB$30,9,0)="x","igen","nem")) -> #N/A | AN23: =IF(VLOOKUP(G37,$O$16:$AB$30,14,0)="x","Igen",IF(VLOOKUP(G37,$O$16:$AB$30,10,0)="x","igen","nem")) -> #N/A | AO23: =IF(VLOOKUP(G37,$O$16:$AB$30,14,0)="x","Igen",IF(VLOOKUP(G37,$O$16:$AB$30,11,0)="x","igen","nem")) -> #N/A | AP23: =IF(VLOOKUP(G37,$O$16:$AB$30,14,0)="x","Igen",IF(VLOOKUP(G37,$O$16:$AB$30,12,0)="x","igen","nem")) -> #N/A | AQ23: =IF(VLOOKUP(G37,$O$16:$AB$30,14,0)="x","Igen",IF(VLOOKUP(G37,$O$16:$AB$30,13,0)="x","igen","nem")) -> #N/A | AR23: =IF(AE23="",0,1) -> 0 | BA23: FRU18 | BB23: Berkenye | BC23: FRU18
B24: =IF(F24=0,0,IF(ISERROR(VLOOKUP(C24,C$15:C23,1,FALSE)),1,0))+B23 -> 0 | C24: =G24&"_"&L24&"_"&M24 -> __ | D24: 9 | F24: =IF(ISERROR(VLOOKUP(G24,seged!$B$2:$C$330,2,FALSE)),0,VLOOKUP(G24,seged!$B$2:$C$330,2,FALSE)) -> 0 | N24: 9 | O24: =IF(ISERROR(VLOOKUP($N24,$B$16:$B$335,1,FALSE)),"",VLOOKUP($N24,$B$16:$M$335,6,FALSE)) | P24: =SUMIF($C$16:$C$335,O24&"_"&IF(Q24=0,"",Q24)&"_"&IF(R24=0,"",R24),$K$16:$K$335) -> 0 | Q24: =IF(ISERROR(VLOOKUP($N24,$B$16:$B$335,1,FALSE)),"",VLOOKUP($N24,$B$16:$M$335,11,FALSE)) | R24: =IF(ISERROR(VLOOKUP($N24,$B$16:$B$335,1,FALSE)),"",VLOOKUP($N24,$B$16:$M$335,12,FALSE)) | AE24: =IF(ISNA(VLOOKUP(G38,BB:BC,2,0)),"",VLOOKUP(G38,BB:BC,2,0)) | AF24: =I38 -> 0 | AG24: =IF(J38=0,"",J38) | AH24: =K38 -> 0 | AI24: =L38 -> 0 | AJ24: =M38 -> 0 | AK24: =IF(VLOOKUP(G38,$O$16:$AB$30,14,0)="x","Igen",IF(VLOOKUP(G38,$O$16:$AB$30,7,0)="x","igen","nem")) -> #N/A | AL24: =IF(VLOOKUP(G38,$O$16:$AB$30,14,0)="x","Igen",IF(VLOOKUP(G38,$O$16:$AB$30,8,0)="x","igen","nem")) -> #N/A | AM24: =IF(VLOOKUP(G38,$O$16:$AB$30,14,0)="x","Igen",IF(VLOOKUP(G38,$O$16:$AB$30,9,0)="x","igen","nem")) -> #N/A | AN24: =IF(VLOOKUP(G38,$O$16:$AB$30,14,0)="x","Igen",IF(VLOOKUP(G38,$O$16:$AB$30,10,0)="x","igen","nem")) -> #N/A | AO24: =IF(VLOOKUP(G38,$O$16:$AB$30,14,0)="x","Igen",IF(VLOOKUP(G38,$O$16:$AB$30,11,0)="x","igen","nem")) -> #N/A | AP24: =IF(VLOOKUP(G38,$O$16:$AB$30,14,0)="x","Igen",IF(VLOOKUP(G38,$O$16:$AB$30,12,0)="x","igen","nem")) -> #N/A | AQ24: =IF(VLOOKUP(G38,$O$16:$AB$30,14,0)="x","Igen",IF(VLOOKUP(G38,$O$16:$AB$30,13,0)="x","igen","nem")) -> #N/A | AR24: =IF(AE24="",0,1) -> 0 | BA24: AGF39 | BB24: Bíbor kasvirág (Echinacea) | BC24: AGF39
B25: =IF(F25=0,0,IF(ISERROR(VLOOKUP(C25,C$15:C24,1,FALSE)),1,0))+B24 -> 0 | C25: =G25&"_"&L25&"_"&M25 -> __ | D25: 10 | F25: =IF(ISERROR(VLOOKUP(G25,seged!$B$2:$C$330,2,FALSE)),0,VLOOKUP(G25,seged!$B$2:$C$330,2,FALSE)) -> 0 | N25: 10 | O25: =IF(ISERROR(VLOOKUP($N25,$B$16:$B$335,1,FALSE)),"",VLOOKUP($N25,$B$16:$M$335,6,FALSE)) | P25: =SUMIF($C$16:$C$335,O25&"_"&IF(Q25=0,"",Q25)&"_"&IF(R25=0,"",R25),$K$16:$K$335) -> 0 | Q25: =IF(ISERROR(VLOOKUP($N25,$B$16:$B$335,1,FALSE)),"",VLOOKUP($N25,$B$16:$M$335,11,FALSE)) | R25: =IF(ISERROR(VLOOKUP($N25,$B$16:$B$335,1,FALSE)),"",VLOOKUP($N25,$B$16:$M$335,12,FALSE)) | AE25: =IF(ISNA(VLOOKUP(G39,BB:BC,2,0)),"",VLOOKUP(G39,BB:BC,2,0)) | AF25: =I39 -> 0 | AG25: =IF(J39=0,"",J39) | AH25: =K39 -> 0 | AI25: =L39 -> 0 | AJ25: =M39 -> 0 | AK25: =IF(VLOOKUP(G39,$O$16:$AB$30,14,0)="x","Igen",IF(VLOOKUP(G39,$O$16:$AB$30,7,0)="x","igen","nem")) -> #N/A | AL25: =IF(VLOOKUP(G39,$O$16:$AB$30,14,0)="x","Igen",IF(VLOOKUP(G39,$O$16:$AB$30,8,0)="x","igen","nem")) -> #N/A | AM25: =IF(VLOOKUP(G39,$O$16:$AB$30,14,0)="x","Igen",IF(VLOOKUP(G39,$O$16:$AB$30,9,0)="x","igen","nem")) -> #N/A | AN25: =IF(VLOOKUP(G39,$O$16:$AB$30,14,0)="x","Igen",IF(VLOOKUP(G39,$O$16:$AB$30,10,0)="x","igen","nem")) -> #N/A | AO25: =IF(VLOOKUP(G39,$O$16:$AB$30,14,0)="x","Igen",IF(VLOOKUP(G39,$O$16:$AB$30,11,0)="x","igen","nem")) -> #N/A | AP25: =IF(VLOOKUP(G39,$O$16:$AB$30,14,0)="x","Igen",IF(VLOOKUP(G39,$O$16:$AB$30,12,0)="x","igen","nem")) -> #N/A | AQ25: =IF(VLOOKUP(G39,$O$16:$AB$30,14,0)="x","Igen",IF(VLOOKUP(G39,$O$16:$AB$30,13,0)="x","igen","nem")) -> #N/A | AR25: =IF(AE25="",0,1) -> 0 | BA25: FOR10 | BB25: Bíborhere | BC25: FOR10
B26: =IF(F26=0,0,IF(ISERROR(VLOOKUP(C26,C$15:C25,1,FALSE)),1,0))+B25 -> 0 | C26: =G26&"_"&L26&"_"&M26 -> __ | D26: 11 | F26: =IF(ISERROR(VLOOKUP(G26,seged!$B$2:$C$330,2,FALSE)),0,VLOOKUP(G26,seged!$B$2:$C$330,2,FALSE)) -> 0 | N26: 11 | O26: =IF(ISERROR(VLOOKUP($N26,$B$16:$B$335,1,FALSE)),"",VLOOKUP($N26,$B$16:$M$335,6,FALSE)) | P26: =SUMIF($C$16:$C$335,O26&"_"&IF(Q26=0,"",Q26)&"_"&IF(R26=0,"",R26),$K$16:$K$335) -> 0 | Q26: =IF(ISERROR(VLOOKUP($N26,$B$16:$B$335,1,FALSE)),"",VLOOKUP($N26,$B$16:$M$335,11,FALSE)) | R26: =IF(ISERROR(VLOOKUP($N26,$B$16:$B$335,1,FALSE)),"",VLOOKUP($N26,$B$16:$M$335,12,FALSE)) | AE26: =IF(ISNA(VLOOKUP(G40,BB:BC,2,0)),"",VLOOKUP(G40,BB:BC,2,0)) | AF26: =I40 -> 0 | AG26: =IF(J40=0,"",J40) | AH26: =K40 -> 0 | AI26: =L40 -> 0 | AJ26: =M40 -> 0 | AK26: =IF(VLOOKUP(G40,$O$16:$AB$30,14,0)="x","Igen",IF(VLOOKUP(G40,$O$16:$AB$30,7,0)="x","igen","nem")) -> #N/A | AL26: =IF(VLOOKUP(G40,$O$16:$AB$30,14,0)="x","Igen",IF(VLOOKUP(G40,$O$16:$AB$30,8,0)="x","igen","nem")) -> #N/A | AM26: =IF(VLOOKUP(G40,$O$16:$AB$30,14,0)="x","Igen",IF(VLOOKUP(G40,$O$16:$AB$30,9,0)="x","igen","nem")) -> #N/A | AN26: =IF(VLOOKUP(G40,$O$16:$AB$30,14,0)="x","Igen",IF(VLOOKUP(G40,$O$16:$AB$30,10,0)="x","igen","nem")) -> #N/A | AO26: =IF(VLOOKUP(G40,$O$16:$AB$30,14,0)="x","Igen",IF(VLOOKUP(G40,$O$16:$AB$30,11,0)="x","igen","nem")) -> #N/A | AP26: =IF(VLOOKUP(G40,$O$16:$AB$30,14,0)="x","Igen",IF(VLOOKUP(G40,$O$16:$AB$30,12,0)="x","igen","nem")) -> #N/A | AQ26: =IF(VLOOKUP(G40,$O$16:$AB$30,14,0)="x","Igen",IF(VLOOKUP(G40,$O$16:$AB$30,13,0)="x","igen","nem")) -> #N/A | AR26: =IF(AE26="",0,1) -> 0 | BA26: VEG03 | BB26: Bimbóskel | BC26: VEG03
B27: =IF(F27=0,0,IF(ISERROR(VLOOKUP(C27,C$15:C26,1,FALSE)),1,0))+B26 -> 0 | C27: =G27&"_"&L27&"_"&M27 -> __ | D27: 12 | F27: =IF(ISERROR(VLOOKUP(G27,seged!$B$2:$C$330,2,FALSE)),0,VLOOKUP(G27,seged!$B$2:$C$330,2,FALSE)) -> 0 | N27: 12 | O27: =IF(ISERROR(VLOOKUP($N27,$B$16:$B$335,1,FALSE)),"",VLOOKUP($N27,$B$16:$M$335,6,FALSE)) | P27: =SUMIF($C$16:$C$335,O27&"_"&IF(Q27=0,"",Q27)&"_"&IF(R27=0,"",R27),$K$16:$K$335) -> 0 | Q27: =IF(ISERROR(VLOOKUP($N27,$B$16:$B$335,1,FALSE)),"",VLOOKUP($N27,$B$16:$M$335,11,FALSE)) | R27: =IF(ISERROR(VLOOKUP($N27,$B$16:$B$335,1,FALSE)),"",VLOOKUP($N27,$B$16:$M$335,12,FALSE)) | AE27: =IF(ISNA(VLOOKUP(G41,BB:BC,2,0)),"",VLOOKUP(G41,BB:BC,2,0)) | AF27: =I41 -> 0 | AG27: =IF(J41=0,"",J41) | AH27: =K41 -> 0 | AI27: =L41 -> 0 | AJ27: =M41 -> 0 | AK27: =IF(VLOOKUP(G41,$O$16:$AB$30,14,0)="x","Igen",IF(VLOOKUP(G41,$O$16:$AB$30,7,0)="x","igen","nem")) -> #N/A | AL27: =IF(VLOOKUP(G41,$O$16:$AB$30,14,0)="x","Igen",IF(VLOOKUP(G41,$O$16:$AB$30,8,0)="x","igen","nem")) -> #N/A | AM27: =IF(VLOOKUP(G41,$O$16:$AB$30,14,0)="x","Igen",IF(VLOOKUP(G41,$O$16:$AB$30,9,0)="x","igen","nem")) -> #N/A | AN27: =IF(VLOOKUP(G41,$O$16:$AB$30,14,0)="x","Igen",IF(VLOOKUP(G41,$O$16:$AB$30,10,0)="x","igen","nem")) -> #N/A | AO27: =IF(VLOOKUP(G41,$O$16:$AB$30,14,0)="x","Igen",IF(VLOOKUP(G41,$O$16:$AB$30,11,0)="x","igen","nem")) -> #N/A | AP27: =IF(VLOOKUP(G41,$O$16:$AB$30,14,0)="x","Igen",IF(VLOOKUP(G41,$O$16:$AB$30,12,0)="x","igen","nem")) -> #N/A | AQ27: =IF(VLOOKUP(G41,$O$16:$AB$30,14,0)="x","Igen",IF(VLOOKUP(G41,$O$16:$AB$30,13,0)="x","igen","nem")) -> #N/A | AR27: =IF(AE27="",0,1) -> 0 | BA27: ULT18 | BB27: Birs | BC27: ULT18
B28: =IF(F28=0,0,IF(ISERROR(VLOOKUP(C28,C$15:C27,1,FALSE)),1,0))+B27 -> 0 | C28: =G28&"_"&L28&"_"&M28 -> __ | D28: 13 | F28: =IF(ISERROR(VLOOKUP(G28,seged!$B$2:$C$330,2,FALSE)),0,VLOOKUP(G28,seged!$B$2:$C$330,2,FALSE)) -> 0 | N28: 13 | O28: =IF(ISERROR(VLOOKUP($N28,$B$16:$B$335,1,FALSE)),"",VLOOKUP($N28,$B$16:$M$335,6,FALSE)) | P28: =SUMIF($C$16:$C$335,O28&"_"&IF(Q28=0,"",Q28)&"_"&IF(R28=0,"",R28),$K$16:$K$335) -> 0 | Q28: =IF(ISERROR(VLOOKUP($N28,$B$16:$B$335,1,FALSE)),"",VLOOKUP($N28,$B$16:$M$335,11,FALSE)) | R28: =IF(ISERROR(VLOOKUP($N28,$B$16:$B$335,1,FALSE)),"",VLOOKUP($N28,$B$16:$M$335,12,FALSE)) | AE28: =IF(ISNA(VLOOKUP(G42,BB:BC,2,0)),"",VLOOKUP(G42,BB:BC,2,0)) | AF28: =I42 -> 0 | AG28: =IF(J42=0,"",J42) | AH28: =K42 -> 0 | AI28: =L42 -> 0 | AJ28: =M42 -> 0 | AK28: =IF(VLOOKUP(G42,$O$16:$AB$30,14,0)="x","Igen",IF(VLOOKUP(G42,$O$16:$AB$30,7,0)="x","igen","nem")) -> #N/A | AL28: =IF(VLOOKUP(G42,$O$16:$AB$30,14,0)="x","Igen",IF(VLOOKUP(G42,$O$16:$AB$30,8,0)="x","igen","nem")) -> #N/A | AM28: =IF(VLOOKUP(G42,$O$16:$AB$30,14,0)="x","Igen",IF(VLOOKUP(G42,$O$16:$AB$30,9,0)="x","igen","nem")) -> #N/A | AN28: =IF(VLOOKUP(G42,$O$16:$AB$30,14,0)="x","Igen",IF(VLOOKUP(G42,$O$16:$AB$30,10,0)="x","igen","nem")) -> #N/A | AO28: =IF(VLOOKUP(G42,$O$16:$AB$30,14,0)="x","Igen",IF(VLOOKUP(G42,$O$16:$AB$30,11,0)="x","igen","nem")) -> #N/A | AP28: =IF(VLOOKUP(G42,$O$16:$AB$30,14,0)="x","Igen",IF(VLOOKUP(G42,$O$16:$AB$30,12,0)="x","igen","nem")) -> #N/A | AQ28: =IF(VLOOKUP(G42,$O$16:$AB$30,14,0)="x","Igen",IF(VLOOKUP(G42,$O$16:$AB$30,13,0)="x","igen","nem")) -> #N/A | AR28: =IF(AE28="",0,1) -> 0 | BA28: AGF44 | BB28: Borágó | BC28: AGF44
B29: =IF(F29=0,0,IF(ISERROR(VLOOKUP(C29,C$15:C28,1,FALSE)),1,0))+B28 -> 0 | C29: =G29&"_"&L29&"_"&M29 -> __ | D29: 14 | F29: =IF(ISERROR(VLOOKUP(G29,seged!$B$2:$C$330,2,FALSE)),0,VLOOKUP(G29,seged!$B$2:$C$330,2,FALSE)) -> 0 | N29: 14 | O29: =IF(ISERROR(VLOOKUP($N29,$B$16:$B$335,1,FALSE)),"",VLOOKUP($N29,$B$16:$M$335,6,FALSE)) | P29: =SUMIF($C$16:$C$335,O29&"_"&IF(Q29=0,"",Q29)&"_"&IF(R29=0,"",R29),$K$16:$K$335) -> 0 | Q29: =IF(ISERROR(VLOOKUP($N29,$B$16:$B$335,1,FALSE)),"",VLOOKUP($N29,$B$16:$M$335,11,FALSE)) | R29: =IF(ISERROR(VLOOKUP($N29,$B$16:$B$335,1,FALSE)),"",VLOOKUP($N29,$B$16:$M$335,12,FALSE)) | AE29: =IF(ISNA(VLOOKUP(G43,BB:BC,2,0)),"",VLOOKUP(G43,BB:BC,2,0)) | AF29: =I43 -> 0 | AG29: =IF(J43=0,"",J43) | AH29: =K43 -> 0 | AI29: =L43 -> 0 | AJ29: =M43 -> 0 | AK29: =IF(VLOOKUP(G43,$O$16:$AB$30,14,0)="x","Igen",IF(VLOOKUP(G43,$O$16:$AB$30,7,0)="x","igen","nem")) -> #N/A | AL29: =IF(VLOOKUP(G43,$O$16:$AB$30,14,0)="x","Igen",IF(VLOOKUP(G43,$O$16:$AB$30,8,0)="x","igen","nem")) -> #N/A | AM29: =IF(VLOOKUP(G43,$O$16:$AB$30,14,0)="x","Igen",IF(VLOOKUP(G43,$O$16:$AB$30,9,0)="x","igen","nem")) -> #N/A | AN29: =IF(VLOOKUP(G43,$O$16:$AB$30,14,0)="x","Igen",IF(VLOOKUP(G43,$O$16:$AB$30,10,0)="x","igen","nem")) -> #N/A | AO29: =IF(VLOOKUP(G43,$O$16:$AB$30,14,0)="x","Igen",IF(VLOOKUP(G43,$O$16:$AB$30,11,0)="x","igen","nem")) -> #N/A | AP29: =IF(VLOOKUP(G43,$O$16:$AB$30,14,0)="x","Igen",IF(VLOOKUP(G43,$O$16:$AB$30,12,0)="x","igen","nem")) -> #N/A | AQ29: =IF(VLOOKUP(G43,$O$16:$AB$30,14,0)="x","Igen",IF(VLOOKUP(G43,$O$16:$AB$30,13,0)="x","igen","nem")) -> #N/A | AR29: =IF(AE29="",0,1) -> 0 | BA29: AGF29 | BB29: Borsikafű | BC29: AGF29
B30: =IF(F30=0,0,IF(ISERROR(VLOOKUP(C30,C$15:C29,1,FALSE)),1,0))+B29 -> 0 | C30: =G30&"_"&L30&"_"&M30 -> __ | D30: 15 | N30: 15 | O30: =IF(ISERROR(VLOOKUP($N30,$B$16:$B$335,1,FALSE)),"",VLOOKUP($N30,$B$16:$M$335,5,FALSE)) | P30: =SUMIF($C$16:$C$335,O30&"_"&IF(Q30=0,"",Q30)&"_"&IF(R30=0,"",R30),$K$16:$K$335) -> 0 | Q30: =IF(ISERROR(VLOOKUP($N30,$B$16:$B$335,1,FALSE)),"",VLOOKUP($N30,$B$16:$M$335,11,FALSE)) | R30: =IF(ISERROR(VLOOKUP($N30,$B$16:$B$335,1,FALSE)),"",VLOOKUP($N30,$B$16:$M$335,12,FALSE)) | AE30: =IF(ISNA(VLOOKUP(G44,BB:BC,2,0)),"",VLOOKUP(G44,BB:BC,2,0)) | AF30: =I44 -> 0 | AG30: =IF(J44=0,"",J44) | AH30: =K44 -> 0 | AI30: =L44 -> 0 | AJ30: =M44 -> 0 | AK30: =IF(VLOOKUP(G44,$O$16:$AB$30,14,0)="x","Igen",IF(VLOOKUP(G44,$O$16:$AB$30,7,0)="x","igen","nem")) -> #N/A | AL30: =IF(VLOOKUP(G44,$O$16:$AB$30,14,0)="x","Igen",IF(VLOOKUP(G44,$O$16:$AB$30,8,0)="x","igen","nem")) -> #N/A | AM30: =IF(VLOOKUP(G44,$O$16:$AB$30,14,0)="x","Igen",IF(VLOOKUP(G44,$O$16:$AB$30,9,0)="x","igen","nem")) -> #N/A | AN30: =IF(VLOOKUP(G44,$O$16:$AB$30,14,0)="x","Igen",IF(VLOOKUP(G44,$O$16:$AB$30,10,0)="x","igen","nem")) -> #N/A | AO30: =IF(VLOOKUP(G44,$O$16:$AB$30,14,0)="x","Igen",IF(VLOOKUP(G44,$O$16:$AB$30,11,0)="x","igen","nem")) -> #N/A | AP30: =IF(VLOOKUP(G44,$O$16:$AB$30,14,0)="x","Igen",IF(VLOOKUP(G44,$O$16:$AB$30,12,0)="x","igen","nem")) -> #N/A | AQ30: =IF(VLOOKUP(G44,$O$16:$AB$30,14,0)="x","Igen",IF(VLOOKUP(G44,$O$16:$AB$30,13,0)="x","igen","nem")) -> #N/A | AR30: =IF(AE30="",0,1) -> 0 | BA30: VEG55 | BB30: Borsmustár (rukkola) | BC30: VEG55
B31: =IF(F31=0,0,IF(ISERROR(VLOOKUP(C31,C$15:C30,1,FALSE)),1,0))+B30 -> 0 | C31: =G31&"_"&L31&"_"&M31 -> __ | D31: 16 | F31: =IF(ISERROR(VLOOKUP(G31,seged!$B$2:$C$330,2,FALSE)),0,VLOOKUP(G31,seged!$B$2:$C$330,2,FALSE)) -> 0 | AE31: =IF(ISNA(VLOOKUP(G45,BB:BC,2,0)),"",VLOOKUP(G45,BB:BC,2,0)) | AF31: =I45 -> 0 | AG31: =IF(J45=0,"",J45) | AH31: =K45 -> 0 | AI31: =L45 -> 0 | AJ31: =M45 -> 0 | AK31: =IF(VLOOKUP(G45,$O$16:$AB$30,14,0)="x","Igen",IF(VLOOKUP(G45,$O$16:$AB$30,7,0)="x","igen","nem")) -> #N/A | AL31: =IF(VLOOKUP(G45,$O$16:$AB$30,14,0)="x","Igen",IF(VLOOKUP(G45,$O$16:$AB$30,8,0)="x","igen","nem")) -> #N/A | AM31: =IF(VLOOKUP(G45,$O$16:$AB$30,14,0)="x","Igen",IF(VLOOKUP(G45,$O$16:$AB$30,9,0)="x","igen","nem")) -> #N/A | AN31: =IF(VLOOKUP(G45,$O$16:$AB$30,14,0)="x","Igen",IF(VLOOKUP(G45,$O$16:$AB$30,10,0)="x","igen","nem")) -> #N/A | AO31: =IF(VLOOKUP(G45,$O$16:$AB$30,14,0)="x","Igen",IF(VLOOKUP(G45,$O$16:$AB$30,11,0)="x","igen","nem")) -> #N/A | AP31: =IF(VLOOKUP(G45,$O$16:$AB$30,14,0)="x","Igen",IF(VLOOKUP(G45,$O$16:$AB$30,12,0)="x","igen","nem")) -> #N/A | AQ31: =IF(VLOOKUP(G45,$O$16:$AB$30,14,0)="x","Igen",IF(VLOOKUP(G45,$O$16:$AB$30,13,0)="x","igen","nem")) -> #N/A | AR31: =IF(AE31="",0,1) -> 0 | BA31: FOR52 | BB31: Borsós kukoricacsalamádé | BC31: FOR52
B32: =IF(F32=0,0,IF(ISERROR(VLOOKUP(C32,C$15:C31,1,FALSE)),1,0))+B31 -> 0 | C32: =G32&"_"&L32&"_"&M32 -> __ | D32: 17 | F32: =IF(ISERROR(VLOOKUP(G32,seged!$B$2:$C$330,2,FALSE)),0,VLOOKUP(G32,seged!$B$2:$C$330,2,FALSE)) -> 0 | AE32: =IF(ISNA(VLOOKUP(G46,BB:BC,2,0)),"",VLOOKUP(G46,BB:BC,2,0)) | AF32: =I46 -> 0 | AG32: =IF(J46=0,"",J46) | AH32: =K46 -> 0 | AI32: =L46 -> 0 | AJ32: =M46 -> 0 | AK32: =IF(VLOOKUP(G46,$O$16:$AB$30,14,0)="x","Igen",IF(VLOOKUP(G46,$O$16:$AB$30,7,0)="x","igen","nem")) -> #N/A | AL32: =IF(VLOOKUP(G46,$O$16:$AB$30,14,0)="x","Igen",IF(VLOOKUP(G46,$O$16:$AB$30,8,0)="x","igen","nem")) -> #N/A | AM32: =IF(VLOOKUP(G46,$O$16:$AB$30,14,0)="x","Igen",IF(VLOOKUP(G46,$O$16:$AB$30,9,0)="x","igen","nem")) -> #N/A | AN32: =IF(VLOOKUP(G46,$O$16:$AB$30,14,0)="x","Igen",IF(VLOOKUP(G46,$O$16:$AB$30,10,0)="x","igen","nem")) -> #N/A | AO32: =IF(VLOOKUP(G46,$O$16:$AB$30,14,0)="x","Igen",IF(VLOOKUP(G46,$O$16:$AB$30,11,0)="x","igen","nem")) -> #N/A | AP32: =IF(VLOOKUP(G46,$O$16:$AB$30,14,0)="x","Igen",IF(VLOOKUP(G46,$O$16:$AB$30,12,0)="x","igen","nem")) -> #N/A | AQ32: =IF(VLOOKUP(G46,$O$16:$AB$30,14,0)="x","Igen",IF(VLOOKUP(G46,$O$16:$AB$30,13,0)="x","igen","nem")) -> #N/A | AR32: =IF(AE32="",0,1) -> 0 | BA32: FOR53 | BB32: Borsós napraforgó-csalamádé | BC32: FOR53
B33: =IF(F33=0,0,IF(ISERROR(VLOOKUP(C33,C$15:C32,1,FALSE)),1,0))+B32 -> 0 | C33: =G33&"_"&L33&"_"&M33 -> __ | D33: 18 | F33: =IF(ISERROR(VLOOKUP(G33,seged!$B$2:$C$330,2,FALSE)),0,VLOOKUP(G33,seged!$B$2:$C$330,2,FALSE)) -> 0 | AE33: =IF(ISNA(VLOOKUP(G47,BB:BC,2,0)),"",VLOOKUP(G47,BB:BC,2,0)) | AF33: =I47 -> 0 | AG33: =IF(J47=0,"",J47) | AH33: =K47 -> 0 | AI33: =L47 -> 0 | AJ33: =M47 -> 0 | AK33: =IF(VLOOKUP(G47,$O$16:$AB$30,14,0)="x","Igen",IF(VLOOKUP(G47,$O$16:$AB$30,7,0)="x","igen","nem")) -> #N/A | AL33: =IF(VLOOKUP(G47,$O$16:$AB$30,14,0)="x","Igen",IF(VLOOKUP(G47,$O$16:$AB$30,8,0)="x","igen","nem")) -> #N/A | AM33: =IF(VLOOKUP(G47,$O$16:$AB$30,14,0)="x","Igen",IF(VLOOKUP(G47,$O$16:$AB$30,9,0)="x","igen","nem")) -> #N/A | AN33: =IF(VLOOKUP(G47,$O$16:$AB$30,14,0)="x","Igen",IF(VLOOKUP(G47,$O$16:$AB$30,10,0)="x","igen","nem")) -> #N/A | AO33: =IF(VLOOKUP(G47,$O$16:$AB$30,14,0)="x","Igen",IF(VLOOKUP(G47,$O$16:$AB$30,11,0)="x","igen","nem")) -> #N/A | AP33: =IF(VLOOKUP(G47,$O$16:$AB$30,14,0)="x","Igen",IF(VLOOKUP(G47,$O$16:$AB$30,12,0)="x","igen","nem")) -> #N/A | AQ33: =IF(VLOOKUP(G47,$O$16:$AB$30,14,0)="x","Igen",IF(VLOOKUP(G47,$O$16:$AB$30,13,0)="x","igen","nem")) -> #N/A | AR33: =IF(AE33="",0,1) -> 0 | BA33: VEG02 | BB33: Brokkoli | BC33: VEG02
B34: =IF(F34=0,0,IF(ISERROR(VLOOKUP(C34,C$15:C33,1,FALSE)),1,0))+B33 -> 0 | C34: =G34&"_"&L34&"_"&M34 -> __ | D34: 19 | F34: =IF(ISERROR(VLOOKUP(G34,seged!$B$2:$C$330,2,FALSE)),0,VLOOKUP(G34,seged!$B$2:$C$330,2,FALSE)) -> 0 | AE34: =IF(ISNA(VLOOKUP(G48,BB:BC,2,0)),"",VLOOKUP(G48,BB:BC,2,0)) | AF34: =I48 -> 0 | AG34: =IF(J48=0,"",J48) | AH34: =K48 -> 0 | AI34: =L48 -> 0 | AJ34: =M48 -> 0 | AK34: =IF(VLOOKUP(G48,$O$16:$AB$30,14,0)="x","Igen",IF(VLOOKUP(G48,$O$16:$AB$30,7,0)="x","igen","nem")) -> #N/A | AL34: =IF(VLOOKUP(G48,$O$16:$AB$30,14,0)="x","Igen",IF(VLOOKUP(G48,$O$16:$AB$30,8,0)="x","igen","nem")) -> #N/A | AM34: =IF(VLOOKUP(G48,$O$16:$AB$30,14,0)="x","Igen",IF(VLOOKUP(G48,$O$16:$AB$30,9,0)="x","igen","nem")) -> #N/A | AN34: =IF(VLOOKUP(G48,$O$16:$AB$30,14,0)="x","Igen",IF(VLOOKUP(G48,$O$16:$AB$30,10,0)="x","igen","nem")) -> #N/A | AO34: =IF(VLOOKUP(G48,$O$16:$AB$30,14,0)="x","Igen",IF(VLOOKUP(G48,$O$16:$AB$30,11,0)="x","igen","nem")) -> #N/A | AP34: =IF(VLOOKUP(G48,$O$16:$AB$30,14,0)="x","Igen",IF(VLOOKUP(G48,$O$16:$AB$30,12,0)="x","igen","nem")) -> #N/A | AQ34: =IF(VLOOKUP(G48,$O$16:$AB$30,14,0)="x","Igen",IF(VLOOKUP(G48,$O$16:$AB$30,13,0)="x","igen","nem")) -> #N/A | AR34: =IF(AE34="",0,1) -> 0 | BA34: BUR01 | BB34: Burgonya | BC34: BUR01
B35: =IF(F35=0,0,IF(ISERROR(VLOOKUP(C35,C$15:C34,1,FALSE)),1,0))+B34 -> 0 | C35: =G35&"_"&L35&"_"&M35 -> __ | D35: 20 | F35: =IF(ISERROR(VLOOKUP(G35,seged!$B$2:$C$330,2,FALSE)),0,VLOOKUP(G35,seged!$B$2:$C$330,2,FALSE)) -> 0 | AE35: =IF(ISNA(VLOOKUP(G49,BB:BC,2,0)),"",VLOOKUP(G49,BB:BC,2,0)) | AF35: =I49 -> 0 | AG35: =IF(J49=0,"",J49) | AH35: =K49 -> 0 | AI35: =L49 -> 0 | AJ35: =M49 -> 0 | AK35: =IF(VLOOKUP(G49,$O$16:$AB$30,14,0)="x","Igen",IF(VLOOKUP(G49,$O$16:$AB$30,7,0)="x","igen","nem")) -> #N/A | AL35: =IF(VLOOKUP(G49,$O$16:$AB$30,14,0)="x","Igen",IF(VLOOKUP(G49,$O$16:$AB$30,8,0)="x","igen","nem")) -> #N/A | AM35: =IF(VLOOKUP(G49,$O$16:$AB$30,14,0)="x","Igen",IF(VLOOKUP(G49,$O$16:$AB$30,9,0)="x","igen","nem")) -> #N/A | AN35: =IF(VLOOKUP(G49,$O$16:$AB$30,14,0)="x","Igen",IF(VLOOKUP(G49,$O$16:$AB$30,10,0)="x","igen","nem")) -> #N/A | AO35: =IF(VLOOKUP(G49,$O$16:$AB$30,14,0)="x","Igen",IF(VLOOKUP(G49,$O$16:$AB$30,11,0)="x","igen","nem")) -> #N/A | AP35: =IF(VLOOKUP(G49,$O$16:$AB$30,14,0)="x","Igen",IF(VLOOKUP(G49,$O$16:$AB$30,12,0)="x","igen","nem")) -> #N/A | AQ35: =IF(VLOOKUP(G49,$O$16:$AB$30,14,0)="x","Igen",IF(VLOOKUP(G49,$O$16:$AB$30,13,0)="x","igen","nem")) -> #N/A | AR35: =IF(AE35="",0,1) -> 0 | BA35: VEG46 | BB35: Cékla | BC35: VEG46
B36: =IF(F36=0,0,IF(ISERROR(VLOOKUP(C36,C$15:C35,1,FALSE)),1,0))+B35 -> 0 | C36: =G36&"_"&L36&"_"&M36 -> __ | D36: 21 | F36: =IF(ISERROR(VLOOKUP(G36,seged!$B$2:$C$330,2,FALSE)),0,VLOOKUP(G36,seged!$B$2:$C$330,2,FALSE)) -> 0 | AE36: =IF(ISNA(VLOOKUP(G50,BB:BC,2,0)),"",VLOOKUP(G50,BB:BC,2,0)) | AF36: =I50 -> 0 | AG36: =IF(J50=0,"",J50) | AH36: =K50 -> 0 | AI36: =L50 -> 0 | AJ36: =M50 -> 0 | AK36: =IF(VLOOKUP(G50,$O$16:$AB$30,14,0)="x","Igen",IF(VLOOKUP(G50,$O$16:$AB$30,7,0)="x","igen","nem")) -> #N/A | AL36: =IF(VLOOKUP(G50,$O$16:$AB$30,14,0)="x","Igen",IF(VLOOKUP(G50,$O$16:$AB$30,8,0)="x","igen","nem")) -> #N/A | AM36: =IF(VLOOKUP(G50,$O$16:$AB$30,14,0)="x","Igen",IF(VLOOKUP(G50,$O$16:$AB$30,9,0)="x","igen","nem")) -> #N/A | AN36: =IF(VLOOKUP(G50,$O$16:$AB$30,14,0)="x","Igen",IF(VLOOKUP(G50,$O$16:$AB$30,10,0)="x","igen","nem")) -> #N/A | AO36: =IF(VLOOKUP(G50,$O$16:$AB$30,14,0)="x","Igen",IF(VLOOKUP(G50,$O$16:$AB$30,11,0)="x","igen","nem")) -> #N/A | AP36: =IF(VLOOKUP(G50,$O$16:$AB$30,14,0)="x","Igen",IF(VLOOKUP(G50,$O$16:$AB$30,12,0)="x","igen","nem")) -> #N/A | AQ36: =IF(VLOOKUP(G50,$O$16:$AB$30,14,0)="x","Igen",IF(VLOOKUP(G50,$O$16:$AB$30,13,0)="x","igen","nem")) -> #N/A | AR36: =IF(AE36="",0,1) -> 0 | BA36: PAZ04 | BB36: Cérnatippan | BC36: PAZ04
B37: =IF(F37=0,0,IF(ISERROR(VLOOKUP(C37,C$15:C36,1,FALSE)),1,0))+B36 -> 0 | C37: =G37&"_"&L37&"_"&M37 -> __ | D37: 22 | F37: =IF(ISERROR(VLOOKUP(G37,seged!$B$2:$C$330,2,FALSE)),0,VLOOKUP(G37,seged!$B$2:$C$330,2,FALSE)) -> 0 | AE37: =IF(ISNA(VLOOKUP(G51,BB:BC,2,0)),"",VLOOKUP(G51,BB:BC,2,0)) | AF37: =I51 -> 0 | AG37: =IF(J51=0,"",J51) | AH37: =K51 -> 0 | AI37: =L51 -> 0 | AJ37: =M51 -> 0 | AK37: =IF(VLOOKUP(G51,$O$16:$AB$30,14,0)="x","Igen",IF(VLOOKUP(G51,$O$16:$AB$30,7,0)="x","igen","nem")) -> #N/A | AL37: =IF(VLOOKUP(G51,$O$16:$AB$30,14,0)="x","Igen",IF(VLOOKUP(G51,$O$16:$AB$30,8,0)="x","igen","nem")) -> #N/A | AM37: =IF(VLOOKUP(G51,$O$16:$AB$30,14,0)="x","Igen",IF(VLOOKUP(G51,$O$16:$AB$30,9,0)="x","igen","nem")) -> #N/A | AN37: =IF(VLOOKUP(G51,$O$16:$AB$30,14,0)="x","Igen",IF(VLOOKUP(G51,$O$16:$AB$30,10,0)="x","igen","nem")) -> #N/A | AO37: =IF(VLOOKUP(G51,$O$16:$AB$30,14,0)="x","Igen",IF(VLOOKUP(G51,$O$16:$AB$30,11,0)="x","igen","nem")) -> #N/A | AP37: =IF(VLOOKUP(G51,$O$16:$AB$30,14,0)="x","Igen",IF(VLOOKUP(G51,$O$16:$AB$30,12,0)="x","igen","nem")) -> #N/A | AQ37: =IF(VLOOKUP(G51,$O$16:$AB$30,14,0)="x","Igen",IF(VLOOKUP(G51,$O$16:$AB$30,13,0)="x","igen","nem")) -> #N/A | AR37: =IF(AE37="",0,1) -> 0 | BA37: AGF40 | BB37: Cickafark | BC37: AGF40
B38: =IF(F38=0,0,IF(ISERROR(VLOOKUP(C38,C$15:C37,1,FALSE)),1,0))+B37 -> 0 | C38: =G38&"_"&L38&"_"&M38 -> __ | D38: 23 | F38: =IF(ISERROR(VLOOKUP(G38,seged!$B$2:$C$330,2,FALSE)),0,VLOOKUP(G38,seged!$B$2:$C$330,2,FALSE)) -> 0 | AE38: =IF(ISNA(VLOOKUP(G52,BB:BC,2,0)),"",VLOOKUP(G52,BB:BC,2,0)) | AF38: =I52 -> 0 | AG38: =IF(J52=0,"",J52) | AH38: =K52 -> 0 | AI38: =L52 -> 0 | AJ38: =M52 -> 0 | AK38: =IF(VLOOKUP(G52,$O$16:$AB$30,14,0)="x","Igen",IF(VLOOKUP(G52,$O$16:$AB$30,7,0)="x","igen","nem")) -> #N/A | AL38: =IF(VLOOKUP(G52,$O$16:$AB$30,14,0)="x","Igen",IF(VLOOKUP(G52,$O$16:$AB$30,8,0)="x","igen","nem")) -> #N/A | AM38: =IF(VLOOKUP(G52,$O$16:$AB$30,14,0)="x","Igen",IF(VLOOKUP(G52,$O$16:$AB$30,9,0)="x","igen","nem")) -> #N/A | AN38: =IF(VLOOKUP(G52,$O$16:$AB$30,14,0)="x","Igen",IF(VLOOKUP(G52,$O$16:$AB$30,10,0)="x","igen","nem")) -> #N/A | AO38: =IF(VLOOKUP(G52,$O$16:$AB$30,14,0)="x","Igen",IF(VLOOKUP(G52,$O$16:$AB$30,11,0)="x","igen","nem")) -> #N/A | AP38: =IF(VLOOKUP(G52,$O$16:$AB$30,14,0)="x","Igen",IF(VLOOKUP(G52,$O$16:$AB$30,12,0)="x","igen","nem")) -> #N/A | AQ38: =IF(VLOOKUP(G52,$O$16:$AB$30,14,0)="x","Igen",IF(VLOOKUP(G52,$O$16:$AB$30,13,0)="x","igen","nem")) -> #N/A | AR38: =IF(AE38="",0,1) -> 0 | BA38: IND22 | BB38: Cikória | BC38: IND22
B39: =IF(F39=0,0,IF(ISERROR(VLOOKUP(C39,C$15:C38,1,FALSE)),1,0))+B38 -> 0 | C39: =G39&"_"&L39&"_"&M39 -> __ | D39: 24 | F39: =IF(ISERROR(VLOOKUP(G39,seged!$B$2:$C$330,2,FALSE)),0,VLOOKUP(G39,seged!$B$2:$C$330,2,FALSE)) -> 0 | AE39: =IF(ISNA(VLOOKUP(G53,BB:BC,2,0)),"",VLOOKUP(G53,BB:BC,2,0)) | AF39: =I53 -> 0 | AG39: =IF(J53=0,"",J53) | AH39: =K53 -> 0 | AI39: =L53 -> 0 | AJ39: =M53 -> 0 | AK39: =IF(VLOOKUP(G53,$O$16:$AB$30,14,0)="x","Igen",IF(VLOOKUP(G53,$O$16:$AB$30,7,0)="x","igen","nem")) -> #N/A | AL39: =IF(VLOOKUP(G53,$O$16:$AB$30,14,0)="x","Igen",IF(VLOOKUP(G53,$O$16:$AB$30,8,0)="x","igen","nem")) -> #N/A | AM39: =IF(VLOOKUP(G53,$O$16:$AB$30,14,0)="x","Igen",IF(VLOOKUP(G53,$O$16:$AB$30,9,0)="x","igen","nem")) -> #N/A | AN39: =IF(VLOOKUP(G53,$O$16:$AB$30,14,0)="x","Igen",IF(VLOOKUP(G53,$O$16:$AB$30,10,0)="x","igen","nem")) -> #N/A | AO39: =IF(VLOOKUP(G53,$O$16:$AB$30,14,0)="x","Igen",IF(VLOOKUP(G53,$O$16:$AB$30,11,0)="x","igen","nem")) -> #N/A | AP39: =IF(VLOOKUP(G53,$O$16:$AB$30,14,0)="x","Igen",IF(VLOOKUP(G53,$O$16:$AB$30,12,0)="x","igen","nem")) -> #N/A | AQ39: =IF(VLOOKUP(G53,$O$16:$AB$30,14,0)="x","Igen",IF(VLOOKUP(G53,$O$16:$AB$30,13,0)="x","igen","nem")) -> #N/A | AR39: =IF(AE39="",0,1) -> 0 | BA39: AGF20 | BB39: Citromfű | BC39: AGF20
B40: =IF(F40=0,0,IF(ISERROR(VLOOKUP(C40,C$15:C39,1,FALSE)),1,0))+B39 -> 0 | C40: =G40&"_"&L40&"_"&M40 -> __ | D40: 25 | F40: =IF(ISERROR(VLOOKUP(G40,seged!$B$2:$C$330,2,FALSE)),0,VLOOKUP(G40,seged!$B$2:$C$330,2,FALSE)) -> 0 | AE40: =IF(ISNA(VLOOKUP(G54,BB:BC,2,0)),"",VLOOKUP(G54,BB:BC,2,0)) | AF40: =I54 -> 0 | AG40: =IF(J54=0,"",J54) | AH40: =K54 -> 0 | AI40: =L54 -> 0 | AJ40: =M54 -> 0 | AK40: =IF(VLOOKUP(G54,$O$16:$AB$30,14,0)="x","Igen",IF(VLOOKUP(G54,$O$16:$AB$30,7,0)="x","igen","nem")) -> #N/A | AL40: =IF(VLOOKUP(G54,$O$16:$AB$30,14,0)="x","Igen",IF(VLOOKUP(G54,$O$16:$AB$30,8,0)="x","igen","nem")) -> #N/A | AM40: =IF(VLOOKUP(G54,$O$16:$AB$30,14,0)="x","Igen",IF(VLOOKUP(G54,$O$16:$AB$30,9,0)="x","igen","nem")) -> #N/A | AN40: =IF(VLOOKUP(G54,$O$16:$AB$30,14,0)="x","Igen",IF(VLOOKUP(G54,$O$16:$AB$30,10,0)="x","igen","nem")) -> #N/A | AO40: =IF(VLOOKUP(G54,$O$16:$AB$30,14,0)="x","Igen",IF(VLOOKUP(G54,$O$16:$AB$30,11,0)="x","igen","nem")) -> #N/A | AP40: =IF(VLOOKUP(G54,$O$16:$AB$30,14,0)="x","Igen",IF(VLOOKUP(G54,$O$16:$AB$30,12,0)="x","igen","nem")) -> #N/A | AQ40: =IF(VLOOKUP(G54,$O$16:$AB$30,14,0)="x","Igen",IF(VLOOKUP(G54,$O$16:$AB$30,13,0)="x","igen","nem")) -> #N/A | AR40: =IF(AE40="",0,1) -> 0 | BA40: VEG14 | BB40: Csemegehagyma | BC40: VEG14
...

Sheet EK
A1: W0221 Egységes kérelem Iratazonosító: 3369367775 Kérelmezo ügyfél-azonosítója: 1003148743 Nyomtatás idopontja: 2022.05.03. 11:41:54 Oldal: 1 | H1: REGSZ: | L1: Növény név | N1: KULTÚRA | O1: BLOKKAZONOSÍTÓ | P1: Tábla | Q1: TERÜLET (HA) | S1: ÖSSZESÍTŐ EK | V1: =SUM(V4:V43) -> #VALUE! | X1: RÉSZLETEZŐ EK | AD1: =SUM(Q2:Q321) -> #VALUE! | AJ1: =COUNT(P:P)+1 -> 4
A2: Integrált Igazgatási és Ellenorzési Rendszer | B2: =IF(AND(LEFT(A2,6)="Blokk:",RIGHT(A2,10)<>"módosított",LEFT(A3,11)="Táblaadatok",H2>0),B1+1,B1) -> 0 | C2: =IF(B2=B1+1,MID(A2,8,8),"") | D2: =IF(B2=B1+1,IF(ISERROR(FIND("Állapot",A2)),RIGHT(A2,LEN(A2)-23)*1,MID(A2,24,FIND("Állapot",A2)-24)*1),"") | E2: =IF(B2=B1+1,VLOOKUP(MID(A3,40,5),AE:AF,2,0),"") | F2: =IF(B2=B1+1,RIGHT(A3,LEN(A3)-45),"") | G2: =IF(B2=B1+1,MID(A4,29,FIND("Kockázatkezelés",A4)-30)*1,"") | H2: =IF(ISERROR(RIGHT(INDIRECT("A"&MATCH("2 Ügyfél-azonosítási információ",A:A,0)+1),10)),"",RIGHT(INDIRECT("A"&MATCH("2 Ügyfél-azonosítási információ",A:A,0)+1),10)) | I2: =IF(N2=0,0,IF(COUNTIF($J$1:J1,J2)>0,I1,I1+1)) -> 1 | J2: =N2 -> KAL01 | K2: 1 | L2: =IF(ISERROR(VLOOKUP(N2,seged!$A$2:$B$458,2,FALSE)),IF(ISERROR(VLOOKUP($K2,$B:$G,Y$2,FALSE)),"",VLOOKUP($K2,$B:$G,Y$2,FALSE)),VLOOKUP(N2,seged!$A$2:$B$458,2,FALSE)) -> Őszi búza | N2: =IF(ISERROR(VLOOKUP($K2,$B:$G,AA$2,FALSE)),"",VLOOKUP($K2,$B:$G,AA$2,FALSE)) -> KAL01 | O2: =IF(ISERROR(VLOOKUP($K2,$B:$G,AB$2,FALSE)),"",VLOOKUP($K2,$B:$G,AB$2,FALSE)) -> H53TD320 | P2: =IF(ISERROR(VLOOKUP($K2,$B:$G,AC$2,FALSE)),"",VLOOKUP($K2,$B:$G,AC$2,FALSE)) -> 1 | Q2: =IF(L2=0,"",(ROUND(IF(ISERROR(VLOOKUP($K2,$B:$G,AD$2,FALSE)),"terület?",VLOOKUP($K2,$B:$G,AD$2,FALSE)),2))) -> #VALUE! | S2: LEELLENŐRIZNI EK-BÓL!!! | Y2: 5 | AA2: 4 | AB2: 2 | AC2: 3 | AD2: 6
A3: W0221 Egységes kérelem | B3: =IF(AND(LEFT(A3,6)="Blokk:",RIGHT(A3,10)<>"módosított",LEFT(A4,11)="Táblaadatok",H3>0),B2+1,B2) -> 0 | C3: =IF(B3=B2+1,MID(A3,8,8),"") | D3: =IF(B3=B2+1,IF(ISERROR(FIND("Állapot",A3)),RIGHT(A3,LEN(A3)-23)*1,MID(A3,24,FIND("Állapot",A3)-24)*1),"") | E3: =IF(B3=B2+1,VLOOKUP(MID(A4,40,5),AE:AF,2,0),"") | F3: =IF(B3=B2+1,RIGHT(A4,LEN(A4)-45),"") | G3: =IF(B3=B2+1,MID(A5,29,FIND("Kockázatkezelés",A5)-30)*1,"") | I3: =IF(N3=0,0,IF(COUNTIF($J$1:J2,J3)>0,I2,I2+1)) -> 2 | J3: =N3 -> KAL21 | K3: 2 | L3: =IF(ISERROR(VLOOKUP(N3,seged!$A$2:$B$458,2,FALSE)),IF(ISERROR(VLOOKUP($K3,$B:$G,Y$2,FALSE)),0,VLOOKUP($K3,$B:$G,Y$2,FALSE)),VLOOKUP(N3,seged!$A$2:$B$458,2,FALSE)) -> Kukorica | N3: =IF(ISERROR(VLOOKUP($K3,$B:$G,AA$2,FALSE)),"",VLOOKUP($K3,$B:$G,AA$2,FALSE)) -> KAL21 | O3: =IF(ISERROR(VLOOKUP($K3,$B:$G,AB$2,FALSE)),"",VLOOKUP($K3,$B:$G,AB$2,FALSE)) -> H53TD320 | P3: =IF(ISERROR(VLOOKUP($K3,$B:$G,AC$2,FALSE)),"",VLOOKUP($K3,$B:$G,AC$2,FALSE)) -> 2 | Q3: =IF(L3=0,"",(ROUND(IF(ISERROR(VLOOKUP($K3,$B:$G,AD$2,FALSE)),"terület?",VLOOKUP($K3,$B:$G,AD$2,FALSE)),2))) -> #VALUE! | T3: Növény név | U3: Haszn.kód | V3: Hektár | AE3: Haszn.kód | AF3: IBISS_Code
A4: 3369367775 | B4: =IF(AND(LEFT(A4,6)="Blokk:",RIGHT(A4,10)<>"módosított",LEFT(A5,11)="Táblaadatok",H4>0),B3+1,B3) -> 0 | C4: =IF(B4=B3+1,MID(A4,8,8),"") | D4: =IF(B4=B3+1,IF(ISERROR(FIND("Állapot",A4)),RIGHT(A4,LEN(A4)-23)*1,MID(A4,24,FIND("Állapot",A4)-24)*1),"") | E4: =IF(B4=B3+1,VLOOKUP(MID(A5,40,5),AE:AF,2,0),"") | F4: =IF(B4=B3+1,RIGHT(A5,LEN(A5)-45),"") | G4: =IF(B4=B3+1,MID(A6,29,FIND("Kockázatkezelés",A6)-30)*1,"") | H4: =IF(ISNA(VLOOKUP(MID(A5,40,5),AE:AF,2,0)),0,1) -> 0 | I4: =IF(N4=0,0,IF(COUNTIF($J$1:J3,J4)>0,I3,I3+1)) -> 3 | J4: =N4 -> KAL17 | K4: 3 | L4: =IF(ISERROR(VLOOKUP(N4,seged!$A$2:$B$458,2,FALSE)),IF(ISERROR(VLOOKUP($K4,$B:$G,Y$2,FALSE)),0,VLOOKUP($K4,$B:$G,Y$2,FALSE)),VLOOKUP(N4,seged!$A$2:$B$458,2,FALSE)) -> Őszi árpa | N4: =IF(ISERROR(VLOOKUP($K4,$B:$G,AA$2,FALSE)),"",VLOOKUP($K4,$B:$G,AA$2,FALSE)) -> KAL17 | O4: =IF(ISERROR(VLOOKUP($K4,$B:$G,AB$2,FALSE)),"",VLOOKUP($K4,$B:$G,AB$2,FALSE)) -> H53TD320 | P4: =IF(ISERROR(VLOOKUP($K4,$B:$G,AC$2,FALSE)),"",VLOOKUP($K4,$B:$G,AC$2,FALSE)) -> 3 | Q4: =IF(L4=0,"",(ROUND(IF(ISERROR(VLOOKUP($K4,$B:$G,AD$2,FALSE)),"terület?",VLOOKUP($K4,$B:$G,AD$2,FALSE)),2))) -> #VALUE! | S4: 1 | T4: =IF(ISERROR(VLOOKUP($S4,$I$2:$Q$323,1,FALSE)),"",VLOOKUP($S4,$I$2:$Q$323,4,FALSE)) -> Őszi búza | U4: =IF(ISERROR(VLOOKUP($S4,$I$2:$Q$323,1,FALSE)),"",VLOOKUP($S4,$I$2:$Q$323,6,FALSE)) -> KAL01 | V4: =SUMIF($J$2:$J$323,U4,$Q$2:$Q$321) -> #VALUE! | AE4: KAL01 | AF4: KAL01
